BEGIN:VCALENDAR
VERSION:2.0
PRODID:-//Let&#039;s Learn - ECPv6.15.14//NONSGML v1.0//EN
CALSCALE:GREGORIAN
METHOD:PUBLISH
X-ORIGINAL-URL:https://letslearn.nz
X-WR-CALDESC:Events for Let&#039;s Learn
REFRESH-INTERVAL;VALUE=DURATION:PT1H
X-Robots-Tag:noindex
X-PUBLISHED-TTL:PT1H
BEGIN:VTIMEZONE
TZID:Pacific/Auckland
BEGIN:STANDARD
TZOFFSETFROM:+1300
TZOFFSETTO:+1200
TZNAME:NZST
DTSTART:20240406T140000
END:STANDARD
BEGIN:DAYLIGHT
TZOFFSETFROM:+1200
TZOFFSETTO:+1300
TZNAME:NZDT
DTSTART:20240928T140000
END:DAYLIGHT
BEGIN:STANDARD
TZOFFSETFROM:+1300
TZOFFSETTO:+1200
TZNAME:NZST
DTSTART:20250405T140000
END:STANDARD
BEGIN:DAYLIGHT
TZOFFSETFROM:+1200
TZOFFSETTO:+1300
TZNAME:NZDT
DTSTART:20250927T140000
END:DAYLIGHT
BEGIN:STANDARD
TZOFFSETFROM:+1300
TZOFFSETTO:+1200
TZNAME:NZST
DTSTART:20260404T140000
END:STANDARD
BEGIN:DAYLIGHT
TZOFFSETFROM:+1200
TZOFFSETTO:+1300
TZNAME:NZDT
DTSTART:20260926T140000
END:DAYLIGHT
END:VTIMEZONE
BEGIN:VEVENT
DTSTART;TZID=Pacific/Auckland:20250504T090000
DTEND;TZID=Pacific/Auckland:20250504T170000
DTSTAMP:20260426T025539
CREATED:20190827T212706Z
LAST-MODIFIED:20250718T210153Z
UID:10016937-1746349200-1746378000@letslearn.nz
SUMMARY:Bread Making - All types
DESCRIPTION:Begin your bread-making adventure today ! \nChiabatta & brioche\,  French bread\, sourdough\, wholemeal milk and honey bread….. \nJoin a group or choose your date and create your own group.\nAll class fees are donated to Parkinson research. \nCost:  $65\, morning tea and lunch provided.\nClass fees received go to Parkinson Research. \nContact: Barbara Fitzgibbon\nPhone:  021 024 819 50\nEmail: bbfitz2@icloud.com
URL:https://letslearn.nz/event/bread-making-all-types/2025-05-04/
LOCATION:Oropi
CATEGORIES:Breadmaking
ATTACH;FMTTYPE=image/jpeg:https://letslearn.nz/wp-content/uploads/2019/08/Breads.jpg
ORGANIZER;CN="Barbara Fitzgibbon":MAILTO:bbfitz2@icloud.com
END:VEVENT
BEGIN:VEVENT
DTSTART;TZID=Pacific/Auckland:20250504T094500
DTEND;TZID=Pacific/Auckland:20250504T104500
DTSTAMP:20260426T025539
CREATED:20240208T201739Z
LAST-MODIFIED:20240208T201739Z
UID:10013939-1746351900-1746355500@letslearn.nz
SUMMARY:Falun Dafa
DESCRIPTION:Purify the Body and Calm the Mind\n\n\n\n\nFalun Dafa\, also known as Falun Gong\, is a traditional self-cultivation practice based on the universal principles of Truthfulness\, Compassion and Tolerance. Easy to learn\, the practice includes four gentle standing exercises to purify the body and a seated meditation to calm the mind. \nAround the world\, millions of people from all walks of life and all ages have taken up the practice and report dramatic health improvements\, clarity of thought\, more energy and a deeper spiritual awareness. \nTrue health comes from cultivating both mind and body. \nFree to learn. \nPlease join our Free\, Easy to Learn Exercise Sessions in the Parks as follows:\nExercises 1 to 4 only. Duration – 1x hour.  Look for the Blue and White Banner. \n1st and 2nd Sundays – Memorial Park by the fountain\, enter from Devonport Rd \n3rd Sunday – Papamoa Domain near car park below Bluebiyou Restaurant \n4th Sunday – Marine Parade\, near cenotaph opposite Pacific Ave. \nWinter Hours – @ 10:15am\nSummer Hours – @ 9:45am \nChange at Daylight Saving time. \nPlease call / text Judy for any alternative arrangements. \nPlease phone or text  021 0425 398  for directions. \nEmail: judystauranga@protonmail.com
URL:https://letslearn.nz/event/falun-dafa-3-2/2025-05-04/
CATEGORIES:Falun Dafa
ATTACH;FMTTYPE=image/jpeg:https://letslearn.nz/wp-content/uploads/2019/08/Falun-Gong-2.jpg
ORGANIZER;CN="Judy Shakespear":MAILTO:judystauranga@protonmail.com
END:VEVENT
BEGIN:VEVENT
DTSTART;TZID=Pacific/Auckland:20250504T110000
DTEND;TZID=Pacific/Auckland:20250504T163000
DTSTAMP:20260426T025539
CREATED:20250501T232807Z
LAST-MODIFIED:20250503T221915Z
UID:10033111-1746356400-1746376200@letslearn.nz
SUMMARY:Tauranga Home Show
DESCRIPTION:Tauranga’s largest home and lifestyle event. Draw inspiration from 300+ exhibitors with everything you need to build your dream in the Bay of Plenty. Build\, renovate or retrofit with a huge range of builders and home renovation specialists\, furniture and beds\, kitchens and bathrooms\, curtains and blinds\, flooring and carpet and plenty more.\n\nEnjoy live entertainment including the Build The Bay Seminar Series\, Live Cooking Kitchen\, entertainment for children and a range of food trucks. Every visitor can go in the draw to win our huge show prize – a spa from Poolpac! \n\nSunday Schedule:\n11am Seminar\nKat from Kereru Gardens\nGarden like a boss with Kat! With a background in landscape architecture as well as performing arts plus hands-on work in the nursery\, Kat’s knowledge and advice will help you become a more capable and confident gardener.\n\n11.30AM Live Cooking\nChefs Andrew Targett & Ian Harrison\nAndrew and Ian have over half a decade of combined hospitality experience\, and are demonstrating a delicious dish: Bistecca (Italian for steak) with béarnaise\, parsley and truffle.\n\n12 Noon Seminar\nTracy from The Debt Free Diva\nTracy shares smart\, simple and jargon-free solutions to financial freedom on YOUR terms. If you’ve been feeling financial stress\, get relief by transforming your money mindset and put practical action plans in place with the right knowledge and advice.\n\n1pm Live Cooking\nChef James Broad\nJames is whisking it up with demonstrations showing you all about eggs – how to turn the humble egg into something impressive for your table!\n1pm Seminar\nJohn & Sohil from Lightforce Solar\nJoin John and Sohil for a sunny adventure into the world of solar power. Brighten your knowledge on how to harness the sun’s energy\, lowering your home’s environmental impact while securing savings on your power bills.\n\n2pm Seminar\nSharon from Refresh Renovations\nWith nearly four decades of hands-on experience in the renovation world\, Sharon shares valuable insights\, practical advice\, and tried-and-true tips on how to plan\, design\, and budget for a successful home renovation.\n\n2.30pm Live Cooking\nChef Ken Greenhill\nThe mastermind behind Kenny Johns Food Truck shares his chicken and porcini mushroom risotto with parmesan cheese.\nWhen:  2-4 May . 10am-5pm Friday and Saturday\, 10am-4pm Sunday.\nWhere: Mercury Arena Baypark\, 81 Truman Lane\, Mount Maunganui\nCost: Adults $12\, children 13 and under free – tickets at the door.\nVisit on Friday and get 2 for 1 tickets\, and SuperGold cardholders get $10 entry on Saturday and Sunday.\nFacebook : https://www.facebook.com/taurangahomeshow\n\nTauranga Home Show Website for details  for Saturday and Sunday
URL:https://letslearn.nz/event/tauranga-home-show/
LOCATION:Baypark\, 81 Truman lane\, Mount Maunganui
CATEGORIES:DIY,Food,Garden,Home Furnishings,Lifestyles,Your Home
ATTACH;FMTTYPE=image/jpeg:https://letslearn.nz/wp-content/uploads/2025/05/Home-Show-TGA.jpg
END:VEVENT
END:VCALENDAR