BEGIN:VCALENDAR
VERSION:2.0
PRODID:-//Let&#039;s Learn - ECPv6.15.14//NONSGML v1.0//EN
CALSCALE:GREGORIAN
METHOD:PUBLISH
X-WR-CALNAME:Let&#039;s Learn
X-ORIGINAL-URL:https://letslearn.nz
X-WR-CALDESC:Events for Let&#039;s Learn
REFRESH-INTERVAL;VALUE=DURATION:PT1H
X-Robots-Tag:noindex
X-PUBLISHED-TTL:PT1H
BEGIN:VTIMEZONE
TZID:Pacific/Auckland
BEGIN:STANDARD
TZOFFSETFROM:+1300
TZOFFSETTO:+1200
TZNAME:NZST
DTSTART:20240406T140000
END:STANDARD
BEGIN:DAYLIGHT
TZOFFSETFROM:+1200
TZOFFSETTO:+1300
TZNAME:NZDT
DTSTART:20240928T140000
END:DAYLIGHT
BEGIN:STANDARD
TZOFFSETFROM:+1300
TZOFFSETTO:+1200
TZNAME:NZST
DTSTART:20250405T140000
END:STANDARD
BEGIN:DAYLIGHT
TZOFFSETFROM:+1200
TZOFFSETTO:+1300
TZNAME:NZDT
DTSTART:20250927T140000
END:DAYLIGHT
BEGIN:STANDARD
TZOFFSETFROM:+1300
TZOFFSETTO:+1200
TZNAME:NZST
DTSTART:20260404T140000
END:STANDARD
BEGIN:DAYLIGHT
TZOFFSETFROM:+1200
TZOFFSETTO:+1300
TZNAME:NZDT
DTSTART:20260926T140000
END:DAYLIGHT
END:VTIMEZONE
BEGIN:VEVENT
DTSTART;VALUE=DATE:20251018
DTEND;VALUE=DATE:20251020
DTSTAMP:20260426T115122
CREATED:20250820T223835Z
LAST-MODIFIED:20250820T223835Z
UID:10035545-1760745600-1760918399@letslearn.nz
SUMMARY:Sea Spirit Appliqué Project with Shirley Sparks
DESCRIPTION:Sea Spirit with Shirley Sparks \nThis is an applique project with a small amount of stencilling if desired. A photo is included on the electronic form. \nWhen: Saturday 18 and 19 October 2025.  Set-up time: from 9.30 am  Finish: 3.30 pm (approx)\nWhere : 177 Elizabeth Street West\,  Tauranga\nCost : $85 members\, $95 n0n-members. There may be a kit to purchase on the day – approx $10 \nEnrolment Form: https://forms.gle/ZNsTf6exyTy3u71CA \nPlease bring your own lunch.  Tea\, coffee and morning/afternoon tea available. \nFull payment for this class will be required on or before Friday\, 26 September.  A refund  after this date may not be returned in full.  This will depend on any extenuating circumstances and will be at the Committee’s discretion.  If the class is cancelled by the Committee a full refund will be made.
URL:https://letslearn.nz/event/sea-spirit-applique-project-with-shirley-sparks/
LOCATION:Art & Craft Centre\, 177 Elizabeth St\, Tauranga
CATEGORIES:Patchwork
ATTACH;FMTTYPE=image/jpeg:https://letslearn.nz/wp-content/uploads/2025/08/Fabric-Patchwork-sea-spirit.jpg
ORGANIZER;CN="Tauranga Patchwork & Quilters Group":MAILTO:taurangaquilters@gmail.com
END:VEVENT
BEGIN:VEVENT
DTSTART;TZID=Pacific/Auckland:20251018T080000
DTEND;TZID=Pacific/Auckland:20251018T170000
DTSTAMP:20260426T115122
CREATED:20250129T082711Z
LAST-MODIFIED:20250129T085621Z
UID:10026594-1760774400-1760806800@letslearn.nz
SUMMARY:Beginners Upholstery Workshop
DESCRIPTION:Beginners workshops are back ! Do you want to learn some of the important fundamentals to upholstery ?\nFundamentals that will give you a professional finish ? \nLearn webbing\, corner pleats \, buttoning \, the correct way to attach fabric.\nAlso learn to strip piece down safely using correct tools.\nThe best part is using the pneumatic staple gun . \nCome and enjoy a relaxed\, fun\, small group. Based in Tauranga in Welcome Bay.When:  Day and evening workshops . Either 6 hours on one day or 2 evenings Send email of interest \, what piece you would like to cover and I’ll forward all the details.chairup.upholstery@gmail.comWhat: BYO simple piece . BUT ** No large armchairs or couches.\nCost:  $150\nWhere:  Located Welcome Bay \nSend email of interest \, what piece you would like to cover and I’ll forward all the details. \nContact Paula:\nPhone: 027 252 4414\nEmail: chairup.upholstery@gmail.com\nFacebook: https://www.facebook.com/bopupholsteryclass/
URL:https://letslearn.nz/event/beginners-upholstery-workshop/2025-10-18/
LOCATION:Welcome Bay
CATEGORIES:Upholstery
ATTACH;FMTTYPE=image/jpeg:https://letslearn.nz/wp-content/uploads/2025/01/Upholstery-2.jpg
ORGANIZER;CN="Chair Up Upholstery":MAILTO:chairup.upholstery@gmail.com
END:VEVENT
BEGIN:VEVENT
DTSTART;TZID=Pacific/Auckland:20251018T090000
DTEND;TZID=Pacific/Auckland:20251018T100000
DTSTAMP:20260426T115123
CREATED:20220203T102641Z
LAST-MODIFIED:20250301T002803Z
UID:10013179-1760778000-1760781600@letslearn.nz
SUMMARY:Taijiquan & Qigong
DESCRIPTION:Join the Taiji/Qigong group.  All welcome. \nDays: Saturdays and Wednesdays\nTime: 9am\nPlace:  Kulim Park on the beach by big rock.\nCost:  Free \nContact Petro for further details.\nPhone: 021 751 665
URL:https://letslearn.nz/event/taijiquan-qigong/2025-10-18/
LOCATION:Kulim Park\, 101 Kulim Avenue\, Otumoetai\, Tauranga
CATEGORIES:Free,Tai Chi
ATTACH;FMTTYPE=image/jpeg:https://letslearn.nz/wp-content/uploads/2022/02/Exercise-Qigong.jpg
END:VEVENT
BEGIN:VEVENT
DTSTART;TZID=Pacific/Auckland:20251018T150000
DTEND;TZID=Pacific/Auckland:20251018T160000
DTSTAMP:20260426T115123
CREATED:20251013T005056Z
LAST-MODIFIED:20251014T232145Z
UID:10035637-1760799600-1760803200@letslearn.nz
SUMMARY:Vege Pod & Container Gardening POSTPONED
DESCRIPTION:Wendy is unwell so this week’s workshops have been postponed.\nCheck in with Palmers re new dates. \nWendy from Palmers Welcome Bay will be giving a presentation on getting the most out of your vege pod.\nGardening in containers is also covered. \nTwo sessions are available:\n* Thursday 16th October  10am -11am\n*  Saturday 18th October  3pm – 4pm\nPhone  07 544 1306 to book in. \n 
URL:https://letslearn.nz/event/vege-pod-container-gardening/2025-10-18/
LOCATION:Palmers Garden World\, Welcome Bay\, Tauranga
CATEGORIES:Garden
ATTACH;FMTTYPE=image/jpeg:https://letslearn.nz/wp-content/uploads/2025/10/Garden-Vege-Pod.jpg
END:VEVENT
END:VCALENDAR