BEGIN:VCALENDAR
VERSION:2.0
PRODID:-//Let&#039;s Learn - ECPv6.15.14//NONSGML v1.0//EN
CALSCALE:GREGORIAN
METHOD:PUBLISH
X-WR-CALNAME:Let&#039;s Learn
X-ORIGINAL-URL:https://letslearn.nz
X-WR-CALDESC:Events for Let&#039;s Learn
REFRESH-INTERVAL;VALUE=DURATION:PT1H
X-Robots-Tag:noindex
X-PUBLISHED-TTL:PT1H
BEGIN:VTIMEZONE
TZID:Pacific/Auckland
BEGIN:STANDARD
TZOFFSETFROM:+1300
TZOFFSETTO:+1200
TZNAME:NZST
DTSTART:20240406T140000
END:STANDARD
BEGIN:DAYLIGHT
TZOFFSETFROM:+1200
TZOFFSETTO:+1300
TZNAME:NZDT
DTSTART:20240928T140000
END:DAYLIGHT
BEGIN:STANDARD
TZOFFSETFROM:+1300
TZOFFSETTO:+1200
TZNAME:NZST
DTSTART:20250405T140000
END:STANDARD
BEGIN:DAYLIGHT
TZOFFSETFROM:+1200
TZOFFSETTO:+1300
TZNAME:NZDT
DTSTART:20250927T140000
END:DAYLIGHT
BEGIN:STANDARD
TZOFFSETFROM:+1300
TZOFFSETTO:+1200
TZNAME:NZST
DTSTART:20260404T140000
END:STANDARD
BEGIN:DAYLIGHT
TZOFFSETFROM:+1200
TZOFFSETTO:+1300
TZNAME:NZDT
DTSTART:20260926T140000
END:DAYLIGHT
END:VTIMEZONE
BEGIN:VEVENT
DTSTART;VALUE=DATE:20251018
DTEND;VALUE=DATE:20251020
DTSTAMP:20260426T115138
CREATED:20250820T223835Z
LAST-MODIFIED:20250820T223835Z
UID:10035545-1760745600-1760918399@letslearn.nz
SUMMARY:Sea Spirit Appliqué Project with Shirley Sparks
DESCRIPTION:Sea Spirit with Shirley Sparks \nThis is an applique project with a small amount of stencilling if desired. A photo is included on the electronic form. \nWhen: Saturday 18 and 19 October 2025.  Set-up time: from 9.30 am  Finish: 3.30 pm (approx)\nWhere : 177 Elizabeth Street West\,  Tauranga\nCost : $85 members\, $95 n0n-members. There may be a kit to purchase on the day – approx $10 \nEnrolment Form: https://forms.gle/ZNsTf6exyTy3u71CA \nPlease bring your own lunch.  Tea\, coffee and morning/afternoon tea available. \nFull payment for this class will be required on or before Friday\, 26 September.  A refund  after this date may not be returned in full.  This will depend on any extenuating circumstances and will be at the Committee’s discretion.  If the class is cancelled by the Committee a full refund will be made.
URL:https://letslearn.nz/event/sea-spirit-applique-project-with-shirley-sparks/
LOCATION:Art & Craft Centre\, 177 Elizabeth St\, Tauranga
CATEGORIES:Patchwork
ATTACH;FMTTYPE=image/jpeg:https://letslearn.nz/wp-content/uploads/2025/08/Fabric-Patchwork-sea-spirit.jpg
ORGANIZER;CN="Tauranga Patchwork & Quilters Group":MAILTO:taurangaquilters@gmail.com
END:VEVENT
BEGIN:VEVENT
DTSTART;TZID=Pacific/Auckland:20251019T090000
DTEND;TZID=Pacific/Auckland:20251019T170000
DTSTAMP:20260426T115138
CREATED:20190827T212706Z
LAST-MODIFIED:20250718T210153Z
UID:10016961-1760864400-1760893200@letslearn.nz
SUMMARY:Bread Making - All types
DESCRIPTION:Begin your bread-making adventure today ! \nChiabatta & brioche\,  French bread\, sourdough\, wholemeal milk and honey bread….. \nJoin a group or choose your date and create your own group.\nAll class fees are donated to Parkinson research. \nCost:  $65\, morning tea and lunch provided.\nClass fees received go to Parkinson Research. \nContact: Barbara Fitzgibbon\nPhone:  021 024 819 50\nEmail: bbfitz2@icloud.com
URL:https://letslearn.nz/event/bread-making-all-types/2025-10-19/
LOCATION:Oropi
CATEGORIES:Breadmaking
ATTACH;FMTTYPE=image/jpeg:https://letslearn.nz/wp-content/uploads/2019/08/Breads.jpg
ORGANIZER;CN="Barbara Fitzgibbon":MAILTO:bbfitz2@icloud.com
END:VEVENT
BEGIN:VEVENT
DTSTART;TZID=Pacific/Auckland:20251019T094500
DTEND;TZID=Pacific/Auckland:20251019T104500
DTSTAMP:20260426T115138
CREATED:20240208T201739Z
LAST-MODIFIED:20240208T201739Z
UID:10013963-1760867100-1760870700@letslearn.nz
SUMMARY:Falun Dafa
DESCRIPTION:Purify the Body and Calm the Mind\n\n\n\n\nFalun Dafa\, also known as Falun Gong\, is a traditional self-cultivation practice based on the universal principles of Truthfulness\, Compassion and Tolerance. Easy to learn\, the practice includes four gentle standing exercises to purify the body and a seated meditation to calm the mind. \nAround the world\, millions of people from all walks of life and all ages have taken up the practice and report dramatic health improvements\, clarity of thought\, more energy and a deeper spiritual awareness. \nTrue health comes from cultivating both mind and body. \nFree to learn. \nPlease join our Free\, Easy to Learn Exercise Sessions in the Parks as follows:\nExercises 1 to 4 only. Duration – 1x hour.  Look for the Blue and White Banner. \n1st and 2nd Sundays – Memorial Park by the fountain\, enter from Devonport Rd \n3rd Sunday – Papamoa Domain near car park below Bluebiyou Restaurant \n4th Sunday – Marine Parade\, near cenotaph opposite Pacific Ave. \nWinter Hours – @ 10:15am\nSummer Hours – @ 9:45am \nChange at Daylight Saving time. \nPlease call / text Judy for any alternative arrangements. \nPlease phone or text  021 0425 398  for directions. \nEmail: judystauranga@protonmail.com
URL:https://letslearn.nz/event/falun-dafa-3-2/2025-10-19/
CATEGORIES:Falun Dafa
ATTACH;FMTTYPE=image/jpeg:https://letslearn.nz/wp-content/uploads/2019/08/Falun-Gong-2.jpg
ORGANIZER;CN="Judy Shakespear":MAILTO:judystauranga@protonmail.com
END:VEVENT
BEGIN:VEVENT
DTSTART;TZID=Pacific/Auckland:20251019T100000
DTEND;TZID=Pacific/Auckland:20251019T150000
DTSTAMP:20260426T115138
CREATED:20250524T212025Z
LAST-MODIFIED:20250524T212025Z
UID:10033454-1760868000-1760886000@letslearn.nz
SUMMARY:Model Aircraft Flying
DESCRIPTION:The Tauranga Model Aircraft Club has facilities at Tect Park which are always open for members of the public to attend and watch their activities. \nWeekends and Wednesdays are the most popular but only when the weather is suitable. \nCheck https://www.facebook.com/groups/taurangamac or\nContact Dave on 021 909 407 to check the weather conditions are good for flying.
URL:https://letslearn.nz/event/model-aircraft-flying-2-4-2-2/2025-10-19/
LOCATION:Tect Park\, State Highway 36\, Tauranga-Rotorua Road
CATEGORIES:Bloke Clubs,Radio Controlled Models
ATTACH;FMTTYPE=image/jpeg:https://letslearn.nz/wp-content/uploads/2019/08/ModelFlying-logo.jpg
ORGANIZER;CN="Dave Marriott":MAILTO:taurangamodelfly@gmail.com
END:VEVENT
BEGIN:VEVENT
DTSTART;TZID=Pacific/Auckland:20251019T133000
DTEND;TZID=Pacific/Auckland:20251019T160000
DTSTAMP:20260426T115138
CREATED:20230311T050522Z
LAST-MODIFIED:20250809T231511Z
UID:10034991-1760880600-1760889600@letslearn.nz
SUMMARY:Medieval Sword Fighting
DESCRIPTION:The Northern Horde of Tauranga are a Medieval re-enactment group\, we meet for combat training\, archery\, dance and crafts. \nLearn to fight with swords\, axes\, spears etc in a controlled and safe environment. \nWhere: Memorial Park\, Tauranga\nWhen: Sundays 1.30pm \nFor info: Charlie: 021 296 0215
URL:https://letslearn.nz/event/medieval-sword-fighting-2/2025-10-19/
LOCATION:Memorial Park\, 11th Avenue\, Tauranga
CATEGORIES:Metal Craft,Re-enactments,Woodcraft
ATTACH;FMTTYPE=image/jpeg:https://letslearn.nz/wp-content/uploads/2021/02/Blokes-Northern-Horde.jpg
ORGANIZER;CN="Northern Horde Medieval Group":MAILTO:GoTheHorde@gmail.com
END:VEVENT
END:VCALENDAR