BEGIN:VCALENDAR
VERSION:2.0
PRODID:-//Let&#039;s Learn - ECPv6.15.14//NONSGML v1.0//EN
CALSCALE:GREGORIAN
METHOD:PUBLISH
X-ORIGINAL-URL:https://letslearn.nz
X-WR-CALDESC:Events for Let&#039;s Learn
REFRESH-INTERVAL;VALUE=DURATION:PT1H
X-Robots-Tag:noindex
X-PUBLISHED-TTL:PT1H
BEGIN:VTIMEZONE
TZID:Pacific/Auckland
BEGIN:STANDARD
TZOFFSETFROM:+1300
TZOFFSETTO:+1200
TZNAME:NZST
DTSTART:20240406T140000
END:STANDARD
BEGIN:DAYLIGHT
TZOFFSETFROM:+1200
TZOFFSETTO:+1300
TZNAME:NZDT
DTSTART:20240928T140000
END:DAYLIGHT
BEGIN:STANDARD
TZOFFSETFROM:+1300
TZOFFSETTO:+1200
TZNAME:NZST
DTSTART:20250405T140000
END:STANDARD
BEGIN:DAYLIGHT
TZOFFSETFROM:+1200
TZOFFSETTO:+1300
TZNAME:NZDT
DTSTART:20250927T140000
END:DAYLIGHT
BEGIN:STANDARD
TZOFFSETFROM:+1300
TZOFFSETTO:+1200
TZNAME:NZST
DTSTART:20260404T140000
END:STANDARD
BEGIN:DAYLIGHT
TZOFFSETFROM:+1200
TZOFFSETTO:+1300
TZNAME:NZDT
DTSTART:20260926T140000
END:DAYLIGHT
END:VTIMEZONE
BEGIN:VEVENT
DTSTART;TZID=Pacific/Auckland:20250801T090000
DTEND;TZID=Pacific/Auckland:20250801T120000
DTSTAMP:20260420T232544
CREATED:20230617T234722Z
LAST-MODIFIED:20260117T084828Z
UID:10018641-1754038800-1754049600@letslearn.nz
SUMMARY:Life Drawing Sessions
DESCRIPTION:Come along to our Life Drawing bi monthly Life Drawing Session\nLife Drawing Session Friday (first and third Friday of the month) \nWhere: 171a Elizabeth Street West\, Tauranga\nKoha: $10.00 for Society Members\, $15.00 for Guests \nLife Drawing\, Figure Drawing… the act of drawing a living person.\nIt’s one of the most challenging and interesting ways to develop your drawing skills. Skills that translate to all aspects of art making.\nIt’s also a great way to escape into your own world for a little while.\nThis is an untutored session\, however\, we won’t leave you completely alone if you are new to it and need a little help getting started. It is a very friendly\, mixed level\, session and you will be surprised what you can learn and achieve with a little encouragement.\nIf you are an experienced artist or student a Life Model will give you unlimited inspiration and a chance to experiment with your technique\, materials and style. And we all appreciate and are inspired by new approaches.\nWe always take time for a feedback session before we leave. This is a positive and invaluable part of the session. It is inspiring looking at what worked during the session and why; sometimes the less obvious “works” provide the most interesting insights. There is always something to learn.\nBring your own drawing/painting gear (any media is fine)\, there is usually sugar paper available for sale at the Art Room. We do have some easels at the rooms\, but they are limited. If you have your own please feel free to bring it along.\nPlease turn up in time to assist with set up\, and stay on to assist with pack down. We are a self supporting group and if everyone helps it is very quick and easy. \nPS:  If you are interested in modelling and are available please feel free to PM me. We love experienced Models\, but are happy to use a sprinkling of “new” models… so don’t be reluctant if you haven’t done it before.
URL:https://letslearn.nz/event/life-drawing-sessions-2/2025-08-01/
LOCATION:Society of Artists\, 171 A Elizabeth St West\, Tauranga
CATEGORIES:Art Clubs,Drawing,Painting
ATTACH;FMTTYPE=image/jpeg:https://letslearn.nz/wp-content/uploads/2023/06/Art-Soc-Life-Drawing-2.jpg
ORGANIZER;CN="Tauranga Society of Artists":MAILTO:admin@taurangaart.com
END:VEVENT
BEGIN:VEVENT
DTSTART;TZID=Pacific/Auckland:20250801T100000
DTEND;TZID=Pacific/Auckland:20250801T130000
DTSTAMP:20260420T232544
CREATED:20240429T130810Z
LAST-MODIFIED:20241021T030757Z
UID:10020801-1754042400-1754053200@letslearn.nz
SUMMARY:Young at Art Morning Classes
DESCRIPTION:Friday Adult Classes 10 am – 1 pm: Click for info\nThis is for those who are looking for more time to learn\, improve their skills\, seriously play and dig a bit deeper\nSuitable for beginners – experienced levels .Classes held during term time. \n\nDates: Friday mornings \nCost:  – Casual 3 hour sessions are an option at $66 each\nCheck for term fee \n\nTo register :\nPhone: 022- 194 6615 (Joyce)\nEmail: youngatartdownunder@gmail.com
URL:https://letslearn.nz/event/young-at-art-classes-duplicate-1/2025-08-01/
CATEGORIES:Mixed Media
ATTACH;FMTTYPE=image/jpeg:https://letslearn.nz/wp-content/uploads/2024/04/Art-Young-at.jpg
END:VEVENT
BEGIN:VEVENT
DTSTART;TZID=Pacific/Auckland:20250804T090000
DTEND;TZID=Pacific/Auckland:20250804T120000
DTSTAMP:20260420T232544
CREATED:20230211T081529Z
LAST-MODIFIED:20241021T013643Z
UID:10020540-1754298000-1754308800@letslearn.nz
SUMMARY:Welcome Bay Painters Group
DESCRIPTION:The group is a casual group.  All abilities welcome. \nWhen: Every Monday except public holidays \nWhat Time: 9.00am-12.00pm \nWhere: Welcome Bay Community Church\, 340 Welcome Bay Road. \nCost: $3 per session \nContact: Diane Riddler. 0276061827 \nRelax\, chat\, create\, no pressure. All levels of skill welcome.
URL:https://letslearn.nz/event/welcome-bay-painters-group-2/2025-08-04/
LOCATION:Lighthouse Church\, 260 Welcome Bay Rd\, Welcome Bay\, Tauranga
CATEGORIES:Acrylic Painting,Art Clubs,Oil Painting,Pastels,Watercolours
ATTACH;FMTTYPE=image/jpeg:https://letslearn.nz/wp-content/uploads/2020/02/Painters-Group-WB.jpg
END:VEVENT
BEGIN:VEVENT
DTSTART;TZID=Pacific/Auckland:20250805T100000
DTEND;TZID=Pacific/Auckland:20250805T120000
DTSTAMP:20260420T232544
CREATED:20210801T224011Z
LAST-MODIFIED:20241021T032345Z
UID:10021323-1754388000-1754395200@letslearn.nz
SUMMARY:Creative Play at Mount Wildheart Art
DESCRIPTION:When:  Wednesday mornings 9.30am – 11am\nDates:  Check date on the website confirmed\nVenue: Wildheart Studio Arataki\nCost: $215 for the 6 sessions \nTutor: Jacqui van den Berg\nPhone: 021 069 6555\nEmail: jacquivandenbergartist@gmail.com \nBook via the website: www.mountwildheart.co.nz
URL:https://letslearn.nz/event/mount-wildheart-adult-art-class/2025-08-05/
LOCATION:Wildheart Studio\, Arataki
CATEGORIES:All mediums
ATTACH;FMTTYPE=image/jpeg:https://letslearn.nz/wp-content/uploads/2021/08/Art-Wildheart-2022-2.jpg
ORGANIZER;CN="Wildheart Studio":MAILTO:jacquivandenbergartist@gmail.com
END:VEVENT
BEGIN:VEVENT
DTSTART;TZID=Pacific/Auckland:20250806T183000
DTEND;TZID=Pacific/Auckland:20250806T203000
DTSTAMP:20260420T232544
CREATED:20240429T121448Z
LAST-MODIFIED:20251109T171800Z
UID:10021062-1754505000-1754512200@letslearn.nz
SUMMARY:Young at Art Classes
DESCRIPTION:Wednesday evenings 6.30pm – 8.30pm: Click for info\nDiscover the amazing freedom that Mixed Media can bring.\nFeel liberated in using different mediums together\, to express your feelings and your emotions. You can work on different substrates (i.e. paper\, cardboard\, canvas\, wood). Learn to recycle\, up-cycle\, re-use\, revamp \nCost:  Casual sessions $55   Check for term fee \nThese classes run with the school-term.\nThe groups are for all levels of experience.\nThey are very friendly and supportive of each other and we also have good FUN !
URL:https://letslearn.nz/event/young-at-art-classes-2/2025-08-06/
CATEGORIES:Mixed Media
ATTACH;FMTTYPE=image/jpeg:https://letslearn.nz/wp-content/uploads/2023/04/Art-Young-at-Art-Blue.jpg
ORGANIZER;CN="Young at Art Studio":MAILTO:youngatartdownunder@gmail.com
END:VEVENT
BEGIN:VEVENT
DTSTART;TZID=Pacific/Auckland:20250808T100000
DTEND;TZID=Pacific/Auckland:20250808T130000
DTSTAMP:20260420T232544
CREATED:20240429T130810Z
LAST-MODIFIED:20241021T030757Z
UID:10020802-1754647200-1754658000@letslearn.nz
SUMMARY:Young at Art Morning Classes
DESCRIPTION:Friday Adult Classes 10 am – 1 pm: Click for info\nThis is for those who are looking for more time to learn\, improve their skills\, seriously play and dig a bit deeper\nSuitable for beginners – experienced levels .Classes held during term time. \n\nDates: Friday mornings \nCost:  – Casual 3 hour sessions are an option at $66 each\nCheck for term fee \n\nTo register :\nPhone: 022- 194 6615 (Joyce)\nEmail: youngatartdownunder@gmail.com
URL:https://letslearn.nz/event/young-at-art-classes-duplicate-1/2025-08-08/
CATEGORIES:Mixed Media
ATTACH;FMTTYPE=image/jpeg:https://letslearn.nz/wp-content/uploads/2024/04/Art-Young-at.jpg
END:VEVENT
BEGIN:VEVENT
DTSTART;TZID=Pacific/Auckland:20250811T090000
DTEND;TZID=Pacific/Auckland:20250811T120000
DTSTAMP:20260420T232544
CREATED:20230211T081529Z
LAST-MODIFIED:20241021T013643Z
UID:10020541-1754902800-1754913600@letslearn.nz
SUMMARY:Welcome Bay Painters Group
DESCRIPTION:The group is a casual group.  All abilities welcome. \nWhen: Every Monday except public holidays \nWhat Time: 9.00am-12.00pm \nWhere: Welcome Bay Community Church\, 340 Welcome Bay Road. \nCost: $3 per session \nContact: Diane Riddler. 0276061827 \nRelax\, chat\, create\, no pressure. All levels of skill welcome.
URL:https://letslearn.nz/event/welcome-bay-painters-group-2/2025-08-11/
LOCATION:Lighthouse Church\, 260 Welcome Bay Rd\, Welcome Bay\, Tauranga
CATEGORIES:Acrylic Painting,Art Clubs,Oil Painting,Pastels,Watercolours
ATTACH;FMTTYPE=image/jpeg:https://letslearn.nz/wp-content/uploads/2020/02/Painters-Group-WB.jpg
END:VEVENT
BEGIN:VEVENT
DTSTART;TZID=Pacific/Auckland:20250812T100000
DTEND;TZID=Pacific/Auckland:20250812T120000
DTSTAMP:20260420T232544
CREATED:20210801T224011Z
LAST-MODIFIED:20241021T032345Z
UID:10021324-1754992800-1755000000@letslearn.nz
SUMMARY:Creative Play at Mount Wildheart Art
DESCRIPTION:When:  Wednesday mornings 9.30am – 11am\nDates:  Check date on the website confirmed\nVenue: Wildheart Studio Arataki\nCost: $215 for the 6 sessions \nTutor: Jacqui van den Berg\nPhone: 021 069 6555\nEmail: jacquivandenbergartist@gmail.com \nBook via the website: www.mountwildheart.co.nz
URL:https://letslearn.nz/event/mount-wildheart-adult-art-class/2025-08-12/
LOCATION:Wildheart Studio\, Arataki
CATEGORIES:All mediums
ATTACH;FMTTYPE=image/jpeg:https://letslearn.nz/wp-content/uploads/2021/08/Art-Wildheart-2022-2.jpg
ORGANIZER;CN="Wildheart Studio":MAILTO:jacquivandenbergartist@gmail.com
END:VEVENT
BEGIN:VEVENT
DTSTART;TZID=Pacific/Auckland:20250813T183000
DTEND;TZID=Pacific/Auckland:20250813T203000
DTSTAMP:20260420T232544
CREATED:20240429T121448Z
LAST-MODIFIED:20251109T171800Z
UID:10021063-1755109800-1755117000@letslearn.nz
SUMMARY:Young at Art Classes
DESCRIPTION:Wednesday evenings 6.30pm – 8.30pm: Click for info\nDiscover the amazing freedom that Mixed Media can bring.\nFeel liberated in using different mediums together\, to express your feelings and your emotions. You can work on different substrates (i.e. paper\, cardboard\, canvas\, wood). Learn to recycle\, up-cycle\, re-use\, revamp \nCost:  Casual sessions $55   Check for term fee \nThese classes run with the school-term.\nThe groups are for all levels of experience.\nThey are very friendly and supportive of each other and we also have good FUN !
URL:https://letslearn.nz/event/young-at-art-classes-2/2025-08-13/
CATEGORIES:Mixed Media
ATTACH;FMTTYPE=image/jpeg:https://letslearn.nz/wp-content/uploads/2023/04/Art-Young-at-Art-Blue.jpg
ORGANIZER;CN="Young at Art Studio":MAILTO:youngatartdownunder@gmail.com
END:VEVENT
BEGIN:VEVENT
DTSTART;TZID=Pacific/Auckland:20250815T100000
DTEND;TZID=Pacific/Auckland:20250815T130000
DTSTAMP:20260420T232544
CREATED:20240429T130810Z
LAST-MODIFIED:20241021T030757Z
UID:10020803-1755252000-1755262800@letslearn.nz
SUMMARY:Young at Art Morning Classes
DESCRIPTION:Friday Adult Classes 10 am – 1 pm: Click for info\nThis is for those who are looking for more time to learn\, improve their skills\, seriously play and dig a bit deeper\nSuitable for beginners – experienced levels .Classes held during term time. \n\nDates: Friday mornings \nCost:  – Casual 3 hour sessions are an option at $66 each\nCheck for term fee \n\nTo register :\nPhone: 022- 194 6615 (Joyce)\nEmail: youngatartdownunder@gmail.com
URL:https://letslearn.nz/event/young-at-art-classes-duplicate-1/2025-08-15/
CATEGORIES:Mixed Media
ATTACH;FMTTYPE=image/jpeg:https://letslearn.nz/wp-content/uploads/2024/04/Art-Young-at.jpg
END:VEVENT
BEGIN:VEVENT
DTSTART;TZID=Pacific/Auckland:20250818T090000
DTEND;TZID=Pacific/Auckland:20250818T120000
DTSTAMP:20260420T232544
CREATED:20230211T081529Z
LAST-MODIFIED:20241021T013643Z
UID:10020542-1755507600-1755518400@letslearn.nz
SUMMARY:Welcome Bay Painters Group
DESCRIPTION:The group is a casual group.  All abilities welcome. \nWhen: Every Monday except public holidays \nWhat Time: 9.00am-12.00pm \nWhere: Welcome Bay Community Church\, 340 Welcome Bay Road. \nCost: $3 per session \nContact: Diane Riddler. 0276061827 \nRelax\, chat\, create\, no pressure. All levels of skill welcome.
URL:https://letslearn.nz/event/welcome-bay-painters-group-2/2025-08-18/
LOCATION:Lighthouse Church\, 260 Welcome Bay Rd\, Welcome Bay\, Tauranga
CATEGORIES:Acrylic Painting,Art Clubs,Oil Painting,Pastels,Watercolours
ATTACH;FMTTYPE=image/jpeg:https://letslearn.nz/wp-content/uploads/2020/02/Painters-Group-WB.jpg
END:VEVENT
BEGIN:VEVENT
DTSTART;TZID=Pacific/Auckland:20250819T100000
DTEND;TZID=Pacific/Auckland:20250819T120000
DTSTAMP:20260420T232544
CREATED:20210801T224011Z
LAST-MODIFIED:20241021T032345Z
UID:10021325-1755597600-1755604800@letslearn.nz
SUMMARY:Creative Play at Mount Wildheart Art
DESCRIPTION:When:  Wednesday mornings 9.30am – 11am\nDates:  Check date on the website confirmed\nVenue: Wildheart Studio Arataki\nCost: $215 for the 6 sessions \nTutor: Jacqui van den Berg\nPhone: 021 069 6555\nEmail: jacquivandenbergartist@gmail.com \nBook via the website: www.mountwildheart.co.nz
URL:https://letslearn.nz/event/mount-wildheart-adult-art-class/2025-08-19/
LOCATION:Wildheart Studio\, Arataki
CATEGORIES:All mediums
ATTACH;FMTTYPE=image/jpeg:https://letslearn.nz/wp-content/uploads/2021/08/Art-Wildheart-2022-2.jpg
ORGANIZER;CN="Wildheart Studio":MAILTO:jacquivandenbergartist@gmail.com
END:VEVENT
BEGIN:VEVENT
DTSTART;TZID=Pacific/Auckland:20250820T183000
DTEND;TZID=Pacific/Auckland:20250820T203000
DTSTAMP:20260420T232544
CREATED:20240429T121448Z
LAST-MODIFIED:20251109T171800Z
UID:10021064-1755714600-1755721800@letslearn.nz
SUMMARY:Young at Art Classes
DESCRIPTION:Wednesday evenings 6.30pm – 8.30pm: Click for info\nDiscover the amazing freedom that Mixed Media can bring.\nFeel liberated in using different mediums together\, to express your feelings and your emotions. You can work on different substrates (i.e. paper\, cardboard\, canvas\, wood). Learn to recycle\, up-cycle\, re-use\, revamp \nCost:  Casual sessions $55   Check for term fee \nThese classes run with the school-term.\nThe groups are for all levels of experience.\nThey are very friendly and supportive of each other and we also have good FUN !
URL:https://letslearn.nz/event/young-at-art-classes-2/2025-08-20/
CATEGORIES:Mixed Media
ATTACH;FMTTYPE=image/jpeg:https://letslearn.nz/wp-content/uploads/2023/04/Art-Young-at-Art-Blue.jpg
ORGANIZER;CN="Young at Art Studio":MAILTO:youngatartdownunder@gmail.com
END:VEVENT
BEGIN:VEVENT
DTSTART;TZID=Pacific/Auckland:20250822T100000
DTEND;TZID=Pacific/Auckland:20250822T130000
DTSTAMP:20260420T232544
CREATED:20240429T130810Z
LAST-MODIFIED:20241021T030757Z
UID:10020804-1755856800-1755867600@letslearn.nz
SUMMARY:Young at Art Morning Classes
DESCRIPTION:Friday Adult Classes 10 am – 1 pm: Click for info\nThis is for those who are looking for more time to learn\, improve their skills\, seriously play and dig a bit deeper\nSuitable for beginners – experienced levels .Classes held during term time. \n\nDates: Friday mornings \nCost:  – Casual 3 hour sessions are an option at $66 each\nCheck for term fee \n\nTo register :\nPhone: 022- 194 6615 (Joyce)\nEmail: youngatartdownunder@gmail.com
URL:https://letslearn.nz/event/young-at-art-classes-duplicate-1/2025-08-22/
CATEGORIES:Mixed Media
ATTACH;FMTTYPE=image/jpeg:https://letslearn.nz/wp-content/uploads/2024/04/Art-Young-at.jpg
END:VEVENT
BEGIN:VEVENT
DTSTART;TZID=Pacific/Auckland:20250825T090000
DTEND;TZID=Pacific/Auckland:20250825T120000
DTSTAMP:20260420T232544
CREATED:20230211T081529Z
LAST-MODIFIED:20241021T013643Z
UID:10020543-1756112400-1756123200@letslearn.nz
SUMMARY:Welcome Bay Painters Group
DESCRIPTION:The group is a casual group.  All abilities welcome. \nWhen: Every Monday except public holidays \nWhat Time: 9.00am-12.00pm \nWhere: Welcome Bay Community Church\, 340 Welcome Bay Road. \nCost: $3 per session \nContact: Diane Riddler. 0276061827 \nRelax\, chat\, create\, no pressure. All levels of skill welcome.
URL:https://letslearn.nz/event/welcome-bay-painters-group-2/2025-08-25/
LOCATION:Lighthouse Church\, 260 Welcome Bay Rd\, Welcome Bay\, Tauranga
CATEGORIES:Acrylic Painting,Art Clubs,Oil Painting,Pastels,Watercolours
ATTACH;FMTTYPE=image/jpeg:https://letslearn.nz/wp-content/uploads/2020/02/Painters-Group-WB.jpg
END:VEVENT
BEGIN:VEVENT
DTSTART;TZID=Pacific/Auckland:20250826T100000
DTEND;TZID=Pacific/Auckland:20250826T120000
DTSTAMP:20260420T232544
CREATED:20210801T224011Z
LAST-MODIFIED:20241021T032345Z
UID:10021326-1756202400-1756209600@letslearn.nz
SUMMARY:Creative Play at Mount Wildheart Art
DESCRIPTION:When:  Wednesday mornings 9.30am – 11am\nDates:  Check date on the website confirmed\nVenue: Wildheart Studio Arataki\nCost: $215 for the 6 sessions \nTutor: Jacqui van den Berg\nPhone: 021 069 6555\nEmail: jacquivandenbergartist@gmail.com \nBook via the website: www.mountwildheart.co.nz
URL:https://letslearn.nz/event/mount-wildheart-adult-art-class/2025-08-26/
LOCATION:Wildheart Studio\, Arataki
CATEGORIES:All mediums
ATTACH;FMTTYPE=image/jpeg:https://letslearn.nz/wp-content/uploads/2021/08/Art-Wildheart-2022-2.jpg
ORGANIZER;CN="Wildheart Studio":MAILTO:jacquivandenbergartist@gmail.com
END:VEVENT
BEGIN:VEVENT
DTSTART;TZID=Pacific/Auckland:20250827T183000
DTEND;TZID=Pacific/Auckland:20250827T203000
DTSTAMP:20260420T232544
CREATED:20240429T121448Z
LAST-MODIFIED:20251109T171800Z
UID:10021065-1756319400-1756326600@letslearn.nz
SUMMARY:Young at Art Classes
DESCRIPTION:Wednesday evenings 6.30pm – 8.30pm: Click for info\nDiscover the amazing freedom that Mixed Media can bring.\nFeel liberated in using different mediums together\, to express your feelings and your emotions. You can work on different substrates (i.e. paper\, cardboard\, canvas\, wood). Learn to recycle\, up-cycle\, re-use\, revamp \nCost:  Casual sessions $55   Check for term fee \nThese classes run with the school-term.\nThe groups are for all levels of experience.\nThey are very friendly and supportive of each other and we also have good FUN !
URL:https://letslearn.nz/event/young-at-art-classes-2/2025-08-27/
CATEGORIES:Mixed Media
ATTACH;FMTTYPE=image/jpeg:https://letslearn.nz/wp-content/uploads/2023/04/Art-Young-at-Art-Blue.jpg
ORGANIZER;CN="Young at Art Studio":MAILTO:youngatartdownunder@gmail.com
END:VEVENT
BEGIN:VEVENT
DTSTART;TZID=Pacific/Auckland:20250829T100000
DTEND;TZID=Pacific/Auckland:20250829T130000
DTSTAMP:20260420T232544
CREATED:20240429T130810Z
LAST-MODIFIED:20241021T030757Z
UID:10020805-1756461600-1756472400@letslearn.nz
SUMMARY:Young at Art Morning Classes
DESCRIPTION:Friday Adult Classes 10 am – 1 pm: Click for info\nThis is for those who are looking for more time to learn\, improve their skills\, seriously play and dig a bit deeper\nSuitable for beginners – experienced levels .Classes held during term time. \n\nDates: Friday mornings \nCost:  – Casual 3 hour sessions are an option at $66 each\nCheck for term fee \n\nTo register :\nPhone: 022- 194 6615 (Joyce)\nEmail: youngatartdownunder@gmail.com
URL:https://letslearn.nz/event/young-at-art-classes-duplicate-1/2025-08-29/
CATEGORIES:Mixed Media
ATTACH;FMTTYPE=image/jpeg:https://letslearn.nz/wp-content/uploads/2024/04/Art-Young-at.jpg
END:VEVENT
END:VCALENDAR