BEGIN:VCALENDAR
VERSION:2.0
PRODID:-//Let&#039;s Learn - ECPv6.15.14//NONSGML v1.0//EN
CALSCALE:GREGORIAN
METHOD:PUBLISH
X-ORIGINAL-URL:https://letslearn.nz
X-WR-CALDESC:Events for Let&#039;s Learn
REFRESH-INTERVAL;VALUE=DURATION:PT1H
X-Robots-Tag:noindex
X-PUBLISHED-TTL:PT1H
BEGIN:VTIMEZONE
TZID:Pacific/Auckland
BEGIN:STANDARD
TZOFFSETFROM:+1300
TZOFFSETTO:+1200
TZNAME:NZST
DTSTART:20280401T140000
END:STANDARD
BEGIN:DAYLIGHT
TZOFFSETFROM:+1200
TZOFFSETTO:+1300
TZNAME:NZDT
DTSTART:20280923T140000
END:DAYLIGHT
BEGIN:STANDARD
TZOFFSETFROM:+1300
TZOFFSETTO:+1200
TZNAME:NZST
DTSTART:20290331T140000
END:STANDARD
BEGIN:DAYLIGHT
TZOFFSETFROM:+1200
TZOFFSETTO:+1300
TZNAME:NZDT
DTSTART:20290929T140000
END:DAYLIGHT
BEGIN:STANDARD
TZOFFSETFROM:+1300
TZOFFSETTO:+1200
TZNAME:NZST
DTSTART:20300406T140000
END:STANDARD
BEGIN:DAYLIGHT
TZOFFSETFROM:+1200
TZOFFSETTO:+1300
TZNAME:NZDT
DTSTART:20300928T140000
END:DAYLIGHT
END:VTIMEZONE
BEGIN:VEVENT
DTSTART;TZID=Pacific/Auckland:20290102T100000
DTEND;TZID=Pacific/Auckland:20290102T120000
DTSTAMP:20260425T095233
CREATED:20210801T224011Z
LAST-MODIFIED:20241021T032345Z
UID:10021501-1862042400-1862049600@letslearn.nz
SUMMARY:Creative Play at Mount Wildheart Art
DESCRIPTION:When:  Wednesday mornings 9.30am – 11am\nDates:  Check date on the website confirmed\nVenue: Wildheart Studio Arataki\nCost: $215 for the 6 sessions \nTutor: Jacqui van den Berg\nPhone: 021 069 6555\nEmail: jacquivandenbergartist@gmail.com \nBook via the website: www.mountwildheart.co.nz
URL:https://letslearn.nz/event/mount-wildheart-adult-art-class/2029-01-02/
LOCATION:Wildheart Studio\, Arataki
CATEGORIES:All mediums
ATTACH;FMTTYPE=image/jpeg:https://letslearn.nz/wp-content/uploads/2021/08/Art-Wildheart-2022-2.jpg
ORGANIZER;CN="Wildheart Studio":MAILTO:jacquivandenbergartist@gmail.com
END:VEVENT
BEGIN:VEVENT
DTSTART;TZID=Pacific/Auckland:20290109T100000
DTEND;TZID=Pacific/Auckland:20290109T120000
DTSTAMP:20260425T095233
CREATED:20210801T224011Z
LAST-MODIFIED:20241021T032345Z
UID:10021502-1862647200-1862654400@letslearn.nz
SUMMARY:Creative Play at Mount Wildheart Art
DESCRIPTION:When:  Wednesday mornings 9.30am – 11am\nDates:  Check date on the website confirmed\nVenue: Wildheart Studio Arataki\nCost: $215 for the 6 sessions \nTutor: Jacqui van den Berg\nPhone: 021 069 6555\nEmail: jacquivandenbergartist@gmail.com \nBook via the website: www.mountwildheart.co.nz
URL:https://letslearn.nz/event/mount-wildheart-adult-art-class/2029-01-09/
LOCATION:Wildheart Studio\, Arataki
CATEGORIES:All mediums
ATTACH;FMTTYPE=image/jpeg:https://letslearn.nz/wp-content/uploads/2021/08/Art-Wildheart-2022-2.jpg
ORGANIZER;CN="Wildheart Studio":MAILTO:jacquivandenbergartist@gmail.com
END:VEVENT
BEGIN:VEVENT
DTSTART;TZID=Pacific/Auckland:20290116T100000
DTEND;TZID=Pacific/Auckland:20290116T120000
DTSTAMP:20260425T095233
CREATED:20210801T224011Z
LAST-MODIFIED:20241021T032345Z
UID:10021503-1863252000-1863259200@letslearn.nz
SUMMARY:Creative Play at Mount Wildheart Art
DESCRIPTION:When:  Wednesday mornings 9.30am – 11am\nDates:  Check date on the website confirmed\nVenue: Wildheart Studio Arataki\nCost: $215 for the 6 sessions \nTutor: Jacqui van den Berg\nPhone: 021 069 6555\nEmail: jacquivandenbergartist@gmail.com \nBook via the website: www.mountwildheart.co.nz
URL:https://letslearn.nz/event/mount-wildheart-adult-art-class/2029-01-16/
LOCATION:Wildheart Studio\, Arataki
CATEGORIES:All mediums
ATTACH;FMTTYPE=image/jpeg:https://letslearn.nz/wp-content/uploads/2021/08/Art-Wildheart-2022-2.jpg
ORGANIZER;CN="Wildheart Studio":MAILTO:jacquivandenbergartist@gmail.com
END:VEVENT
BEGIN:VEVENT
DTSTART;TZID=Pacific/Auckland:20290123T100000
DTEND;TZID=Pacific/Auckland:20290123T120000
DTSTAMP:20260425T095233
CREATED:20210801T224011Z
LAST-MODIFIED:20241021T032345Z
UID:10021504-1863856800-1863864000@letslearn.nz
SUMMARY:Creative Play at Mount Wildheart Art
DESCRIPTION:When:  Wednesday mornings 9.30am – 11am\nDates:  Check date on the website confirmed\nVenue: Wildheart Studio Arataki\nCost: $215 for the 6 sessions \nTutor: Jacqui van den Berg\nPhone: 021 069 6555\nEmail: jacquivandenbergartist@gmail.com \nBook via the website: www.mountwildheart.co.nz
URL:https://letslearn.nz/event/mount-wildheart-adult-art-class/2029-01-23/
LOCATION:Wildheart Studio\, Arataki
CATEGORIES:All mediums
ATTACH;FMTTYPE=image/jpeg:https://letslearn.nz/wp-content/uploads/2021/08/Art-Wildheart-2022-2.jpg
ORGANIZER;CN="Wildheart Studio":MAILTO:jacquivandenbergartist@gmail.com
END:VEVENT
BEGIN:VEVENT
DTSTART;TZID=Pacific/Auckland:20290126T180000
DTEND;TZID=Pacific/Auckland:20290126T210000
DTSTAMP:20260425T095233
CREATED:20251210T105654Z
LAST-MODIFIED:20251210T110119Z
UID:10037185-1864144800-1864155600@letslearn.nz
SUMMARY:Painting Night Watercolours with Audrey Dubois
DESCRIPTION:French artist Audrey Dubois holds painting workshops each month. \nPainting Night\nDay: Every third Friday of the month\nTime: From 6.00 to 9.00 pm.\nVenue:  13E Sagewood Road\, Whakamaramara\, Tauranga \nPainting Night Watercolours– Friday\, 23rd January 2026\nWould you love to be an artist ? This is your opportunity ! \nCreate a beautiful watercolour painting amongst a small group of like-minded people. Spread the word.  Audrey has a few models : flowers\, animals\, landscape\, abstract design… \nPrice : 70$ pp\nMore info:\nPhone:  0225021671 – Audrey Dubois\nEmail: audrey.duboisnz@gmail.com \nENROL HERE \nComing up in 2026: TBA
URL:https://letslearn.nz/event/painting-night-with-audrey-dubois-2-2/2029-01-26/
LOCATION:Audrey’s Atelier\, 13 E Sagewood Rd\, Whakamaramara\, Tauranga
CATEGORIES:Acrylic Painting,All mediums,Pastels,Watercolours
ATTACH;FMTTYPE=image/jpeg:https://letslearn.nz/wp-content/uploads/2022/06/Art-Audrey-Watercolour-4.jpg
ORGANIZER;CN="Audrey Dubois":MAILTO:audrey.duboisnz@gmail.com
END:VEVENT
BEGIN:VEVENT
DTSTART;TZID=Pacific/Auckland:20290130T100000
DTEND;TZID=Pacific/Auckland:20290130T120000
DTSTAMP:20260425T095233
CREATED:20210801T224011Z
LAST-MODIFIED:20241021T032345Z
UID:10021505-1864461600-1864468800@letslearn.nz
SUMMARY:Creative Play at Mount Wildheart Art
DESCRIPTION:When:  Wednesday mornings 9.30am – 11am\nDates:  Check date on the website confirmed\nVenue: Wildheart Studio Arataki\nCost: $215 for the 6 sessions \nTutor: Jacqui van den Berg\nPhone: 021 069 6555\nEmail: jacquivandenbergartist@gmail.com \nBook via the website: www.mountwildheart.co.nz
URL:https://letslearn.nz/event/mount-wildheart-adult-art-class/2029-01-30/
LOCATION:Wildheart Studio\, Arataki
CATEGORIES:All mediums
ATTACH;FMTTYPE=image/jpeg:https://letslearn.nz/wp-content/uploads/2021/08/Art-Wildheart-2022-2.jpg
ORGANIZER;CN="Wildheart Studio":MAILTO:jacquivandenbergartist@gmail.com
END:VEVENT
END:VCALENDAR