BEGIN:VCALENDAR
VERSION:2.0
PRODID:-//Let&#039;s Learn - ECPv6.15.14//NONSGML v1.0//EN
CALSCALE:GREGORIAN
METHOD:PUBLISH
X-ORIGINAL-URL:https://letslearn.nz
X-WR-CALDESC:Events for Let&#039;s Learn
REFRESH-INTERVAL;VALUE=DURATION:PT1H
X-Robots-Tag:noindex
X-PUBLISHED-TTL:PT1H
BEGIN:VTIMEZONE
TZID:Pacific/Auckland
BEGIN:STANDARD
TZOFFSETFROM:+1300
TZOFFSETTO:+1200
TZNAME:NZST
DTSTART:20240406T140000
END:STANDARD
BEGIN:DAYLIGHT
TZOFFSETFROM:+1200
TZOFFSETTO:+1300
TZNAME:NZDT
DTSTART:20240928T140000
END:DAYLIGHT
BEGIN:STANDARD
TZOFFSETFROM:+1300
TZOFFSETTO:+1200
TZNAME:NZST
DTSTART:20250405T140000
END:STANDARD
BEGIN:DAYLIGHT
TZOFFSETFROM:+1200
TZOFFSETTO:+1300
TZNAME:NZDT
DTSTART:20250927T140000
END:DAYLIGHT
BEGIN:STANDARD
TZOFFSETFROM:+1300
TZOFFSETTO:+1200
TZNAME:NZST
DTSTART:20260404T140000
END:STANDARD
BEGIN:DAYLIGHT
TZOFFSETFROM:+1200
TZOFFSETTO:+1300
TZNAME:NZDT
DTSTART:20260926T140000
END:DAYLIGHT
END:VTIMEZONE
BEGIN:VEVENT
DTSTART;TZID=Pacific/Auckland:20250502T100000
DTEND;TZID=Pacific/Auckland:20250502T130000
DTSTAMP:20260423T124949
CREATED:20240429T130810Z
LAST-MODIFIED:20241021T030757Z
UID:10020788-1746180000-1746190800@letslearn.nz
SUMMARY:Young at Art Morning Classes
DESCRIPTION:Friday Adult Classes 10 am – 1 pm: Click for info\nThis is for those who are looking for more time to learn\, improve their skills\, seriously play and dig a bit deeper\nSuitable for beginners – experienced levels .Classes held during term time. \n\nDates: Friday mornings \nCost:  – Casual 3 hour sessions are an option at $66 each\nCheck for term fee \n\nTo register :\nPhone: 022- 194 6615 (Joyce)\nEmail: youngatartdownunder@gmail.com
URL:https://letslearn.nz/event/young-at-art-classes-duplicate-1/2025-05-02/
CATEGORIES:Mixed Media
ATTACH;FMTTYPE=image/jpeg:https://letslearn.nz/wp-content/uploads/2024/04/Art-Young-at.jpg
END:VEVENT
BEGIN:VEVENT
DTSTART;TZID=Pacific/Auckland:20250507T183000
DTEND;TZID=Pacific/Auckland:20250507T203000
DTSTAMP:20260423T124949
CREATED:20240429T121448Z
LAST-MODIFIED:20251109T171800Z
UID:10021049-1746642600-1746649800@letslearn.nz
SUMMARY:Young at Art Classes
DESCRIPTION:Wednesday evenings 6.30pm – 8.30pm: Click for info\nDiscover the amazing freedom that Mixed Media can bring.\nFeel liberated in using different mediums together\, to express your feelings and your emotions. You can work on different substrates (i.e. paper\, cardboard\, canvas\, wood). Learn to recycle\, up-cycle\, re-use\, revamp \nCost:  Casual sessions $55   Check for term fee \nThese classes run with the school-term.\nThe groups are for all levels of experience.\nThey are very friendly and supportive of each other and we also have good FUN !
URL:https://letslearn.nz/event/young-at-art-classes-2/2025-05-07/
CATEGORIES:Mixed Media
ATTACH;FMTTYPE=image/jpeg:https://letslearn.nz/wp-content/uploads/2023/04/Art-Young-at-Art-Blue.jpg
ORGANIZER;CN="Young at Art Studio":MAILTO:youngatartdownunder@gmail.com
END:VEVENT
BEGIN:VEVENT
DTSTART;TZID=Pacific/Auckland:20250509T100000
DTEND;TZID=Pacific/Auckland:20250509T130000
DTSTAMP:20260423T124949
CREATED:20240429T130810Z
LAST-MODIFIED:20241021T030757Z
UID:10020789-1746784800-1746795600@letslearn.nz
SUMMARY:Young at Art Morning Classes
DESCRIPTION:Friday Adult Classes 10 am – 1 pm: Click for info\nThis is for those who are looking for more time to learn\, improve their skills\, seriously play and dig a bit deeper\nSuitable for beginners – experienced levels .Classes held during term time. \n\nDates: Friday mornings \nCost:  – Casual 3 hour sessions are an option at $66 each\nCheck for term fee \n\nTo register :\nPhone: 022- 194 6615 (Joyce)\nEmail: youngatartdownunder@gmail.com
URL:https://letslearn.nz/event/young-at-art-classes-duplicate-1/2025-05-09/
CATEGORIES:Mixed Media
ATTACH;FMTTYPE=image/jpeg:https://letslearn.nz/wp-content/uploads/2024/04/Art-Young-at.jpg
END:VEVENT
BEGIN:VEVENT
DTSTART;TZID=Pacific/Auckland:20250514T183000
DTEND;TZID=Pacific/Auckland:20250514T203000
DTSTAMP:20260423T124949
CREATED:20240429T121448Z
LAST-MODIFIED:20251109T171800Z
UID:10021050-1747247400-1747254600@letslearn.nz
SUMMARY:Young at Art Classes
DESCRIPTION:Wednesday evenings 6.30pm – 8.30pm: Click for info\nDiscover the amazing freedom that Mixed Media can bring.\nFeel liberated in using different mediums together\, to express your feelings and your emotions. You can work on different substrates (i.e. paper\, cardboard\, canvas\, wood). Learn to recycle\, up-cycle\, re-use\, revamp \nCost:  Casual sessions $55   Check for term fee \nThese classes run with the school-term.\nThe groups are for all levels of experience.\nThey are very friendly and supportive of each other and we also have good FUN !
URL:https://letslearn.nz/event/young-at-art-classes-2/2025-05-14/
CATEGORIES:Mixed Media
ATTACH;FMTTYPE=image/jpeg:https://letslearn.nz/wp-content/uploads/2023/04/Art-Young-at-Art-Blue.jpg
ORGANIZER;CN="Young at Art Studio":MAILTO:youngatartdownunder@gmail.com
END:VEVENT
BEGIN:VEVENT
DTSTART;TZID=Pacific/Auckland:20250516T100000
DTEND;TZID=Pacific/Auckland:20250516T130000
DTSTAMP:20260423T124949
CREATED:20240429T130810Z
LAST-MODIFIED:20241021T030757Z
UID:10020790-1747389600-1747400400@letslearn.nz
SUMMARY:Young at Art Morning Classes
DESCRIPTION:Friday Adult Classes 10 am – 1 pm: Click for info\nThis is for those who are looking for more time to learn\, improve their skills\, seriously play and dig a bit deeper\nSuitable for beginners – experienced levels .Classes held during term time. \n\nDates: Friday mornings \nCost:  – Casual 3 hour sessions are an option at $66 each\nCheck for term fee \n\nTo register :\nPhone: 022- 194 6615 (Joyce)\nEmail: youngatartdownunder@gmail.com
URL:https://letslearn.nz/event/young-at-art-classes-duplicate-1/2025-05-16/
CATEGORIES:Mixed Media
ATTACH;FMTTYPE=image/jpeg:https://letslearn.nz/wp-content/uploads/2024/04/Art-Young-at.jpg
END:VEVENT
BEGIN:VEVENT
DTSTART;TZID=Pacific/Auckland:20250521T183000
DTEND;TZID=Pacific/Auckland:20250521T203000
DTSTAMP:20260423T124949
CREATED:20240429T121448Z
LAST-MODIFIED:20251109T171800Z
UID:10021051-1747852200-1747859400@letslearn.nz
SUMMARY:Young at Art Classes
DESCRIPTION:Wednesday evenings 6.30pm – 8.30pm: Click for info\nDiscover the amazing freedom that Mixed Media can bring.\nFeel liberated in using different mediums together\, to express your feelings and your emotions. You can work on different substrates (i.e. paper\, cardboard\, canvas\, wood). Learn to recycle\, up-cycle\, re-use\, revamp \nCost:  Casual sessions $55   Check for term fee \nThese classes run with the school-term.\nThe groups are for all levels of experience.\nThey are very friendly and supportive of each other and we also have good FUN !
URL:https://letslearn.nz/event/young-at-art-classes-2/2025-05-21/
CATEGORIES:Mixed Media
ATTACH;FMTTYPE=image/jpeg:https://letslearn.nz/wp-content/uploads/2023/04/Art-Young-at-Art-Blue.jpg
ORGANIZER;CN="Young at Art Studio":MAILTO:youngatartdownunder@gmail.com
END:VEVENT
BEGIN:VEVENT
DTSTART;TZID=Pacific/Auckland:20250523T100000
DTEND;TZID=Pacific/Auckland:20250523T130000
DTSTAMP:20260423T124949
CREATED:20240429T130810Z
LAST-MODIFIED:20241021T030757Z
UID:10020791-1747994400-1748005200@letslearn.nz
SUMMARY:Young at Art Morning Classes
DESCRIPTION:Friday Adult Classes 10 am – 1 pm: Click for info\nThis is for those who are looking for more time to learn\, improve their skills\, seriously play and dig a bit deeper\nSuitable for beginners – experienced levels .Classes held during term time. \n\nDates: Friday mornings \nCost:  – Casual 3 hour sessions are an option at $66 each\nCheck for term fee \n\nTo register :\nPhone: 022- 194 6615 (Joyce)\nEmail: youngatartdownunder@gmail.com
URL:https://letslearn.nz/event/young-at-art-classes-duplicate-1/2025-05-23/
CATEGORIES:Mixed Media
ATTACH;FMTTYPE=image/jpeg:https://letslearn.nz/wp-content/uploads/2024/04/Art-Young-at.jpg
END:VEVENT
BEGIN:VEVENT
DTSTART;TZID=Pacific/Auckland:20250528T183000
DTEND;TZID=Pacific/Auckland:20250528T203000
DTSTAMP:20260423T124949
CREATED:20240429T121448Z
LAST-MODIFIED:20251109T171800Z
UID:10021052-1748457000-1748464200@letslearn.nz
SUMMARY:Young at Art Classes
DESCRIPTION:Wednesday evenings 6.30pm – 8.30pm: Click for info\nDiscover the amazing freedom that Mixed Media can bring.\nFeel liberated in using different mediums together\, to express your feelings and your emotions. You can work on different substrates (i.e. paper\, cardboard\, canvas\, wood). Learn to recycle\, up-cycle\, re-use\, revamp \nCost:  Casual sessions $55   Check for term fee \nThese classes run with the school-term.\nThe groups are for all levels of experience.\nThey are very friendly and supportive of each other and we also have good FUN !
URL:https://letslearn.nz/event/young-at-art-classes-2/2025-05-28/
CATEGORIES:Mixed Media
ATTACH;FMTTYPE=image/jpeg:https://letslearn.nz/wp-content/uploads/2023/04/Art-Young-at-Art-Blue.jpg
ORGANIZER;CN="Young at Art Studio":MAILTO:youngatartdownunder@gmail.com
END:VEVENT
BEGIN:VEVENT
DTSTART;TZID=Pacific/Auckland:20250530T100000
DTEND;TZID=Pacific/Auckland:20250530T130000
DTSTAMP:20260423T124949
CREATED:20240429T130810Z
LAST-MODIFIED:20241021T030757Z
UID:10020792-1748599200-1748610000@letslearn.nz
SUMMARY:Young at Art Morning Classes
DESCRIPTION:Friday Adult Classes 10 am – 1 pm: Click for info\nThis is for those who are looking for more time to learn\, improve their skills\, seriously play and dig a bit deeper\nSuitable for beginners – experienced levels .Classes held during term time. \n\nDates: Friday mornings \nCost:  – Casual 3 hour sessions are an option at $66 each\nCheck for term fee \n\nTo register :\nPhone: 022- 194 6615 (Joyce)\nEmail: youngatartdownunder@gmail.com
URL:https://letslearn.nz/event/young-at-art-classes-duplicate-1/2025-05-30/
CATEGORIES:Mixed Media
ATTACH;FMTTYPE=image/jpeg:https://letslearn.nz/wp-content/uploads/2024/04/Art-Young-at.jpg
END:VEVENT
END:VCALENDAR