BEGIN:VCALENDAR
VERSION:2.0
PRODID:-//Let&#039;s Learn - ECPv6.15.14//NONSGML v1.0//EN
CALSCALE:GREGORIAN
METHOD:PUBLISH
X-WR-CALNAME:Let&#039;s Learn
X-ORIGINAL-URL:https://letslearn.nz
X-WR-CALDESC:Events for Let&#039;s Learn
REFRESH-INTERVAL;VALUE=DURATION:PT1H
X-Robots-Tag:noindex
X-PUBLISHED-TTL:PT1H
BEGIN:VTIMEZONE
TZID:Pacific/Auckland
BEGIN:STANDARD
TZOFFSETFROM:+1300
TZOFFSETTO:+1200
TZNAME:NZST
DTSTART:20220402T140000
END:STANDARD
BEGIN:DAYLIGHT
TZOFFSETFROM:+1200
TZOFFSETTO:+1300
TZNAME:NZDT
DTSTART:20220924T140000
END:DAYLIGHT
BEGIN:STANDARD
TZOFFSETFROM:+1300
TZOFFSETTO:+1200
TZNAME:NZST
DTSTART:20230401T140000
END:STANDARD
BEGIN:DAYLIGHT
TZOFFSETFROM:+1200
TZOFFSETTO:+1300
TZNAME:NZDT
DTSTART:20230923T140000
END:DAYLIGHT
BEGIN:STANDARD
TZOFFSETFROM:+1300
TZOFFSETTO:+1200
TZNAME:NZST
DTSTART:20240406T140000
END:STANDARD
BEGIN:DAYLIGHT
TZOFFSETFROM:+1200
TZOFFSETTO:+1300
TZNAME:NZDT
DTSTART:20240928T140000
END:DAYLIGHT
END:VTIMEZONE
BEGIN:VEVENT
DTSTART;TZID=Pacific/Auckland:20230528T103000
DTEND;TZID=Pacific/Auckland:20230528T133000
DTSTAMP:20260423T140515
CREATED:20230421T040850Z
LAST-MODIFIED:20230421T040850Z
UID:10007063-1685269800-1685280600@letslearn.nz
SUMMARY:Kombucha Making
DESCRIPTION:Fermenting is a simple process but it needs to be done correctly\, and in this workshop you will discover how we can manage microbial bacteria to produce highly nutritious food. Learn more about the fermentation process and why it’s so important to our health. We will show you how to make your own kombucha drinks at home to enjoy great gut health. \nDate: Sunday 28th May\nTime: 10.30am – 1.30pm (including lunch)\nVenue: Falls Retreat\, 25 Waitawheta Road\, Waikino\nCost: $99 per person \n\n\n\n\nWhat’s included:\n– Nibbles and coffee on arrival\n– Your own scoby to take home\n– Interactive demonstration with Nikki Murray-Orr (Vital Harvest)\n– Take home recipe and instruction booklet\n– Delicious lunch served at our banqueting table. (Cash bar available for drinks) \nWhat to bring: Just yourselves and some enthusiasm!
URL:https://letslearn.nz/event/kombucha-making/
LOCATION:Falls Retreat\, 25 Waitawheta Rd\, Karangahake Gorge
CATEGORIES:Fermented
ATTACH;FMTTYPE=image/jpeg:https://letslearn.nz/wp-content/uploads/2023/04/Food-kombucha-The-Falls.jpg
ORGANIZER;CN="Falls Retreat":MAILTO:info@fallsretreat.co.nz
END:VEVENT
END:VCALENDAR