BEGIN:VCALENDAR
VERSION:2.0
PRODID:-//Let&#039;s Learn - ECPv6.15.14//NONSGML v1.0//EN
CALSCALE:GREGORIAN
METHOD:PUBLISH
X-WR-CALNAME:Let&#039;s Learn
X-ORIGINAL-URL:https://letslearn.nz
X-WR-CALDESC:Events for Let&#039;s Learn
REFRESH-INTERVAL;VALUE=DURATION:PT1H
X-Robots-Tag:noindex
X-PUBLISHED-TTL:PT1H
BEGIN:VTIMEZONE
TZID:Pacific/Auckland
BEGIN:STANDARD
TZOFFSETFROM:+1300
TZOFFSETTO:+1200
TZNAME:NZST
DTSTART:20210403T140000
END:STANDARD
BEGIN:DAYLIGHT
TZOFFSETFROM:+1200
TZOFFSETTO:+1300
TZNAME:NZDT
DTSTART:20210925T140000
END:DAYLIGHT
BEGIN:STANDARD
TZOFFSETFROM:+1300
TZOFFSETTO:+1200
TZNAME:NZST
DTSTART:20220402T140000
END:STANDARD
BEGIN:DAYLIGHT
TZOFFSETFROM:+1200
TZOFFSETTO:+1300
TZNAME:NZDT
DTSTART:20220924T140000
END:DAYLIGHT
BEGIN:STANDARD
TZOFFSETFROM:+1300
TZOFFSETTO:+1200
TZNAME:NZST
DTSTART:20230401T140000
END:STANDARD
BEGIN:DAYLIGHT
TZOFFSETFROM:+1200
TZOFFSETTO:+1300
TZNAME:NZDT
DTSTART:20230923T140000
END:DAYLIGHT
BEGIN:STANDARD
TZOFFSETFROM:+1300
TZOFFSETTO:+1200
TZNAME:NZST
DTSTART:20240406T140000
END:STANDARD
BEGIN:DAYLIGHT
TZOFFSETFROM:+1200
TZOFFSETTO:+1300
TZNAME:NZDT
DTSTART:20240928T140000
END:DAYLIGHT
BEGIN:STANDARD
TZOFFSETFROM:+1300
TZOFFSETTO:+1200
TZNAME:NZST
DTSTART:20250405T140000
END:STANDARD
BEGIN:DAYLIGHT
TZOFFSETFROM:+1200
TZOFFSETTO:+1300
TZNAME:NZDT
DTSTART:20250927T140000
END:DAYLIGHT
BEGIN:STANDARD
TZOFFSETFROM:+1300
TZOFFSETTO:+1200
TZNAME:NZST
DTSTART:20260404T140000
END:STANDARD
BEGIN:DAYLIGHT
TZOFFSETFROM:+1200
TZOFFSETTO:+1300
TZNAME:NZDT
DTSTART:20260926T140000
END:DAYLIGHT
BEGIN:STANDARD
TZOFFSETFROM:+1300
TZOFFSETTO:+1200
TZNAME:NZST
DTSTART:20270403T140000
END:STANDARD
BEGIN:DAYLIGHT
TZOFFSETFROM:+1200
TZOFFSETTO:+1300
TZNAME:NZDT
DTSTART:20270925T140000
END:DAYLIGHT
END:VTIMEZONE
BEGIN:VEVENT
DTSTART;TZID=Pacific/Auckland:20260325T190000
DTEND;TZID=Pacific/Auckland:20260326T213000
DTSTAMP:20260418T002813
CREATED:20200223T010319Z
LAST-MODIFIED:20260116T215118Z
UID:10037921-1774465200-1774560600@letslearn.nz
SUMMARY:Marine Radio Operator Certificate Course
DESCRIPTION:Are you aware that any person operating a maritime VHF radio must hold\, as a minimum requirement\, a Maritime VHF Radio Operator Certificate (unless transmitting in an emergency or a distress situation)? \nOn the course you will cover subjects such as the general features and functions of a maritime VHF radio\, correct distress and urgency procedures for ‘Mayday’ and ‘Pan Pan’ calls\, pro-words and phonetic alphabet\, trip reports\, weather services\, callsigns\, EPIRBS and other search and rescue equipment. \nWhen: 7pm\, Every 4th Wednesday and Thursday evenings (attendance required at both nights)\nPlease call to confirm date on (07) 578 5579\nWhere: Tauranga Volunteer Coastguard\, Sulphur Point\, Tauranga\nCost: $90 pp and payment in full required on booking \nFor more info:\nPhone: 07 578 5578\nEmail: support@taurangacoastguard.co.nz\nWebsite:  www.taurangacoastguard.co.nz. \n 
URL:https://letslearn.nz/event/marine-radio-operator-certificate-course/2026-03-25/
LOCATION:Tauranga Volunteer Coastguard\, Sulphur Point\, Tauranga
CATEGORIES:Boating & Fishing
ATTACH;FMTTYPE=image/jpeg:https://letslearn.nz/wp-content/uploads/2020/02/Marine-Radio.jpg
ORGANIZER;CN="Coastguard Tauranga":MAILTO:support@taurangacoastguard.co.nz
END:VEVENT
BEGIN:VEVENT
DTSTART;TZID=Pacific/Auckland:20260225T190000
DTEND;TZID=Pacific/Auckland:20260226T213000
DTSTAMP:20260418T002813
CREATED:20200223T010319Z
LAST-MODIFIED:20260116T215118Z
UID:10037920-1772046000-1772141400@letslearn.nz
SUMMARY:Marine Radio Operator Certificate Course
DESCRIPTION:Are you aware that any person operating a maritime VHF radio must hold\, as a minimum requirement\, a Maritime VHF Radio Operator Certificate (unless transmitting in an emergency or a distress situation)? \nOn the course you will cover subjects such as the general features and functions of a maritime VHF radio\, correct distress and urgency procedures for ‘Mayday’ and ‘Pan Pan’ calls\, pro-words and phonetic alphabet\, trip reports\, weather services\, callsigns\, EPIRBS and other search and rescue equipment. \nWhen: 7pm\, Every 4th Wednesday and Thursday evenings (attendance required at both nights)\nPlease call to confirm date on (07) 578 5579\nWhere: Tauranga Volunteer Coastguard\, Sulphur Point\, Tauranga\nCost: $90 pp and payment in full required on booking \nFor more info:\nPhone: 07 578 5578\nEmail: support@taurangacoastguard.co.nz\nWebsite:  www.taurangacoastguard.co.nz. \n 
URL:https://letslearn.nz/event/marine-radio-operator-certificate-course/2026-02-25/
LOCATION:Tauranga Volunteer Coastguard\, Sulphur Point\, Tauranga
CATEGORIES:Boating & Fishing
ATTACH;FMTTYPE=image/jpeg:https://letslearn.nz/wp-content/uploads/2020/02/Marine-Radio.jpg
ORGANIZER;CN="Coastguard Tauranga":MAILTO:support@taurangacoastguard.co.nz
END:VEVENT
BEGIN:VEVENT
DTSTART;TZID=Pacific/Auckland:20260128T190000
DTEND;TZID=Pacific/Auckland:20260129T213000
DTSTAMP:20260418T002813
CREATED:20200223T010319Z
LAST-MODIFIED:20260116T215118Z
UID:10037918-1769626800-1769722200@letslearn.nz
SUMMARY:Marine Radio Operator Certificate Course
DESCRIPTION:Are you aware that any person operating a maritime VHF radio must hold\, as a minimum requirement\, a Maritime VHF Radio Operator Certificate (unless transmitting in an emergency or a distress situation)? \nOn the course you will cover subjects such as the general features and functions of a maritime VHF radio\, correct distress and urgency procedures for ‘Mayday’ and ‘Pan Pan’ calls\, pro-words and phonetic alphabet\, trip reports\, weather services\, callsigns\, EPIRBS and other search and rescue equipment. \nWhen: 7pm\, Every 4th Wednesday and Thursday evenings (attendance required at both nights)\nPlease call to confirm date on (07) 578 5579\nWhere: Tauranga Volunteer Coastguard\, Sulphur Point\, Tauranga\nCost: $90 pp and payment in full required on booking \nFor more info:\nPhone: 07 578 5578\nEmail: support@taurangacoastguard.co.nz\nWebsite:  www.taurangacoastguard.co.nz. \n 
URL:https://letslearn.nz/event/marine-radio-operator-certificate-course/2026-01-28/
LOCATION:Tauranga Volunteer Coastguard\, Sulphur Point\, Tauranga
CATEGORIES:Boating & Fishing
ATTACH;FMTTYPE=image/jpeg:https://letslearn.nz/wp-content/uploads/2020/02/Marine-Radio.jpg
ORGANIZER;CN="Coastguard Tauranga":MAILTO:support@taurangacoastguard.co.nz
END:VEVENT
BEGIN:VEVENT
DTSTART;TZID=Pacific/Auckland:20240415T193000
DTEND;TZID=Pacific/Auckland:20240415T213000
DTSTAMP:20260418T002813
CREATED:20230508T210708Z
LAST-MODIFIED:20230508T210727Z
UID:10007081-1713209400-1713216600@letslearn.nz
SUMMARY:Tauranga Anglers Club
DESCRIPTION:This is a friendly trout fishing club.\nVisitors are welcome. \nTrips\, talks and tuition\, magazine and monthly club nights. \nClub nights are the 3rd Monday of every month.\nWhen: Monday 7.30pm\nWhere: Fish & Dive Club Rooms\, Sulphur Point\, Tauranga \nContact\nPhone: President 5441192\nEmail: taurangaanglersclub@hotmail.com\nFacebook: https://www.facebook.com/groups/1805775919451515\nWebsite: https://taurangaanglersclub.webs.com
URL:https://letslearn.nz/event/tuarnga-anglers-club/2024-04-15/
LOCATION:Fish & Dive Club Rooms\, Suphur Point\, Tauranga
CATEGORIES:Boating & Fishing
ATTACH;FMTTYPE=image/jpeg:https://letslearn.nz/wp-content/uploads/2020/01/Tauranga-Anglers-Club-e1578093873566.jpg
ORGANIZER;CN="Tauranga Anglers Club":MAILTO:taurangaanlersclub@hotmail.com
END:VEVENT
BEGIN:VEVENT
DTSTART;TZID=Pacific/Auckland:20240318T193000
DTEND;TZID=Pacific/Auckland:20240318T213000
DTSTAMP:20260418T002813
CREATED:20230508T210708Z
LAST-MODIFIED:20230508T210727Z
UID:10007080-1710790200-1710797400@letslearn.nz
SUMMARY:Tauranga Anglers Club
DESCRIPTION:This is a friendly trout fishing club.\nVisitors are welcome. \nTrips\, talks and tuition\, magazine and monthly club nights. \nClub nights are the 3rd Monday of every month.\nWhen: Monday 7.30pm\nWhere: Fish & Dive Club Rooms\, Sulphur Point\, Tauranga \nContact\nPhone: President 5441192\nEmail: taurangaanglersclub@hotmail.com\nFacebook: https://www.facebook.com/groups/1805775919451515\nWebsite: https://taurangaanglersclub.webs.com
URL:https://letslearn.nz/event/tuarnga-anglers-club/2024-03-18/
LOCATION:Fish & Dive Club Rooms\, Suphur Point\, Tauranga
CATEGORIES:Boating & Fishing
ATTACH;FMTTYPE=image/jpeg:https://letslearn.nz/wp-content/uploads/2020/01/Tauranga-Anglers-Club-e1578093873566.jpg
ORGANIZER;CN="Tauranga Anglers Club":MAILTO:taurangaanlersclub@hotmail.com
END:VEVENT
BEGIN:VEVENT
DTSTART;TZID=Pacific/Auckland:20240219T193000
DTEND;TZID=Pacific/Auckland:20240219T213000
DTSTAMP:20260418T002813
CREATED:20230508T210708Z
LAST-MODIFIED:20230508T210727Z
UID:10007079-1708371000-1708378200@letslearn.nz
SUMMARY:Tauranga Anglers Club
DESCRIPTION:This is a friendly trout fishing club.\nVisitors are welcome. \nTrips\, talks and tuition\, magazine and monthly club nights. \nClub nights are the 3rd Monday of every month.\nWhen: Monday 7.30pm\nWhere: Fish & Dive Club Rooms\, Sulphur Point\, Tauranga \nContact\nPhone: President 5441192\nEmail: taurangaanglersclub@hotmail.com\nFacebook: https://www.facebook.com/groups/1805775919451515\nWebsite: https://taurangaanglersclub.webs.com
URL:https://letslearn.nz/event/tuarnga-anglers-club/2024-02-19/
LOCATION:Fish & Dive Club Rooms\, Suphur Point\, Tauranga
CATEGORIES:Boating & Fishing
ATTACH;FMTTYPE=image/jpeg:https://letslearn.nz/wp-content/uploads/2020/01/Tauranga-Anglers-Club-e1578093873566.jpg
ORGANIZER;CN="Tauranga Anglers Club":MAILTO:taurangaanlersclub@hotmail.com
END:VEVENT
BEGIN:VEVENT
DTSTART;TZID=Pacific/Auckland:20240115T193000
DTEND;TZID=Pacific/Auckland:20240115T213000
DTSTAMP:20260418T002813
CREATED:20230508T210708Z
LAST-MODIFIED:20230508T210727Z
UID:10007078-1705347000-1705354200@letslearn.nz
SUMMARY:Tauranga Anglers Club
DESCRIPTION:This is a friendly trout fishing club.\nVisitors are welcome. \nTrips\, talks and tuition\, magazine and monthly club nights. \nClub nights are the 3rd Monday of every month.\nWhen: Monday 7.30pm\nWhere: Fish & Dive Club Rooms\, Sulphur Point\, Tauranga \nContact\nPhone: President 5441192\nEmail: taurangaanglersclub@hotmail.com\nFacebook: https://www.facebook.com/groups/1805775919451515\nWebsite: https://taurangaanglersclub.webs.com
URL:https://letslearn.nz/event/tuarnga-anglers-club/2024-01-15/
LOCATION:Fish & Dive Club Rooms\, Suphur Point\, Tauranga
CATEGORIES:Boating & Fishing
ATTACH;FMTTYPE=image/jpeg:https://letslearn.nz/wp-content/uploads/2020/01/Tauranga-Anglers-Club-e1578093873566.jpg
ORGANIZER;CN="Tauranga Anglers Club":MAILTO:taurangaanlersclub@hotmail.com
END:VEVENT
BEGIN:VEVENT
DTSTART;TZID=Pacific/Auckland:20231218T193000
DTEND;TZID=Pacific/Auckland:20231218T213000
DTSTAMP:20260418T002813
CREATED:20230508T210708Z
LAST-MODIFIED:20230508T210727Z
UID:10007077-1702927800-1702935000@letslearn.nz
SUMMARY:Tauranga Anglers Club
DESCRIPTION:This is a friendly trout fishing club.\nVisitors are welcome. \nTrips\, talks and tuition\, magazine and monthly club nights. \nClub nights are the 3rd Monday of every month.\nWhen: Monday 7.30pm\nWhere: Fish & Dive Club Rooms\, Sulphur Point\, Tauranga \nContact\nPhone: President 5441192\nEmail: taurangaanglersclub@hotmail.com\nFacebook: https://www.facebook.com/groups/1805775919451515\nWebsite: https://taurangaanglersclub.webs.com
URL:https://letslearn.nz/event/tuarnga-anglers-club/2023-12-18/
LOCATION:Fish & Dive Club Rooms\, Suphur Point\, Tauranga
CATEGORIES:Boating & Fishing
ATTACH;FMTTYPE=image/jpeg:https://letslearn.nz/wp-content/uploads/2020/01/Tauranga-Anglers-Club-e1578093873566.jpg
ORGANIZER;CN="Tauranga Anglers Club":MAILTO:taurangaanlersclub@hotmail.com
END:VEVENT
BEGIN:VEVENT
DTSTART;TZID=Pacific/Auckland:20231120T193000
DTEND;TZID=Pacific/Auckland:20231120T213000
DTSTAMP:20260418T002813
CREATED:20230508T210708Z
LAST-MODIFIED:20230508T210727Z
UID:10007076-1700508600-1700515800@letslearn.nz
SUMMARY:Tauranga Anglers Club
DESCRIPTION:This is a friendly trout fishing club.\nVisitors are welcome. \nTrips\, talks and tuition\, magazine and monthly club nights. \nClub nights are the 3rd Monday of every month.\nWhen: Monday 7.30pm\nWhere: Fish & Dive Club Rooms\, Sulphur Point\, Tauranga \nContact\nPhone: President 5441192\nEmail: taurangaanglersclub@hotmail.com\nFacebook: https://www.facebook.com/groups/1805775919451515\nWebsite: https://taurangaanglersclub.webs.com
URL:https://letslearn.nz/event/tuarnga-anglers-club/2023-11-20/
LOCATION:Fish & Dive Club Rooms\, Suphur Point\, Tauranga
CATEGORIES:Boating & Fishing
ATTACH;FMTTYPE=image/jpeg:https://letslearn.nz/wp-content/uploads/2020/01/Tauranga-Anglers-Club-e1578093873566.jpg
ORGANIZER;CN="Tauranga Anglers Club":MAILTO:taurangaanlersclub@hotmail.com
END:VEVENT
BEGIN:VEVENT
DTSTART;TZID=Pacific/Auckland:20231016T193000
DTEND;TZID=Pacific/Auckland:20231016T213000
DTSTAMP:20260418T002813
CREATED:20230508T210708Z
LAST-MODIFIED:20230508T210727Z
UID:10007075-1697484600-1697491800@letslearn.nz
SUMMARY:Tauranga Anglers Club
DESCRIPTION:This is a friendly trout fishing club.\nVisitors are welcome. \nTrips\, talks and tuition\, magazine and monthly club nights. \nClub nights are the 3rd Monday of every month.\nWhen: Monday 7.30pm\nWhere: Fish & Dive Club Rooms\, Sulphur Point\, Tauranga \nContact\nPhone: President 5441192\nEmail: taurangaanglersclub@hotmail.com\nFacebook: https://www.facebook.com/groups/1805775919451515\nWebsite: https://taurangaanglersclub.webs.com
URL:https://letslearn.nz/event/tuarnga-anglers-club/2023-10-16/
LOCATION:Fish & Dive Club Rooms\, Suphur Point\, Tauranga
CATEGORIES:Boating & Fishing
ATTACH;FMTTYPE=image/jpeg:https://letslearn.nz/wp-content/uploads/2020/01/Tauranga-Anglers-Club-e1578093873566.jpg
ORGANIZER;CN="Tauranga Anglers Club":MAILTO:taurangaanlersclub@hotmail.com
END:VEVENT
BEGIN:VEVENT
DTSTART;TZID=Pacific/Auckland:20230918T193000
DTEND;TZID=Pacific/Auckland:20230918T213000
DTSTAMP:20260418T002813
CREATED:20230508T210708Z
LAST-MODIFIED:20230508T210727Z
UID:10007074-1695065400-1695072600@letslearn.nz
SUMMARY:Tauranga Anglers Club
DESCRIPTION:This is a friendly trout fishing club.\nVisitors are welcome. \nTrips\, talks and tuition\, magazine and monthly club nights. \nClub nights are the 3rd Monday of every month.\nWhen: Monday 7.30pm\nWhere: Fish & Dive Club Rooms\, Sulphur Point\, Tauranga \nContact\nPhone: President 5441192\nEmail: taurangaanglersclub@hotmail.com\nFacebook: https://www.facebook.com/groups/1805775919451515\nWebsite: https://taurangaanglersclub.webs.com
URL:https://letslearn.nz/event/tuarnga-anglers-club/2023-09-18/
LOCATION:Fish & Dive Club Rooms\, Suphur Point\, Tauranga
CATEGORIES:Boating & Fishing
ATTACH;FMTTYPE=image/jpeg:https://letslearn.nz/wp-content/uploads/2020/01/Tauranga-Anglers-Club-e1578093873566.jpg
ORGANIZER;CN="Tauranga Anglers Club":MAILTO:taurangaanlersclub@hotmail.com
END:VEVENT
BEGIN:VEVENT
DTSTART;TZID=Pacific/Auckland:20230821T193000
DTEND;TZID=Pacific/Auckland:20230821T213000
DTSTAMP:20260418T002813
CREATED:20230508T210708Z
LAST-MODIFIED:20230508T210727Z
UID:10007073-1692646200-1692653400@letslearn.nz
SUMMARY:Tauranga Anglers Club
DESCRIPTION:This is a friendly trout fishing club.\nVisitors are welcome. \nTrips\, talks and tuition\, magazine and monthly club nights. \nClub nights are the 3rd Monday of every month.\nWhen: Monday 7.30pm\nWhere: Fish & Dive Club Rooms\, Sulphur Point\, Tauranga \nContact\nPhone: President 5441192\nEmail: taurangaanglersclub@hotmail.com\nFacebook: https://www.facebook.com/groups/1805775919451515\nWebsite: https://taurangaanglersclub.webs.com
URL:https://letslearn.nz/event/tuarnga-anglers-club/2023-08-21/
LOCATION:Fish & Dive Club Rooms\, Suphur Point\, Tauranga
CATEGORIES:Boating & Fishing
ATTACH;FMTTYPE=image/jpeg:https://letslearn.nz/wp-content/uploads/2020/01/Tauranga-Anglers-Club-e1578093873566.jpg
ORGANIZER;CN="Tauranga Anglers Club":MAILTO:taurangaanlersclub@hotmail.com
END:VEVENT
BEGIN:VEVENT
DTSTART;TZID=Pacific/Auckland:20230717T193000
DTEND;TZID=Pacific/Auckland:20230717T213000
DTSTAMP:20260418T002813
CREATED:20230508T210708Z
LAST-MODIFIED:20230508T210727Z
UID:10007072-1689622200-1689629400@letslearn.nz
SUMMARY:Tauranga Anglers Club
DESCRIPTION:This is a friendly trout fishing club.\nVisitors are welcome. \nTrips\, talks and tuition\, magazine and monthly club nights. \nClub nights are the 3rd Monday of every month.\nWhen: Monday 7.30pm\nWhere: Fish & Dive Club Rooms\, Sulphur Point\, Tauranga \nContact\nPhone: President 5441192\nEmail: taurangaanglersclub@hotmail.com\nFacebook: https://www.facebook.com/groups/1805775919451515\nWebsite: https://taurangaanglersclub.webs.com
URL:https://letslearn.nz/event/tuarnga-anglers-club/2023-07-17/
LOCATION:Fish & Dive Club Rooms\, Suphur Point\, Tauranga
CATEGORIES:Boating & Fishing
ATTACH;FMTTYPE=image/jpeg:https://letslearn.nz/wp-content/uploads/2020/01/Tauranga-Anglers-Club-e1578093873566.jpg
ORGANIZER;CN="Tauranga Anglers Club":MAILTO:taurangaanlersclub@hotmail.com
END:VEVENT
BEGIN:VEVENT
DTSTART;TZID=Pacific/Auckland:20230619T193000
DTEND;TZID=Pacific/Auckland:20230619T213000
DTSTAMP:20260418T002813
CREATED:20230508T210708Z
LAST-MODIFIED:20230508T210727Z
UID:10007071-1687203000-1687210200@letslearn.nz
SUMMARY:Tauranga Anglers Club
DESCRIPTION:This is a friendly trout fishing club.\nVisitors are welcome. \nTrips\, talks and tuition\, magazine and monthly club nights. \nClub nights are the 3rd Monday of every month.\nWhen: Monday 7.30pm\nWhere: Fish & Dive Club Rooms\, Sulphur Point\, Tauranga \nContact\nPhone: President 5441192\nEmail: taurangaanglersclub@hotmail.com\nFacebook: https://www.facebook.com/groups/1805775919451515\nWebsite: https://taurangaanglersclub.webs.com
URL:https://letslearn.nz/event/tuarnga-anglers-club/2023-06-19/
LOCATION:Fish & Dive Club Rooms\, Suphur Point\, Tauranga
CATEGORIES:Boating & Fishing
ATTACH;FMTTYPE=image/jpeg:https://letslearn.nz/wp-content/uploads/2020/01/Tauranga-Anglers-Club-e1578093873566.jpg
ORGANIZER;CN="Tauranga Anglers Club":MAILTO:taurangaanlersclub@hotmail.com
END:VEVENT
BEGIN:VEVENT
DTSTART;TZID=Pacific/Auckland:20230515T193000
DTEND;TZID=Pacific/Auckland:20230515T213000
DTSTAMP:20260418T002813
CREATED:20230508T210708Z
LAST-MODIFIED:20230508T210727Z
UID:10007070-1684179000-1684186200@letslearn.nz
SUMMARY:Tauranga Anglers Club
DESCRIPTION:This is a friendly trout fishing club.\nVisitors are welcome. \nTrips\, talks and tuition\, magazine and monthly club nights. \nClub nights are the 3rd Monday of every month.\nWhen: Monday 7.30pm\nWhere: Fish & Dive Club Rooms\, Sulphur Point\, Tauranga \nContact\nPhone: President 5441192\nEmail: taurangaanglersclub@hotmail.com\nFacebook: https://www.facebook.com/groups/1805775919451515\nWebsite: https://taurangaanglersclub.webs.com
URL:https://letslearn.nz/event/tuarnga-anglers-club/2023-05-15/
LOCATION:Fish & Dive Club Rooms\, Suphur Point\, Tauranga
CATEGORIES:Boating & Fishing
ATTACH;FMTTYPE=image/jpeg:https://letslearn.nz/wp-content/uploads/2020/01/Tauranga-Anglers-Club-e1578093873566.jpg
ORGANIZER;CN="Tauranga Anglers Club":MAILTO:taurangaanlersclub@hotmail.com
END:VEVENT
BEGIN:VEVENT
DTSTART;TZID=Pacific/Auckland:20230220T193000
DTEND;TZID=Pacific/Auckland:20230220T213000
DTSTAMP:20260418T002813
CREATED:20230211T083512Z
LAST-MODIFIED:20230211T083512Z
UID:10004016-1676921400-1676928600@letslearn.nz
SUMMARY:Tauranga Anglers Club
DESCRIPTION:This is a friendly trout fishing club.\nVisitors are welcome. \nTrips\, talks and tuition\, magazine and monthly club nights. \nClub nights are the 3rd Monday of every month.\nWhen: Monday 7.30pm\nWhere: Fish & Dive Club Rooms\, Sulphur Point\, Tauranga \nContact\nPhone: President 5441192\nEmail: taurangaanglersclub@hotmail.com\nWebsite: https://taurangaanglersclub.webs.com\nFacebook: https://www.facebook.com/groups/1805775919451515/
URL:https://letslearn.nz/event/tauranga-anglers-club-2/
LOCATION:Fish & Dive Club Rooms\, Suphur Point\, Tauranga
CATEGORIES:Boating & Fishing,Outdoor Recreation
ATTACH;FMTTYPE=image/jpeg:https://letslearn.nz/wp-content/uploads/2020/01/Tauranga-Anglers-Club-e1578093873566.jpg
ORGANIZER;CN="Tauranga Anglers Club":MAILTO:taurangaanlersclub@hotmail.com
END:VEVENT
BEGIN:VEVENT
DTSTART;TZID=Pacific/Auckland:20221121T193000
DTEND;TZID=Pacific/Auckland:20221121T213000
DTSTAMP:20260418T002813
CREATED:20200103T232009Z
LAST-MODIFIED:20221013T205457Z
UID:10004015-1669059000-1669066200@letslearn.nz
SUMMARY:Tauranga Anglers Club
DESCRIPTION:This is a friendly trout fishing club.\nVisitors are welcome. \nTrips\, talks and tuition\, magazine and monthly club nights. \nClub nights are the 3rd Monday of every month.\nWhen: Monday 7.30pm\nWhere: Fish & Dive Club Rooms\, Sulphur Point\, Tauranga \nContact\nPhone: President 5441192\nEmail: taurangaanglersclub@hotmail.com\nWebsite: https://taurangaanglersclub.webs.com\nFacebook: https://www.facebook.com/groups/1805775919451515/
URL:https://letslearn.nz/event/tauranga-anglers-club/2022-11-21/
LOCATION:Fish & Dive Club Rooms\, Suphur Point\, Tauranga
CATEGORIES:Boating & Fishing,Outdoor Recreation
ATTACH;FMTTYPE=image/jpeg:https://letslearn.nz/wp-content/uploads/2020/01/Tauranga-Anglers-Club-e1578093873566.jpg
ORGANIZER;CN="Tauranga Anglers Club":MAILTO:taurangaanlersclub@hotmail.com
END:VEVENT
BEGIN:VEVENT
DTSTART;TZID=Pacific/Auckland:20221017T193000
DTEND;TZID=Pacific/Auckland:20221017T213000
DTSTAMP:20260418T002813
CREATED:20200103T232009Z
LAST-MODIFIED:20221013T205457Z
UID:10004014-1666035000-1666042200@letslearn.nz
SUMMARY:Tauranga Anglers Club
DESCRIPTION:This is a friendly trout fishing club.\nVisitors are welcome. \nTrips\, talks and tuition\, magazine and monthly club nights. \nClub nights are the 3rd Monday of every month.\nWhen: Monday 7.30pm\nWhere: Fish & Dive Club Rooms\, Sulphur Point\, Tauranga \nContact\nPhone: President 5441192\nEmail: taurangaanglersclub@hotmail.com\nWebsite: https://taurangaanglersclub.webs.com\nFacebook: https://www.facebook.com/groups/1805775919451515/
URL:https://letslearn.nz/event/tauranga-anglers-club/2022-10-17/
LOCATION:Fish & Dive Club Rooms\, Suphur Point\, Tauranga
CATEGORIES:Boating & Fishing,Outdoor Recreation
ATTACH;FMTTYPE=image/jpeg:https://letslearn.nz/wp-content/uploads/2020/01/Tauranga-Anglers-Club-e1578093873566.jpg
ORGANIZER;CN="Tauranga Anglers Club":MAILTO:taurangaanlersclub@hotmail.com
END:VEVENT
END:VCALENDAR