BEGIN:VCALENDAR
VERSION:2.0
PRODID:-//Let&#039;s Learn - ECPv6.15.14//NONSGML v1.0//EN
CALSCALE:GREGORIAN
METHOD:PUBLISH
X-ORIGINAL-URL:https://letslearn.nz
X-WR-CALDESC:Events for Let&#039;s Learn
REFRESH-INTERVAL;VALUE=DURATION:PT1H
X-Robots-Tag:noindex
X-PUBLISHED-TTL:PT1H
BEGIN:VTIMEZONE
TZID:Pacific/Auckland
BEGIN:STANDARD
TZOFFSETFROM:+1300
TZOFFSETTO:+1200
TZNAME:NZST
DTSTART:20250405T140000
END:STANDARD
BEGIN:DAYLIGHT
TZOFFSETFROM:+1200
TZOFFSETTO:+1300
TZNAME:NZDT
DTSTART:20250927T140000
END:DAYLIGHT
BEGIN:STANDARD
TZOFFSETFROM:+1300
TZOFFSETTO:+1200
TZNAME:NZST
DTSTART:20260404T140000
END:STANDARD
BEGIN:DAYLIGHT
TZOFFSETFROM:+1200
TZOFFSETTO:+1300
TZNAME:NZDT
DTSTART:20260926T140000
END:DAYLIGHT
BEGIN:STANDARD
TZOFFSETFROM:+1300
TZOFFSETTO:+1200
TZNAME:NZST
DTSTART:20270403T140000
END:STANDARD
BEGIN:DAYLIGHT
TZOFFSETFROM:+1200
TZOFFSETTO:+1300
TZNAME:NZDT
DTSTART:20270925T140000
END:DAYLIGHT
END:VTIMEZONE
BEGIN:VEVENT
DTSTART;TZID=Pacific/Auckland:20260603T130000
DTEND;TZID=Pacific/Auckland:20260603T150000
DTSTAMP:20260421T050144
CREATED:20250204T204033Z
LAST-MODIFIED:20250204T211357Z
UID:10029036-1780491600-1780498800@letslearn.nz
SUMMARY:Digital Drop-Ins at Mount & Greerton Libraries
DESCRIPTION:Have you got a digital dilemma and need some help? Come along to one of our weekly Drop-in sessions. \nBring in your own device for help using library apps\, accessing online memberships and applications\, installing software\, or setting up a new device. \nThis is a first-in\, first-served\, drop-in service. No booking required. \nTwo Venues:\nGreerton Library\, 139 Greerton Road\, Greerton\nWhen: Wednesdays from 1pm to 3pm\nCost: Free \nMount  Library\, 398 Maunganui Road\, Mount Maunganui\nWhen: Wednesdays from 9.30am – 11.30am\nCost:  Free
URL:https://letslearn.nz/event/digital-drop-in-at-greerton-library/2026-06-03/
LOCATION:Greerton Library\, 139 Greerton Road\, Tauranga
CATEGORIES:Devices,Seniors
ATTACH;FMTTYPE=image/png:https://letslearn.nz/wp-content/uploads/2025/02/Digital-Greerton.png
ORGANIZER;CN="Tauranga Libraries - Te Ao M%C4%81rama":MAILTO:library@tauranga.govt.nz 
END:VEVENT
BEGIN:VEVENT
DTSTART;TZID=Pacific/Auckland:20260604T130000
DTEND;TZID=Pacific/Auckland:20260604T150000
DTSTAMP:20260421T050144
CREATED:20250204T211713Z
LAST-MODIFIED:20250204T211713Z
UID:10030078-1780578000-1780585200@letslearn.nz
SUMMARY:Digital Drop-In at Papamoa Library
DESCRIPTION:Have you got a digital dilemma and need some help? Come along to one of our weekly Drop-in sessions. \nBring in your own device for help using library apps\, accessing online memberships and applications\, installing software\, or setting up a new device. \nThis is a first-in\, first-served\, drop-in service. No booking required. \nVenue:\nPapamoa Library\, 15 Gravatt Road\, Papamoa\nWhen: Thursdays from 1pm to 3pm\nCost: Free \n 
URL:https://letslearn.nz/event/digital-drop-in-at-papamoa-library/2026-06-04/
LOCATION:Papamoa Library\, 15 Gravatt Road\, Papamoa
CATEGORIES:Devices,Seniors
ATTACH;FMTTYPE=image/png:https://letslearn.nz/wp-content/uploads/2025/02/Digital-Greerton.png
ORGANIZER;CN="Tauranga Libraries - Te Ao M%C4%81rama":MAILTO:library@tauranga.govt.nz 
END:VEVENT
BEGIN:VEVENT
DTSTART;TZID=Pacific/Auckland:20260608T100000
DTEND;TZID=Pacific/Auckland:20260608T170000
DTSTAMP:20260421T050144
CREATED:20250130T162319Z
LAST-MODIFIED:20250130T163056Z
UID:10028210-1780912800-1780938000@letslearn.nz
SUMMARY:What's On at Your Library
DESCRIPTION:From Knitting & Knattering to Chess\, from Rummikub to Genealogy plus a host of activities in between\, libraries are true community hubs. Check out what is on the programme and geared for adults in your area.\nhttps://library.tauranga.govt.nz/whats-on/adult-events
URL:https://letslearn.nz/event/whats-on-at-your-library/2026-06-08/
CATEGORIES:Book Clubs,Card Games,Chess,Free,Free IT Courses,Genealogy,Knitting,Legal,Reading,Rummicub,Scrabble,Seniors
ATTACH;FMTTYPE=image/jpeg:https://letslearn.nz/wp-content/uploads/2025/01/Library-logos.jpg
ORGANIZER;CN="Tauranga Libraries - Te Ao M%C4%81rama":MAILTO:library@tauranga.govt.nz 
END:VEVENT
BEGIN:VEVENT
DTSTART;TZID=Pacific/Auckland:20260610T130000
DTEND;TZID=Pacific/Auckland:20260610T150000
DTSTAMP:20260421T050144
CREATED:20250204T204033Z
LAST-MODIFIED:20250204T211357Z
UID:10029037-1781096400-1781103600@letslearn.nz
SUMMARY:Digital Drop-Ins at Mount & Greerton Libraries
DESCRIPTION:Have you got a digital dilemma and need some help? Come along to one of our weekly Drop-in sessions. \nBring in your own device for help using library apps\, accessing online memberships and applications\, installing software\, or setting up a new device. \nThis is a first-in\, first-served\, drop-in service. No booking required. \nTwo Venues:\nGreerton Library\, 139 Greerton Road\, Greerton\nWhen: Wednesdays from 1pm to 3pm\nCost: Free \nMount  Library\, 398 Maunganui Road\, Mount Maunganui\nWhen: Wednesdays from 9.30am – 11.30am\nCost:  Free
URL:https://letslearn.nz/event/digital-drop-in-at-greerton-library/2026-06-10/
LOCATION:Greerton Library\, 139 Greerton Road\, Tauranga
CATEGORIES:Devices,Seniors
ATTACH;FMTTYPE=image/png:https://letslearn.nz/wp-content/uploads/2025/02/Digital-Greerton.png
ORGANIZER;CN="Tauranga Libraries - Te Ao M%C4%81rama":MAILTO:library@tauranga.govt.nz 
END:VEVENT
BEGIN:VEVENT
DTSTART;TZID=Pacific/Auckland:20260611T130000
DTEND;TZID=Pacific/Auckland:20260611T150000
DTSTAMP:20260421T050144
CREATED:20250204T211713Z
LAST-MODIFIED:20250204T211713Z
UID:10030079-1781182800-1781190000@letslearn.nz
SUMMARY:Digital Drop-In at Papamoa Library
DESCRIPTION:Have you got a digital dilemma and need some help? Come along to one of our weekly Drop-in sessions. \nBring in your own device for help using library apps\, accessing online memberships and applications\, installing software\, or setting up a new device. \nThis is a first-in\, first-served\, drop-in service. No booking required. \nVenue:\nPapamoa Library\, 15 Gravatt Road\, Papamoa\nWhen: Thursdays from 1pm to 3pm\nCost: Free \n 
URL:https://letslearn.nz/event/digital-drop-in-at-papamoa-library/2026-06-11/
LOCATION:Papamoa Library\, 15 Gravatt Road\, Papamoa
CATEGORIES:Devices,Seniors
ATTACH;FMTTYPE=image/png:https://letslearn.nz/wp-content/uploads/2025/02/Digital-Greerton.png
ORGANIZER;CN="Tauranga Libraries - Te Ao M%C4%81rama":MAILTO:library@tauranga.govt.nz 
END:VEVENT
BEGIN:VEVENT
DTSTART;TZID=Pacific/Auckland:20260617T130000
DTEND;TZID=Pacific/Auckland:20260617T150000
DTSTAMP:20260421T050144
CREATED:20250204T204033Z
LAST-MODIFIED:20250204T211357Z
UID:10029038-1781701200-1781708400@letslearn.nz
SUMMARY:Digital Drop-Ins at Mount & Greerton Libraries
DESCRIPTION:Have you got a digital dilemma and need some help? Come along to one of our weekly Drop-in sessions. \nBring in your own device for help using library apps\, accessing online memberships and applications\, installing software\, or setting up a new device. \nThis is a first-in\, first-served\, drop-in service. No booking required. \nTwo Venues:\nGreerton Library\, 139 Greerton Road\, Greerton\nWhen: Wednesdays from 1pm to 3pm\nCost: Free \nMount  Library\, 398 Maunganui Road\, Mount Maunganui\nWhen: Wednesdays from 9.30am – 11.30am\nCost:  Free
URL:https://letslearn.nz/event/digital-drop-in-at-greerton-library/2026-06-17/
LOCATION:Greerton Library\, 139 Greerton Road\, Tauranga
CATEGORIES:Devices,Seniors
ATTACH;FMTTYPE=image/png:https://letslearn.nz/wp-content/uploads/2025/02/Digital-Greerton.png
ORGANIZER;CN="Tauranga Libraries - Te Ao M%C4%81rama":MAILTO:library@tauranga.govt.nz 
END:VEVENT
BEGIN:VEVENT
DTSTART;TZID=Pacific/Auckland:20260618T130000
DTEND;TZID=Pacific/Auckland:20260618T150000
DTSTAMP:20260421T050144
CREATED:20250204T211713Z
LAST-MODIFIED:20250204T211713Z
UID:10030080-1781787600-1781794800@letslearn.nz
SUMMARY:Digital Drop-In at Papamoa Library
DESCRIPTION:Have you got a digital dilemma and need some help? Come along to one of our weekly Drop-in sessions. \nBring in your own device for help using library apps\, accessing online memberships and applications\, installing software\, or setting up a new device. \nThis is a first-in\, first-served\, drop-in service. No booking required. \nVenue:\nPapamoa Library\, 15 Gravatt Road\, Papamoa\nWhen: Thursdays from 1pm to 3pm\nCost: Free \n 
URL:https://letslearn.nz/event/digital-drop-in-at-papamoa-library/2026-06-18/
LOCATION:Papamoa Library\, 15 Gravatt Road\, Papamoa
CATEGORIES:Devices,Seniors
ATTACH;FMTTYPE=image/png:https://letslearn.nz/wp-content/uploads/2025/02/Digital-Greerton.png
ORGANIZER;CN="Tauranga Libraries - Te Ao M%C4%81rama":MAILTO:library@tauranga.govt.nz 
END:VEVENT
BEGIN:VEVENT
DTSTART;TZID=Pacific/Auckland:20260622T100000
DTEND;TZID=Pacific/Auckland:20260622T170000
DTSTAMP:20260421T050144
CREATED:20250130T162319Z
LAST-MODIFIED:20250130T163056Z
UID:10028211-1782122400-1782147600@letslearn.nz
SUMMARY:What's On at Your Library
DESCRIPTION:From Knitting & Knattering to Chess\, from Rummikub to Genealogy plus a host of activities in between\, libraries are true community hubs. Check out what is on the programme and geared for adults in your area.\nhttps://library.tauranga.govt.nz/whats-on/adult-events
URL:https://letslearn.nz/event/whats-on-at-your-library/2026-06-22/
CATEGORIES:Book Clubs,Card Games,Chess,Free,Free IT Courses,Genealogy,Knitting,Legal,Reading,Rummicub,Scrabble,Seniors
ATTACH;FMTTYPE=image/jpeg:https://letslearn.nz/wp-content/uploads/2025/01/Library-logos.jpg
ORGANIZER;CN="Tauranga Libraries - Te Ao M%C4%81rama":MAILTO:library@tauranga.govt.nz 
END:VEVENT
BEGIN:VEVENT
DTSTART;TZID=Pacific/Auckland:20260624T130000
DTEND;TZID=Pacific/Auckland:20260624T150000
DTSTAMP:20260421T050144
CREATED:20250204T204033Z
LAST-MODIFIED:20250204T211357Z
UID:10029039-1782306000-1782313200@letslearn.nz
SUMMARY:Digital Drop-Ins at Mount & Greerton Libraries
DESCRIPTION:Have you got a digital dilemma and need some help? Come along to one of our weekly Drop-in sessions. \nBring in your own device for help using library apps\, accessing online memberships and applications\, installing software\, or setting up a new device. \nThis is a first-in\, first-served\, drop-in service. No booking required. \nTwo Venues:\nGreerton Library\, 139 Greerton Road\, Greerton\nWhen: Wednesdays from 1pm to 3pm\nCost: Free \nMount  Library\, 398 Maunganui Road\, Mount Maunganui\nWhen: Wednesdays from 9.30am – 11.30am\nCost:  Free
URL:https://letslearn.nz/event/digital-drop-in-at-greerton-library/2026-06-24/
LOCATION:Greerton Library\, 139 Greerton Road\, Tauranga
CATEGORIES:Devices,Seniors
ATTACH;FMTTYPE=image/png:https://letslearn.nz/wp-content/uploads/2025/02/Digital-Greerton.png
ORGANIZER;CN="Tauranga Libraries - Te Ao M%C4%81rama":MAILTO:library@tauranga.govt.nz 
END:VEVENT
BEGIN:VEVENT
DTSTART;TZID=Pacific/Auckland:20260625T130000
DTEND;TZID=Pacific/Auckland:20260625T150000
DTSTAMP:20260421T050144
CREATED:20250204T211713Z
LAST-MODIFIED:20250204T211713Z
UID:10030081-1782392400-1782399600@letslearn.nz
SUMMARY:Digital Drop-In at Papamoa Library
DESCRIPTION:Have you got a digital dilemma and need some help? Come along to one of our weekly Drop-in sessions. \nBring in your own device for help using library apps\, accessing online memberships and applications\, installing software\, or setting up a new device. \nThis is a first-in\, first-served\, drop-in service. No booking required. \nVenue:\nPapamoa Library\, 15 Gravatt Road\, Papamoa\nWhen: Thursdays from 1pm to 3pm\nCost: Free \n 
URL:https://letslearn.nz/event/digital-drop-in-at-papamoa-library/2026-06-25/
LOCATION:Papamoa Library\, 15 Gravatt Road\, Papamoa
CATEGORIES:Devices,Seniors
ATTACH;FMTTYPE=image/png:https://letslearn.nz/wp-content/uploads/2025/02/Digital-Greerton.png
ORGANIZER;CN="Tauranga Libraries - Te Ao M%C4%81rama":MAILTO:library@tauranga.govt.nz 
END:VEVENT
END:VCALENDAR