BEGIN:VCALENDAR
VERSION:2.0
PRODID:-//Let&#039;s Learn - ECPv6.15.14//NONSGML v1.0//EN
CALSCALE:GREGORIAN
METHOD:PUBLISH
X-WR-CALNAME:Let&#039;s Learn
X-ORIGINAL-URL:https://letslearn.nz
X-WR-CALDESC:Events for Let&#039;s Learn
REFRESH-INTERVAL;VALUE=DURATION:PT1H
X-Robots-Tag:noindex
X-PUBLISHED-TTL:PT1H
BEGIN:VTIMEZONE
TZID:Pacific/Auckland
BEGIN:STANDARD
TZOFFSETFROM:+1300
TZOFFSETTO:+1200
TZNAME:NZST
DTSTART:20250405T140000
END:STANDARD
BEGIN:DAYLIGHT
TZOFFSETFROM:+1200
TZOFFSETTO:+1300
TZNAME:NZDT
DTSTART:20250927T140000
END:DAYLIGHT
BEGIN:STANDARD
TZOFFSETFROM:+1300
TZOFFSETTO:+1200
TZNAME:NZST
DTSTART:20260404T140000
END:STANDARD
BEGIN:DAYLIGHT
TZOFFSETFROM:+1200
TZOFFSETTO:+1300
TZNAME:NZDT
DTSTART:20260926T140000
END:DAYLIGHT
BEGIN:STANDARD
TZOFFSETFROM:+1300
TZOFFSETTO:+1200
TZNAME:NZST
DTSTART:20270403T140000
END:STANDARD
BEGIN:DAYLIGHT
TZOFFSETFROM:+1200
TZOFFSETTO:+1300
TZNAME:NZDT
DTSTART:20270925T140000
END:DAYLIGHT
END:VTIMEZONE
BEGIN:VEVENT
DTSTART;TZID=Pacific/Auckland:20260902T130000
DTEND;TZID=Pacific/Auckland:20260902T150000
DTSTAMP:20260424T201235
CREATED:20250204T204033Z
LAST-MODIFIED:20250204T211357Z
UID:10029049-1788354000-1788361200@letslearn.nz
SUMMARY:Digital Drop-Ins at Mount & Greerton Libraries
DESCRIPTION:Have you got a digital dilemma and need some help? Come along to one of our weekly Drop-in sessions. \nBring in your own device for help using library apps\, accessing online memberships and applications\, installing software\, or setting up a new device. \nThis is a first-in\, first-served\, drop-in service. No booking required. \nTwo Venues:\nGreerton Library\, 139 Greerton Road\, Greerton\nWhen: Wednesdays from 1pm to 3pm\nCost: Free \nMount  Library\, 398 Maunganui Road\, Mount Maunganui\nWhen: Wednesdays from 9.30am – 11.30am\nCost:  Free
URL:https://letslearn.nz/event/digital-drop-in-at-greerton-library/2026-09-02/
LOCATION:Greerton Library\, 139 Greerton Road\, Tauranga
CATEGORIES:Devices,Seniors
ATTACH;FMTTYPE=image/png:https://letslearn.nz/wp-content/uploads/2025/02/Digital-Greerton.png
ORGANIZER;CN="Tauranga Libraries - Te Ao M%C4%81rama":MAILTO:library@tauranga.govt.nz 
END:VEVENT
BEGIN:VEVENT
DTSTART;TZID=Pacific/Auckland:20260903T130000
DTEND;TZID=Pacific/Auckland:20260903T150000
DTSTAMP:20260424T201235
CREATED:20250204T211713Z
LAST-MODIFIED:20250204T211713Z
UID:10030091-1788440400-1788447600@letslearn.nz
SUMMARY:Digital Drop-In at Papamoa Library
DESCRIPTION:Have you got a digital dilemma and need some help? Come along to one of our weekly Drop-in sessions. \nBring in your own device for help using library apps\, accessing online memberships and applications\, installing software\, or setting up a new device. \nThis is a first-in\, first-served\, drop-in service. No booking required. \nVenue:\nPapamoa Library\, 15 Gravatt Road\, Papamoa\nWhen: Thursdays from 1pm to 3pm\nCost: Free \n 
URL:https://letslearn.nz/event/digital-drop-in-at-papamoa-library/2026-09-03/
LOCATION:Papamoa Library\, 15 Gravatt Road\, Papamoa
CATEGORIES:Devices,Seniors
ATTACH;FMTTYPE=image/png:https://letslearn.nz/wp-content/uploads/2025/02/Digital-Greerton.png
ORGANIZER;CN="Tauranga Libraries - Te Ao M%C4%81rama":MAILTO:library@tauranga.govt.nz 
END:VEVENT
BEGIN:VEVENT
DTSTART;TZID=Pacific/Auckland:20260909T130000
DTEND;TZID=Pacific/Auckland:20260909T150000
DTSTAMP:20260424T201235
CREATED:20250204T204033Z
LAST-MODIFIED:20250204T211357Z
UID:10029050-1788958800-1788966000@letslearn.nz
SUMMARY:Digital Drop-Ins at Mount & Greerton Libraries
DESCRIPTION:Have you got a digital dilemma and need some help? Come along to one of our weekly Drop-in sessions. \nBring in your own device for help using library apps\, accessing online memberships and applications\, installing software\, or setting up a new device. \nThis is a first-in\, first-served\, drop-in service. No booking required. \nTwo Venues:\nGreerton Library\, 139 Greerton Road\, Greerton\nWhen: Wednesdays from 1pm to 3pm\nCost: Free \nMount  Library\, 398 Maunganui Road\, Mount Maunganui\nWhen: Wednesdays from 9.30am – 11.30am\nCost:  Free
URL:https://letslearn.nz/event/digital-drop-in-at-greerton-library/2026-09-09/
LOCATION:Greerton Library\, 139 Greerton Road\, Tauranga
CATEGORIES:Devices,Seniors
ATTACH;FMTTYPE=image/png:https://letslearn.nz/wp-content/uploads/2025/02/Digital-Greerton.png
ORGANIZER;CN="Tauranga Libraries - Te Ao M%C4%81rama":MAILTO:library@tauranga.govt.nz 
END:VEVENT
BEGIN:VEVENT
DTSTART;TZID=Pacific/Auckland:20260910T130000
DTEND;TZID=Pacific/Auckland:20260910T150000
DTSTAMP:20260424T201235
CREATED:20250204T211713Z
LAST-MODIFIED:20250204T211713Z
UID:10030092-1789045200-1789052400@letslearn.nz
SUMMARY:Digital Drop-In at Papamoa Library
DESCRIPTION:Have you got a digital dilemma and need some help? Come along to one of our weekly Drop-in sessions. \nBring in your own device for help using library apps\, accessing online memberships and applications\, installing software\, or setting up a new device. \nThis is a first-in\, first-served\, drop-in service. No booking required. \nVenue:\nPapamoa Library\, 15 Gravatt Road\, Papamoa\nWhen: Thursdays from 1pm to 3pm\nCost: Free \n 
URL:https://letslearn.nz/event/digital-drop-in-at-papamoa-library/2026-09-10/
LOCATION:Papamoa Library\, 15 Gravatt Road\, Papamoa
CATEGORIES:Devices,Seniors
ATTACH;FMTTYPE=image/png:https://letslearn.nz/wp-content/uploads/2025/02/Digital-Greerton.png
ORGANIZER;CN="Tauranga Libraries - Te Ao M%C4%81rama":MAILTO:library@tauranga.govt.nz 
END:VEVENT
BEGIN:VEVENT
DTSTART;TZID=Pacific/Auckland:20260914T100000
DTEND;TZID=Pacific/Auckland:20260914T170000
DTSTAMP:20260424T201235
CREATED:20250130T162319Z
LAST-MODIFIED:20250130T163056Z
UID:10028215-1789380000-1789405200@letslearn.nz
SUMMARY:What's On at Your Library
DESCRIPTION:From Knitting & Knattering to Chess\, from Rummikub to Genealogy plus a host of activities in between\, libraries are true community hubs. Check out what is on the programme and geared for adults in your area.\nhttps://library.tauranga.govt.nz/whats-on/adult-events
URL:https://letslearn.nz/event/whats-on-at-your-library/2026-09-14/
CATEGORIES:Book Clubs,Card Games,Chess,Free,Free IT Courses,Genealogy,Knitting,Legal,Reading,Rummicub,Scrabble,Seniors
ATTACH;FMTTYPE=image/jpeg:https://letslearn.nz/wp-content/uploads/2025/01/Library-logos.jpg
ORGANIZER;CN="Tauranga Libraries - Te Ao M%C4%81rama":MAILTO:library@tauranga.govt.nz 
END:VEVENT
BEGIN:VEVENT
DTSTART;TZID=Pacific/Auckland:20260916T130000
DTEND;TZID=Pacific/Auckland:20260916T150000
DTSTAMP:20260424T201235
CREATED:20250204T204033Z
LAST-MODIFIED:20250204T211357Z
UID:10029051-1789563600-1789570800@letslearn.nz
SUMMARY:Digital Drop-Ins at Mount & Greerton Libraries
DESCRIPTION:Have you got a digital dilemma and need some help? Come along to one of our weekly Drop-in sessions. \nBring in your own device for help using library apps\, accessing online memberships and applications\, installing software\, or setting up a new device. \nThis is a first-in\, first-served\, drop-in service. No booking required. \nTwo Venues:\nGreerton Library\, 139 Greerton Road\, Greerton\nWhen: Wednesdays from 1pm to 3pm\nCost: Free \nMount  Library\, 398 Maunganui Road\, Mount Maunganui\nWhen: Wednesdays from 9.30am – 11.30am\nCost:  Free
URL:https://letslearn.nz/event/digital-drop-in-at-greerton-library/2026-09-16/
LOCATION:Greerton Library\, 139 Greerton Road\, Tauranga
CATEGORIES:Devices,Seniors
ATTACH;FMTTYPE=image/png:https://letslearn.nz/wp-content/uploads/2025/02/Digital-Greerton.png
ORGANIZER;CN="Tauranga Libraries - Te Ao M%C4%81rama":MAILTO:library@tauranga.govt.nz 
END:VEVENT
BEGIN:VEVENT
DTSTART;TZID=Pacific/Auckland:20260917T130000
DTEND;TZID=Pacific/Auckland:20260917T150000
DTSTAMP:20260424T201235
CREATED:20250204T211713Z
LAST-MODIFIED:20250204T211713Z
UID:10030093-1789650000-1789657200@letslearn.nz
SUMMARY:Digital Drop-In at Papamoa Library
DESCRIPTION:Have you got a digital dilemma and need some help? Come along to one of our weekly Drop-in sessions. \nBring in your own device for help using library apps\, accessing online memberships and applications\, installing software\, or setting up a new device. \nThis is a first-in\, first-served\, drop-in service. No booking required. \nVenue:\nPapamoa Library\, 15 Gravatt Road\, Papamoa\nWhen: Thursdays from 1pm to 3pm\nCost: Free \n 
URL:https://letslearn.nz/event/digital-drop-in-at-papamoa-library/2026-09-17/
LOCATION:Papamoa Library\, 15 Gravatt Road\, Papamoa
CATEGORIES:Devices,Seniors
ATTACH;FMTTYPE=image/png:https://letslearn.nz/wp-content/uploads/2025/02/Digital-Greerton.png
ORGANIZER;CN="Tauranga Libraries - Te Ao M%C4%81rama":MAILTO:library@tauranga.govt.nz 
END:VEVENT
BEGIN:VEVENT
DTSTART;TZID=Pacific/Auckland:20260923T130000
DTEND;TZID=Pacific/Auckland:20260923T150000
DTSTAMP:20260424T201235
CREATED:20250204T204033Z
LAST-MODIFIED:20250204T211357Z
UID:10029052-1790168400-1790175600@letslearn.nz
SUMMARY:Digital Drop-Ins at Mount & Greerton Libraries
DESCRIPTION:Have you got a digital dilemma and need some help? Come along to one of our weekly Drop-in sessions. \nBring in your own device for help using library apps\, accessing online memberships and applications\, installing software\, or setting up a new device. \nThis is a first-in\, first-served\, drop-in service. No booking required. \nTwo Venues:\nGreerton Library\, 139 Greerton Road\, Greerton\nWhen: Wednesdays from 1pm to 3pm\nCost: Free \nMount  Library\, 398 Maunganui Road\, Mount Maunganui\nWhen: Wednesdays from 9.30am – 11.30am\nCost:  Free
URL:https://letslearn.nz/event/digital-drop-in-at-greerton-library/2026-09-23/
LOCATION:Greerton Library\, 139 Greerton Road\, Tauranga
CATEGORIES:Devices,Seniors
ATTACH;FMTTYPE=image/png:https://letslearn.nz/wp-content/uploads/2025/02/Digital-Greerton.png
ORGANIZER;CN="Tauranga Libraries - Te Ao M%C4%81rama":MAILTO:library@tauranga.govt.nz 
END:VEVENT
BEGIN:VEVENT
DTSTART;TZID=Pacific/Auckland:20260924T130000
DTEND;TZID=Pacific/Auckland:20260924T150000
DTSTAMP:20260424T201235
CREATED:20250204T211713Z
LAST-MODIFIED:20250204T211713Z
UID:10030094-1790254800-1790262000@letslearn.nz
SUMMARY:Digital Drop-In at Papamoa Library
DESCRIPTION:Have you got a digital dilemma and need some help? Come along to one of our weekly Drop-in sessions. \nBring in your own device for help using library apps\, accessing online memberships and applications\, installing software\, or setting up a new device. \nThis is a first-in\, first-served\, drop-in service. No booking required. \nVenue:\nPapamoa Library\, 15 Gravatt Road\, Papamoa\nWhen: Thursdays from 1pm to 3pm\nCost: Free \n 
URL:https://letslearn.nz/event/digital-drop-in-at-papamoa-library/2026-09-24/
LOCATION:Papamoa Library\, 15 Gravatt Road\, Papamoa
CATEGORIES:Devices,Seniors
ATTACH;FMTTYPE=image/png:https://letslearn.nz/wp-content/uploads/2025/02/Digital-Greerton.png
ORGANIZER;CN="Tauranga Libraries - Te Ao M%C4%81rama":MAILTO:library@tauranga.govt.nz 
END:VEVENT
BEGIN:VEVENT
DTSTART;TZID=Pacific/Auckland:20260928T100000
DTEND;TZID=Pacific/Auckland:20260928T170000
DTSTAMP:20260424T201235
CREATED:20250130T162319Z
LAST-MODIFIED:20250130T163056Z
UID:10028216-1790589600-1790614800@letslearn.nz
SUMMARY:What's On at Your Library
DESCRIPTION:From Knitting & Knattering to Chess\, from Rummikub to Genealogy plus a host of activities in between\, libraries are true community hubs. Check out what is on the programme and geared for adults in your area.\nhttps://library.tauranga.govt.nz/whats-on/adult-events
URL:https://letslearn.nz/event/whats-on-at-your-library/2026-09-28/
CATEGORIES:Book Clubs,Card Games,Chess,Free,Free IT Courses,Genealogy,Knitting,Legal,Reading,Rummicub,Scrabble,Seniors
ATTACH;FMTTYPE=image/jpeg:https://letslearn.nz/wp-content/uploads/2025/01/Library-logos.jpg
ORGANIZER;CN="Tauranga Libraries - Te Ao M%C4%81rama":MAILTO:library@tauranga.govt.nz 
END:VEVENT
BEGIN:VEVENT
DTSTART;TZID=Pacific/Auckland:20260930T130000
DTEND;TZID=Pacific/Auckland:20260930T150000
DTSTAMP:20260424T201235
CREATED:20250204T204033Z
LAST-MODIFIED:20250204T211357Z
UID:10029053-1790773200-1790780400@letslearn.nz
SUMMARY:Digital Drop-Ins at Mount & Greerton Libraries
DESCRIPTION:Have you got a digital dilemma and need some help? Come along to one of our weekly Drop-in sessions. \nBring in your own device for help using library apps\, accessing online memberships and applications\, installing software\, or setting up a new device. \nThis is a first-in\, first-served\, drop-in service. No booking required. \nTwo Venues:\nGreerton Library\, 139 Greerton Road\, Greerton\nWhen: Wednesdays from 1pm to 3pm\nCost: Free \nMount  Library\, 398 Maunganui Road\, Mount Maunganui\nWhen: Wednesdays from 9.30am – 11.30am\nCost:  Free
URL:https://letslearn.nz/event/digital-drop-in-at-greerton-library/2026-09-30/
LOCATION:Greerton Library\, 139 Greerton Road\, Tauranga
CATEGORIES:Devices,Seniors
ATTACH;FMTTYPE=image/png:https://letslearn.nz/wp-content/uploads/2025/02/Digital-Greerton.png
ORGANIZER;CN="Tauranga Libraries - Te Ao M%C4%81rama":MAILTO:library@tauranga.govt.nz 
END:VEVENT
END:VCALENDAR