BEGIN:VCALENDAR
VERSION:2.0
PRODID:-//Let&#039;s Learn - ECPv6.15.14//NONSGML v1.0//EN
CALSCALE:GREGORIAN
METHOD:PUBLISH
X-ORIGINAL-URL:https://letslearn.nz
X-WR-CALDESC:Events for Let&#039;s Learn
REFRESH-INTERVAL;VALUE=DURATION:PT1H
X-Robots-Tag:noindex
X-PUBLISHED-TTL:PT1H
BEGIN:VTIMEZONE
TZID:Pacific/Auckland
BEGIN:STANDARD
TZOFFSETFROM:+1300
TZOFFSETTO:+1200
TZNAME:NZST
DTSTART:20250405T140000
END:STANDARD
BEGIN:DAYLIGHT
TZOFFSETFROM:+1200
TZOFFSETTO:+1300
TZNAME:NZDT
DTSTART:20250927T140000
END:DAYLIGHT
BEGIN:STANDARD
TZOFFSETFROM:+1300
TZOFFSETTO:+1200
TZNAME:NZST
DTSTART:20260404T140000
END:STANDARD
BEGIN:DAYLIGHT
TZOFFSETFROM:+1200
TZOFFSETTO:+1300
TZNAME:NZDT
DTSTART:20260926T140000
END:DAYLIGHT
BEGIN:STANDARD
TZOFFSETFROM:+1300
TZOFFSETTO:+1200
TZNAME:NZST
DTSTART:20270403T140000
END:STANDARD
BEGIN:DAYLIGHT
TZOFFSETFROM:+1200
TZOFFSETTO:+1300
TZNAME:NZDT
DTSTART:20270925T140000
END:DAYLIGHT
END:VTIMEZONE
BEGIN:VEVENT
DTSTART;TZID=Pacific/Auckland:20261104T130000
DTEND;TZID=Pacific/Auckland:20261104T150000
DTSTAMP:20260425T233517
CREATED:20250204T204033Z
LAST-MODIFIED:20250204T211357Z
UID:10029058-1793797200-1793804400@letslearn.nz
SUMMARY:Digital Drop-Ins at Mount & Greerton Libraries
DESCRIPTION:Have you got a digital dilemma and need some help? Come along to one of our weekly Drop-in sessions. \nBring in your own device for help using library apps\, accessing online memberships and applications\, installing software\, or setting up a new device. \nThis is a first-in\, first-served\, drop-in service. No booking required. \nTwo Venues:\nGreerton Library\, 139 Greerton Road\, Greerton\nWhen: Wednesdays from 1pm to 3pm\nCost: Free \nMount  Library\, 398 Maunganui Road\, Mount Maunganui\nWhen: Wednesdays from 9.30am – 11.30am\nCost:  Free
URL:https://letslearn.nz/event/digital-drop-in-at-greerton-library/2026-11-04/
LOCATION:Greerton Library\, 139 Greerton Road\, Tauranga
CATEGORIES:Devices,Seniors
ATTACH;FMTTYPE=image/png:https://letslearn.nz/wp-content/uploads/2025/02/Digital-Greerton.png
ORGANIZER;CN="Tauranga Libraries - Te Ao M%C4%81rama":MAILTO:library@tauranga.govt.nz 
END:VEVENT
BEGIN:VEVENT
DTSTART;TZID=Pacific/Auckland:20261105T130000
DTEND;TZID=Pacific/Auckland:20261105T150000
DTSTAMP:20260425T233517
CREATED:20250204T211713Z
LAST-MODIFIED:20250204T211713Z
UID:10030100-1793883600-1793890800@letslearn.nz
SUMMARY:Digital Drop-In at Papamoa Library
DESCRIPTION:Have you got a digital dilemma and need some help? Come along to one of our weekly Drop-in sessions. \nBring in your own device for help using library apps\, accessing online memberships and applications\, installing software\, or setting up a new device. \nThis is a first-in\, first-served\, drop-in service. No booking required. \nVenue:\nPapamoa Library\, 15 Gravatt Road\, Papamoa\nWhen: Thursdays from 1pm to 3pm\nCost: Free \n 
URL:https://letslearn.nz/event/digital-drop-in-at-papamoa-library/2026-11-05/
LOCATION:Papamoa Library\, 15 Gravatt Road\, Papamoa
CATEGORIES:Devices,Seniors
ATTACH;FMTTYPE=image/png:https://letslearn.nz/wp-content/uploads/2025/02/Digital-Greerton.png
ORGANIZER;CN="Tauranga Libraries - Te Ao M%C4%81rama":MAILTO:library@tauranga.govt.nz 
END:VEVENT
BEGIN:VEVENT
DTSTART;TZID=Pacific/Auckland:20261109T100000
DTEND;TZID=Pacific/Auckland:20261109T170000
DTSTAMP:20260425T233517
CREATED:20250130T162319Z
LAST-MODIFIED:20250130T163056Z
UID:10028219-1794218400-1794243600@letslearn.nz
SUMMARY:What's On at Your Library
DESCRIPTION:From Knitting & Knattering to Chess\, from Rummikub to Genealogy plus a host of activities in between\, libraries are true community hubs. Check out what is on the programme and geared for adults in your area.\nhttps://library.tauranga.govt.nz/whats-on/adult-events
URL:https://letslearn.nz/event/whats-on-at-your-library/2026-11-09/
CATEGORIES:Book Clubs,Card Games,Chess,Free,Free IT Courses,Genealogy,Knitting,Legal,Reading,Rummicub,Scrabble,Seniors
ATTACH;FMTTYPE=image/jpeg:https://letslearn.nz/wp-content/uploads/2025/01/Library-logos.jpg
ORGANIZER;CN="Tauranga Libraries - Te Ao M%C4%81rama":MAILTO:library@tauranga.govt.nz 
END:VEVENT
BEGIN:VEVENT
DTSTART;TZID=Pacific/Auckland:20261111T130000
DTEND;TZID=Pacific/Auckland:20261111T150000
DTSTAMP:20260425T233517
CREATED:20250204T204033Z
LAST-MODIFIED:20250204T211357Z
UID:10029059-1794402000-1794409200@letslearn.nz
SUMMARY:Digital Drop-Ins at Mount & Greerton Libraries
DESCRIPTION:Have you got a digital dilemma and need some help? Come along to one of our weekly Drop-in sessions. \nBring in your own device for help using library apps\, accessing online memberships and applications\, installing software\, or setting up a new device. \nThis is a first-in\, first-served\, drop-in service. No booking required. \nTwo Venues:\nGreerton Library\, 139 Greerton Road\, Greerton\nWhen: Wednesdays from 1pm to 3pm\nCost: Free \nMount  Library\, 398 Maunganui Road\, Mount Maunganui\nWhen: Wednesdays from 9.30am – 11.30am\nCost:  Free
URL:https://letslearn.nz/event/digital-drop-in-at-greerton-library/2026-11-11/
LOCATION:Greerton Library\, 139 Greerton Road\, Tauranga
CATEGORIES:Devices,Seniors
ATTACH;FMTTYPE=image/png:https://letslearn.nz/wp-content/uploads/2025/02/Digital-Greerton.png
ORGANIZER;CN="Tauranga Libraries - Te Ao M%C4%81rama":MAILTO:library@tauranga.govt.nz 
END:VEVENT
BEGIN:VEVENT
DTSTART;TZID=Pacific/Auckland:20261112T130000
DTEND;TZID=Pacific/Auckland:20261112T150000
DTSTAMP:20260425T233517
CREATED:20250204T211713Z
LAST-MODIFIED:20250204T211713Z
UID:10030101-1794488400-1794495600@letslearn.nz
SUMMARY:Digital Drop-In at Papamoa Library
DESCRIPTION:Have you got a digital dilemma and need some help? Come along to one of our weekly Drop-in sessions. \nBring in your own device for help using library apps\, accessing online memberships and applications\, installing software\, or setting up a new device. \nThis is a first-in\, first-served\, drop-in service. No booking required. \nVenue:\nPapamoa Library\, 15 Gravatt Road\, Papamoa\nWhen: Thursdays from 1pm to 3pm\nCost: Free \n 
URL:https://letslearn.nz/event/digital-drop-in-at-papamoa-library/2026-11-12/
LOCATION:Papamoa Library\, 15 Gravatt Road\, Papamoa
CATEGORIES:Devices,Seniors
ATTACH;FMTTYPE=image/png:https://letslearn.nz/wp-content/uploads/2025/02/Digital-Greerton.png
ORGANIZER;CN="Tauranga Libraries - Te Ao M%C4%81rama":MAILTO:library@tauranga.govt.nz 
END:VEVENT
BEGIN:VEVENT
DTSTART;TZID=Pacific/Auckland:20261118T130000
DTEND;TZID=Pacific/Auckland:20261118T150000
DTSTAMP:20260425T233517
CREATED:20250204T204033Z
LAST-MODIFIED:20250204T211357Z
UID:10029060-1795006800-1795014000@letslearn.nz
SUMMARY:Digital Drop-Ins at Mount & Greerton Libraries
DESCRIPTION:Have you got a digital dilemma and need some help? Come along to one of our weekly Drop-in sessions. \nBring in your own device for help using library apps\, accessing online memberships and applications\, installing software\, or setting up a new device. \nThis is a first-in\, first-served\, drop-in service. No booking required. \nTwo Venues:\nGreerton Library\, 139 Greerton Road\, Greerton\nWhen: Wednesdays from 1pm to 3pm\nCost: Free \nMount  Library\, 398 Maunganui Road\, Mount Maunganui\nWhen: Wednesdays from 9.30am – 11.30am\nCost:  Free
URL:https://letslearn.nz/event/digital-drop-in-at-greerton-library/2026-11-18/
LOCATION:Greerton Library\, 139 Greerton Road\, Tauranga
CATEGORIES:Devices,Seniors
ATTACH;FMTTYPE=image/png:https://letslearn.nz/wp-content/uploads/2025/02/Digital-Greerton.png
ORGANIZER;CN="Tauranga Libraries - Te Ao M%C4%81rama":MAILTO:library@tauranga.govt.nz 
END:VEVENT
BEGIN:VEVENT
DTSTART;TZID=Pacific/Auckland:20261119T130000
DTEND;TZID=Pacific/Auckland:20261119T150000
DTSTAMP:20260425T233517
CREATED:20250204T211713Z
LAST-MODIFIED:20250204T211713Z
UID:10030102-1795093200-1795100400@letslearn.nz
SUMMARY:Digital Drop-In at Papamoa Library
DESCRIPTION:Have you got a digital dilemma and need some help? Come along to one of our weekly Drop-in sessions. \nBring in your own device for help using library apps\, accessing online memberships and applications\, installing software\, or setting up a new device. \nThis is a first-in\, first-served\, drop-in service. No booking required. \nVenue:\nPapamoa Library\, 15 Gravatt Road\, Papamoa\nWhen: Thursdays from 1pm to 3pm\nCost: Free \n 
URL:https://letslearn.nz/event/digital-drop-in-at-papamoa-library/2026-11-19/
LOCATION:Papamoa Library\, 15 Gravatt Road\, Papamoa
CATEGORIES:Devices,Seniors
ATTACH;FMTTYPE=image/png:https://letslearn.nz/wp-content/uploads/2025/02/Digital-Greerton.png
ORGANIZER;CN="Tauranga Libraries - Te Ao M%C4%81rama":MAILTO:library@tauranga.govt.nz 
END:VEVENT
BEGIN:VEVENT
DTSTART;TZID=Pacific/Auckland:20261123T100000
DTEND;TZID=Pacific/Auckland:20261123T170000
DTSTAMP:20260425T233517
CREATED:20250130T162319Z
LAST-MODIFIED:20250130T163056Z
UID:10028220-1795428000-1795453200@letslearn.nz
SUMMARY:What's On at Your Library
DESCRIPTION:From Knitting & Knattering to Chess\, from Rummikub to Genealogy plus a host of activities in between\, libraries are true community hubs. Check out what is on the programme and geared for adults in your area.\nhttps://library.tauranga.govt.nz/whats-on/adult-events
URL:https://letslearn.nz/event/whats-on-at-your-library/2026-11-23/
CATEGORIES:Book Clubs,Card Games,Chess,Free,Free IT Courses,Genealogy,Knitting,Legal,Reading,Rummicub,Scrabble,Seniors
ATTACH;FMTTYPE=image/jpeg:https://letslearn.nz/wp-content/uploads/2025/01/Library-logos.jpg
ORGANIZER;CN="Tauranga Libraries - Te Ao M%C4%81rama":MAILTO:library@tauranga.govt.nz 
END:VEVENT
BEGIN:VEVENT
DTSTART;TZID=Pacific/Auckland:20261125T130000
DTEND;TZID=Pacific/Auckland:20261125T150000
DTSTAMP:20260425T233517
CREATED:20250204T204033Z
LAST-MODIFIED:20250204T211357Z
UID:10029061-1795611600-1795618800@letslearn.nz
SUMMARY:Digital Drop-Ins at Mount & Greerton Libraries
DESCRIPTION:Have you got a digital dilemma and need some help? Come along to one of our weekly Drop-in sessions. \nBring in your own device for help using library apps\, accessing online memberships and applications\, installing software\, or setting up a new device. \nThis is a first-in\, first-served\, drop-in service. No booking required. \nTwo Venues:\nGreerton Library\, 139 Greerton Road\, Greerton\nWhen: Wednesdays from 1pm to 3pm\nCost: Free \nMount  Library\, 398 Maunganui Road\, Mount Maunganui\nWhen: Wednesdays from 9.30am – 11.30am\nCost:  Free
URL:https://letslearn.nz/event/digital-drop-in-at-greerton-library/2026-11-25/
LOCATION:Greerton Library\, 139 Greerton Road\, Tauranga
CATEGORIES:Devices,Seniors
ATTACH;FMTTYPE=image/png:https://letslearn.nz/wp-content/uploads/2025/02/Digital-Greerton.png
ORGANIZER;CN="Tauranga Libraries - Te Ao M%C4%81rama":MAILTO:library@tauranga.govt.nz 
END:VEVENT
BEGIN:VEVENT
DTSTART;TZID=Pacific/Auckland:20261126T130000
DTEND;TZID=Pacific/Auckland:20261126T150000
DTSTAMP:20260425T233517
CREATED:20250204T211713Z
LAST-MODIFIED:20250204T211713Z
UID:10030103-1795698000-1795705200@letslearn.nz
SUMMARY:Digital Drop-In at Papamoa Library
DESCRIPTION:Have you got a digital dilemma and need some help? Come along to one of our weekly Drop-in sessions. \nBring in your own device for help using library apps\, accessing online memberships and applications\, installing software\, or setting up a new device. \nThis is a first-in\, first-served\, drop-in service. No booking required. \nVenue:\nPapamoa Library\, 15 Gravatt Road\, Papamoa\nWhen: Thursdays from 1pm to 3pm\nCost: Free \n 
URL:https://letslearn.nz/event/digital-drop-in-at-papamoa-library/2026-11-26/
LOCATION:Papamoa Library\, 15 Gravatt Road\, Papamoa
CATEGORIES:Devices,Seniors
ATTACH;FMTTYPE=image/png:https://letslearn.nz/wp-content/uploads/2025/02/Digital-Greerton.png
ORGANIZER;CN="Tauranga Libraries - Te Ao M%C4%81rama":MAILTO:library@tauranga.govt.nz 
END:VEVENT
END:VCALENDAR