BEGIN:VCALENDAR
VERSION:2.0
PRODID:-//Let&#039;s Learn - ECPv6.15.14//NONSGML v1.0//EN
CALSCALE:GREGORIAN
METHOD:PUBLISH
X-WR-CALNAME:Let&#039;s Learn
X-ORIGINAL-URL:https://letslearn.nz
X-WR-CALDESC:Events for Let&#039;s Learn
REFRESH-INTERVAL;VALUE=DURATION:PT1H
X-Robots-Tag:noindex
X-PUBLISHED-TTL:PT1H
BEGIN:VTIMEZONE
TZID:Pacific/Auckland
BEGIN:STANDARD
TZOFFSETFROM:+1300
TZOFFSETTO:+1200
TZNAME:NZST
DTSTART:20250405T140000
END:STANDARD
BEGIN:DAYLIGHT
TZOFFSETFROM:+1200
TZOFFSETTO:+1300
TZNAME:NZDT
DTSTART:20250927T140000
END:DAYLIGHT
BEGIN:STANDARD
TZOFFSETFROM:+1300
TZOFFSETTO:+1200
TZNAME:NZST
DTSTART:20260404T140000
END:STANDARD
BEGIN:DAYLIGHT
TZOFFSETFROM:+1200
TZOFFSETTO:+1300
TZNAME:NZDT
DTSTART:20260926T140000
END:DAYLIGHT
BEGIN:STANDARD
TZOFFSETFROM:+1300
TZOFFSETTO:+1200
TZNAME:NZST
DTSTART:20270403T140000
END:STANDARD
BEGIN:DAYLIGHT
TZOFFSETFROM:+1200
TZOFFSETTO:+1300
TZNAME:NZDT
DTSTART:20270925T140000
END:DAYLIGHT
END:VTIMEZONE
BEGIN:VEVENT
DTSTART;TZID=Pacific/Auckland:20260104T133000
DTEND;TZID=Pacific/Auckland:20260104T160000
DTSTAMP:20260422T205505
CREATED:20230311T050522Z
LAST-MODIFIED:20250809T231511Z
UID:10035002-1767533400-1767542400@letslearn.nz
SUMMARY:Medieval Sword Fighting
DESCRIPTION:The Northern Horde of Tauranga are a Medieval re-enactment group\, we meet for combat training\, archery\, dance and crafts. \nLearn to fight with swords\, axes\, spears etc in a controlled and safe environment. \nWhere: Memorial Park\, Tauranga\nWhen: Sundays 1.30pm \nFor info: Charlie: 021 296 0215
URL:https://letslearn.nz/event/medieval-sword-fighting-2/2026-01-04/
LOCATION:Memorial Park\, 11th Avenue\, Tauranga
CATEGORIES:Metal Craft,Re-enactments,Woodcraft
ATTACH;FMTTYPE=image/jpeg:https://letslearn.nz/wp-content/uploads/2021/02/Blokes-Northern-Horde.jpg
ORGANIZER;CN="Northern Horde Medieval Group":MAILTO:GoTheHorde@gmail.com
END:VEVENT
BEGIN:VEVENT
DTSTART;TZID=Pacific/Auckland:20260106T100000
DTEND;TZID=Pacific/Auckland:20260106T113000
DTSTAMP:20260422T205505
CREATED:20250130T170052Z
LAST-MODIFIED:20250130T170415Z
UID:10028453-1767693600-1767699000@letslearn.nz
SUMMARY:Just Wanna Have Fun at Greerton Library
DESCRIPTION:Keen to try something new\, have fun and meet new people?\nCome along to Te Ao Mārama – Greerton Library on Tuesdays to join in a different activity each week.\nWith craft workshops\, board games\, and fun with robots\, you won’t want to miss a week! \nProgramme information: \n\n4 February – Waitangi Day Activities\n11 February – Valentines Card Making\n18 February – Movie Morning\n25 February – Lunar New Year Paper Craft\n4 March – Lego Fun\n11 March – Saint Patrick’s Day Crafts\n18 March – Digi Fun\n25 March – Bingo\n1 April – Dachshund Love: Stories and Craft\n8 April – Dot Art\n\nFor adults. Groups welcome (if your group is more then 5+ please let us know in advance)\nNo booking required. Just turn up. \n\n\n\n\n\n\n\n\n\n\n\n\n\n\nLocation: Te Ao Mārama – Greerton Library\, 139 Greerton Road \n\n\n\n\n\n\n\n \nAccessibility\nAccessible bathrooms\nAccessible seating available\nCertified disability assist dogs welcome\nMobility parking spaces\nWheelchair access \n\n\n\nDisclaimer: While we endeavour to ensure the event information on this website is accurate we accept no liability for its accuracy or the accuracy of the content of any websites accessed through the links provided.
URL:https://letslearn.nz/event/just-wanna-have-fun-at-greerton-library/2026-01-06/
LOCATION:Greerton Library\, 139 Greerton Road\, Tauranga
CATEGORIES:Film,Games,Papercrafts
ATTACH;FMTTYPE=image/png:https://letslearn.nz/wp-content/uploads/2025/01/Library-Have-Fun.png
ORGANIZER;CN="Tauranga Libraries - Te Ao M%C4%81rama":MAILTO:library@tauranga.govt.nz 
END:VEVENT
BEGIN:VEVENT
DTSTART;TZID=Pacific/Auckland:20260107T083000
DTEND;TZID=Pacific/Auckland:20260107T120000
DTSTAMP:20260422T205505
CREATED:20250311T224231Z
LAST-MODIFIED:20250312T193523Z
UID:10032069-1767774600-1767787200@letslearn.nz
SUMMARY:The Katikati Coffin Club
DESCRIPTION:Where Members: \n\nMeet socially\nDiscuss the question of Death\nPlan their ‘Last Farewell’\nHelp other Members make & decorate Coffins\nMake their own traditional or modern Coffin\nMake & decorate coffins for special needs – ie. Still Born Babies\n\nLifetime Membership: $10-00\n\nThe Coffin Club meets: \nDay and Time: every Wednesday from 8-30am to noon\nAddress: 78 Prestidge Road\, Katikati \nContact: Danny: 021 204 4302\nEmail: kkcoffinclub@gmail.com
URL:https://letslearn.nz/event/the-katikati-coffin-club/2026-01-07/
LOCATION:78 Prestidge Road\, Katikati
CATEGORIES:DIY,Woodcraft,Woodcraft
ATTACH;FMTTYPE=image/jpeg:https://letslearn.nz/wp-content/uploads/2017/01/Coffin-making-1-e1484637365205.jpg
ORGANIZER;CN="Katikati Coffin Club":MAILTO:kkcoffinclub@gmail.com
END:VEVENT
BEGIN:VEVENT
DTSTART;TZID=Pacific/Auckland:20260107T100000
DTEND;TZID=Pacific/Auckland:20260107T120000
DTSTAMP:20260422T205505
CREATED:20230421T013058Z
LAST-MODIFIED:20251109T151754Z
UID:10035981-1767780000-1767787200@letslearn.nz
SUMMARY:Scrapbooking at Craftables
DESCRIPTION:If you are a complete new beginner\, or a seasoned scrapbooker wanting to get back into it\, we have a wonderful group of ladies already who are just itching to make some new friends. \nAlbums to fit all the special moments and places in your life ! \nPaula is the teacher at the shop on Wednesday 10am to 12 noon – and spaces are available. \nThe classes are usual 1.5 to 2 hours\, and we welcome all experience levels. \nIf you have a standard scrapbooking kit (trimmer\, scissors\, double-sided tape\, glue)\, please bring it along; if not\, please don’t worry; we can lend you gear on the day. \nThe cost is $18 (this includes the product and instructions to make the layout). \nIf you’re interested in booking into this class\, flick me an email at: cayla@craftables.co.nz. We do run a booking system\, so please call us if you want to come along to reserve a space (07 579 4615). \nCheck out the Craftables Calendar for upcoming events and classes.
URL:https://letslearn.nz/event/scrapbooking-at-craftables-2/2026-01-07/
LOCATION:Craftables\, Unit 3\, 17B Minden Rd\,Te Puna\, Tauranga
CATEGORIES:Papercrafts
ATTACH;FMTTYPE=image/jpeg:https://letslearn.nz/wp-content/uploads/2023/04/Craft-Scrapbooking.jpg
ORGANIZER;CN="Craftables":MAILTO:mike@craftables.co.nz or paula@creaftables.co.nz
END:VEVENT
BEGIN:VEVENT
DTSTART;TZID=Pacific/Auckland:20260111T133000
DTEND;TZID=Pacific/Auckland:20260111T160000
DTSTAMP:20260422T205505
CREATED:20230311T050522Z
LAST-MODIFIED:20250809T231511Z
UID:10035003-1768138200-1768147200@letslearn.nz
SUMMARY:Medieval Sword Fighting
DESCRIPTION:The Northern Horde of Tauranga are a Medieval re-enactment group\, we meet for combat training\, archery\, dance and crafts. \nLearn to fight with swords\, axes\, spears etc in a controlled and safe environment. \nWhere: Memorial Park\, Tauranga\nWhen: Sundays 1.30pm \nFor info: Charlie: 021 296 0215
URL:https://letslearn.nz/event/medieval-sword-fighting-2/2026-01-11/
LOCATION:Memorial Park\, 11th Avenue\, Tauranga
CATEGORIES:Metal Craft,Re-enactments,Woodcraft
ATTACH;FMTTYPE=image/jpeg:https://letslearn.nz/wp-content/uploads/2021/02/Blokes-Northern-Horde.jpg
ORGANIZER;CN="Northern Horde Medieval Group":MAILTO:GoTheHorde@gmail.com
END:VEVENT
BEGIN:VEVENT
DTSTART;TZID=Pacific/Auckland:20260113T100000
DTEND;TZID=Pacific/Auckland:20260113T113000
DTSTAMP:20260422T205505
CREATED:20250130T170052Z
LAST-MODIFIED:20250130T170415Z
UID:10028454-1768298400-1768303800@letslearn.nz
SUMMARY:Just Wanna Have Fun at Greerton Library
DESCRIPTION:Keen to try something new\, have fun and meet new people?\nCome along to Te Ao Mārama – Greerton Library on Tuesdays to join in a different activity each week.\nWith craft workshops\, board games\, and fun with robots\, you won’t want to miss a week! \nProgramme information: \n\n4 February – Waitangi Day Activities\n11 February – Valentines Card Making\n18 February – Movie Morning\n25 February – Lunar New Year Paper Craft\n4 March – Lego Fun\n11 March – Saint Patrick’s Day Crafts\n18 March – Digi Fun\n25 March – Bingo\n1 April – Dachshund Love: Stories and Craft\n8 April – Dot Art\n\nFor adults. Groups welcome (if your group is more then 5+ please let us know in advance)\nNo booking required. Just turn up. \n\n\n\n\n\n\n\n\n\n\n\n\n\n\nLocation: Te Ao Mārama – Greerton Library\, 139 Greerton Road \n\n\n\n\n\n\n\n \nAccessibility\nAccessible bathrooms\nAccessible seating available\nCertified disability assist dogs welcome\nMobility parking spaces\nWheelchair access \n\n\n\nDisclaimer: While we endeavour to ensure the event information on this website is accurate we accept no liability for its accuracy or the accuracy of the content of any websites accessed through the links provided.
URL:https://letslearn.nz/event/just-wanna-have-fun-at-greerton-library/2026-01-13/
LOCATION:Greerton Library\, 139 Greerton Road\, Tauranga
CATEGORIES:Film,Games,Papercrafts
ATTACH;FMTTYPE=image/png:https://letslearn.nz/wp-content/uploads/2025/01/Library-Have-Fun.png
ORGANIZER;CN="Tauranga Libraries - Te Ao M%C4%81rama":MAILTO:library@tauranga.govt.nz 
END:VEVENT
BEGIN:VEVENT
DTSTART;TZID=Pacific/Auckland:20260114T083000
DTEND;TZID=Pacific/Auckland:20260114T120000
DTSTAMP:20260422T205505
CREATED:20250311T224231Z
LAST-MODIFIED:20250312T193523Z
UID:10032070-1768379400-1768392000@letslearn.nz
SUMMARY:The Katikati Coffin Club
DESCRIPTION:Where Members: \n\nMeet socially\nDiscuss the question of Death\nPlan their ‘Last Farewell’\nHelp other Members make & decorate Coffins\nMake their own traditional or modern Coffin\nMake & decorate coffins for special needs – ie. Still Born Babies\n\nLifetime Membership: $10-00\n\nThe Coffin Club meets: \nDay and Time: every Wednesday from 8-30am to noon\nAddress: 78 Prestidge Road\, Katikati \nContact: Danny: 021 204 4302\nEmail: kkcoffinclub@gmail.com
URL:https://letslearn.nz/event/the-katikati-coffin-club/2026-01-14/
LOCATION:78 Prestidge Road\, Katikati
CATEGORIES:DIY,Woodcraft,Woodcraft
ATTACH;FMTTYPE=image/jpeg:https://letslearn.nz/wp-content/uploads/2017/01/Coffin-making-1-e1484637365205.jpg
ORGANIZER;CN="Katikati Coffin Club":MAILTO:kkcoffinclub@gmail.com
END:VEVENT
BEGIN:VEVENT
DTSTART;TZID=Pacific/Auckland:20260116T180000
DTEND;TZID=Pacific/Auckland:20260116T200000
DTSTAMP:20260422T205505
CREATED:20260115T200306Z
LAST-MODIFIED:20260115T201406Z
UID:10037915-1768586400-1768593600@letslearn.nz
SUMMARY:DIY Bingo Craft Party
DESCRIPTION:Presented by: The Incubator Creative Hub and Sew Love\nNew year resolutions are out — bingo boards are in! \nJoin an evening of gel pens\, watercolour pencils\, collage snips and fresh-start energy as we dream and design an epic year ahead. You’ll fill your bingo board with a mix of small joys and big aspirations\, in doodles\, pictures or words. Think of it as a playful\, personal roadmap that celebrates our progress every step of the way. \nSarah will guide you with prompts and inspiration to help you reflect on what matters most\, but the creative expression is all yours. This isn’t a drawing class\, it’s your permission slip to explore\, imagine\, and set intentions your own way. \nAll materials provided: A4 art paper\, pens\, pencils\, watercolours\, collage papers\, tools. \nThis is a supportive group workshop. You decide what to keep private\, what to share\, and which squares can stay blank until you’re ready. Vulnerability is welcome\, pressure is not. Let’s create a year worth cheering for\, one bingo row at a time! \nSarah Sew Love is a self proclaimed “hype girl for YOUR sustainable sewing journey”! She’s been sewing\, blogging\, gramming and teaching sewing for over 10 years through her sewcial enterprise Sew Love and she’s now calling Tauranga home. Sarah’s known for popping up workshops all over NZ; alongside markets\, conferences\, schools\, community houses & recycle centres to share her passion for sewing skills and sustainable living. “DIYing the reusables we need\, repairing the things we love\, embracing sewing slow and sewing together with others – it all makes our lives more special!” In recent years she’s mostly known for her sellout upcycled scrap bum bags and dancing around on instagram but hosting workshops is her homebase of happiness. Rest assured the energy is just the same in real life so come join one of her workshops this winter in our Social Fabric room. With big smiles and rainbow fabric scraps\, her workshops always provide a safe space and encouragement for everyone’s creativity and self expression through sewing. \n\n\n\n\nWhen : Friday 16th January 2026  6pm -8pm\nWhere :  Creative Community Campus\, Historic Village\, 17rh Ave\, Tauranga\nCost : $20 \nTicket Info
URL:https://letslearn.nz/event/diy-bingo-craft/
LOCATION:Creative Community Campus\, 159 17th Avenue\, Tauranga South
CATEGORIES:Crafts,Papercrafts
ATTACH;FMTTYPE=image/png:https://letslearn.nz/wp-content/uploads/2026/01/Inc-Bingo-Craft.png
ORGANIZER;CN="The Incubator Creative Hub%2C Historic Village%2C 17th Ave%2C Tauranga":MAILTO:info@theincubator.co.nz
END:VEVENT
BEGIN:VEVENT
DTSTART;TZID=Pacific/Auckland:20260118T133000
DTEND;TZID=Pacific/Auckland:20260118T160000
DTSTAMP:20260422T205505
CREATED:20230311T050522Z
LAST-MODIFIED:20250809T231511Z
UID:10035004-1768743000-1768752000@letslearn.nz
SUMMARY:Medieval Sword Fighting
DESCRIPTION:The Northern Horde of Tauranga are a Medieval re-enactment group\, we meet for combat training\, archery\, dance and crafts. \nLearn to fight with swords\, axes\, spears etc in a controlled and safe environment. \nWhere: Memorial Park\, Tauranga\nWhen: Sundays 1.30pm \nFor info: Charlie: 021 296 0215
URL:https://letslearn.nz/event/medieval-sword-fighting-2/2026-01-18/
LOCATION:Memorial Park\, 11th Avenue\, Tauranga
CATEGORIES:Metal Craft,Re-enactments,Woodcraft
ATTACH;FMTTYPE=image/jpeg:https://letslearn.nz/wp-content/uploads/2021/02/Blokes-Northern-Horde.jpg
ORGANIZER;CN="Northern Horde Medieval Group":MAILTO:GoTheHorde@gmail.com
END:VEVENT
BEGIN:VEVENT
DTSTART;TZID=Pacific/Auckland:20260120T100000
DTEND;TZID=Pacific/Auckland:20260120T113000
DTSTAMP:20260422T205505
CREATED:20250130T170052Z
LAST-MODIFIED:20250130T170415Z
UID:10028455-1768903200-1768908600@letslearn.nz
SUMMARY:Just Wanna Have Fun at Greerton Library
DESCRIPTION:Keen to try something new\, have fun and meet new people?\nCome along to Te Ao Mārama – Greerton Library on Tuesdays to join in a different activity each week.\nWith craft workshops\, board games\, and fun with robots\, you won’t want to miss a week! \nProgramme information: \n\n4 February – Waitangi Day Activities\n11 February – Valentines Card Making\n18 February – Movie Morning\n25 February – Lunar New Year Paper Craft\n4 March – Lego Fun\n11 March – Saint Patrick’s Day Crafts\n18 March – Digi Fun\n25 March – Bingo\n1 April – Dachshund Love: Stories and Craft\n8 April – Dot Art\n\nFor adults. Groups welcome (if your group is more then 5+ please let us know in advance)\nNo booking required. Just turn up. \n\n\n\n\n\n\n\n\n\n\n\n\n\n\nLocation: Te Ao Mārama – Greerton Library\, 139 Greerton Road \n\n\n\n\n\n\n\n \nAccessibility\nAccessible bathrooms\nAccessible seating available\nCertified disability assist dogs welcome\nMobility parking spaces\nWheelchair access \n\n\n\nDisclaimer: While we endeavour to ensure the event information on this website is accurate we accept no liability for its accuracy or the accuracy of the content of any websites accessed through the links provided.
URL:https://letslearn.nz/event/just-wanna-have-fun-at-greerton-library/2026-01-20/
LOCATION:Greerton Library\, 139 Greerton Road\, Tauranga
CATEGORIES:Film,Games,Papercrafts
ATTACH;FMTTYPE=image/png:https://letslearn.nz/wp-content/uploads/2025/01/Library-Have-Fun.png
ORGANIZER;CN="Tauranga Libraries - Te Ao M%C4%81rama":MAILTO:library@tauranga.govt.nz 
END:VEVENT
BEGIN:VEVENT
DTSTART;TZID=Pacific/Auckland:20260121T083000
DTEND;TZID=Pacific/Auckland:20260121T120000
DTSTAMP:20260422T205505
CREATED:20250311T224231Z
LAST-MODIFIED:20250312T193523Z
UID:10032071-1768984200-1768996800@letslearn.nz
SUMMARY:The Katikati Coffin Club
DESCRIPTION:Where Members: \n\nMeet socially\nDiscuss the question of Death\nPlan their ‘Last Farewell’\nHelp other Members make & decorate Coffins\nMake their own traditional or modern Coffin\nMake & decorate coffins for special needs – ie. Still Born Babies\n\nLifetime Membership: $10-00\n\nThe Coffin Club meets: \nDay and Time: every Wednesday from 8-30am to noon\nAddress: 78 Prestidge Road\, Katikati \nContact: Danny: 021 204 4302\nEmail: kkcoffinclub@gmail.com
URL:https://letslearn.nz/event/the-katikati-coffin-club/2026-01-21/
LOCATION:78 Prestidge Road\, Katikati
CATEGORIES:DIY,Woodcraft,Woodcraft
ATTACH;FMTTYPE=image/jpeg:https://letslearn.nz/wp-content/uploads/2017/01/Coffin-making-1-e1484637365205.jpg
ORGANIZER;CN="Katikati Coffin Club":MAILTO:kkcoffinclub@gmail.com
END:VEVENT
BEGIN:VEVENT
DTSTART;TZID=Pacific/Auckland:20260121T100000
DTEND;TZID=Pacific/Auckland:20260121T120000
DTSTAMP:20260422T205505
CREATED:20230421T013058Z
LAST-MODIFIED:20251109T151754Z
UID:10035982-1768989600-1768996800@letslearn.nz
SUMMARY:Scrapbooking at Craftables
DESCRIPTION:If you are a complete new beginner\, or a seasoned scrapbooker wanting to get back into it\, we have a wonderful group of ladies already who are just itching to make some new friends. \nAlbums to fit all the special moments and places in your life ! \nPaula is the teacher at the shop on Wednesday 10am to 12 noon – and spaces are available. \nThe classes are usual 1.5 to 2 hours\, and we welcome all experience levels. \nIf you have a standard scrapbooking kit (trimmer\, scissors\, double-sided tape\, glue)\, please bring it along; if not\, please don’t worry; we can lend you gear on the day. \nThe cost is $18 (this includes the product and instructions to make the layout). \nIf you’re interested in booking into this class\, flick me an email at: cayla@craftables.co.nz. We do run a booking system\, so please call us if you want to come along to reserve a space (07 579 4615). \nCheck out the Craftables Calendar for upcoming events and classes.
URL:https://letslearn.nz/event/scrapbooking-at-craftables-2/2026-01-21/
LOCATION:Craftables\, Unit 3\, 17B Minden Rd\,Te Puna\, Tauranga
CATEGORIES:Papercrafts
ATTACH;FMTTYPE=image/jpeg:https://letslearn.nz/wp-content/uploads/2023/04/Craft-Scrapbooking.jpg
ORGANIZER;CN="Craftables":MAILTO:mike@craftables.co.nz or paula@creaftables.co.nz
END:VEVENT
BEGIN:VEVENT
DTSTART;TZID=Pacific/Auckland:20260125T133000
DTEND;TZID=Pacific/Auckland:20260125T160000
DTSTAMP:20260422T205505
CREATED:20230311T050522Z
LAST-MODIFIED:20250809T231511Z
UID:10035005-1769347800-1769356800@letslearn.nz
SUMMARY:Medieval Sword Fighting
DESCRIPTION:The Northern Horde of Tauranga are a Medieval re-enactment group\, we meet for combat training\, archery\, dance and crafts. \nLearn to fight with swords\, axes\, spears etc in a controlled and safe environment. \nWhere: Memorial Park\, Tauranga\nWhen: Sundays 1.30pm \nFor info: Charlie: 021 296 0215
URL:https://letslearn.nz/event/medieval-sword-fighting-2/2026-01-25/
LOCATION:Memorial Park\, 11th Avenue\, Tauranga
CATEGORIES:Metal Craft,Re-enactments,Woodcraft
ATTACH;FMTTYPE=image/jpeg:https://letslearn.nz/wp-content/uploads/2021/02/Blokes-Northern-Horde.jpg
ORGANIZER;CN="Northern Horde Medieval Group":MAILTO:GoTheHorde@gmail.com
END:VEVENT
BEGIN:VEVENT
DTSTART;TZID=Pacific/Auckland:20260127T100000
DTEND;TZID=Pacific/Auckland:20260127T113000
DTSTAMP:20260422T205505
CREATED:20250130T170052Z
LAST-MODIFIED:20250130T170415Z
UID:10028456-1769508000-1769513400@letslearn.nz
SUMMARY:Just Wanna Have Fun at Greerton Library
DESCRIPTION:Keen to try something new\, have fun and meet new people?\nCome along to Te Ao Mārama – Greerton Library on Tuesdays to join in a different activity each week.\nWith craft workshops\, board games\, and fun with robots\, you won’t want to miss a week! \nProgramme information: \n\n4 February – Waitangi Day Activities\n11 February – Valentines Card Making\n18 February – Movie Morning\n25 February – Lunar New Year Paper Craft\n4 March – Lego Fun\n11 March – Saint Patrick’s Day Crafts\n18 March – Digi Fun\n25 March – Bingo\n1 April – Dachshund Love: Stories and Craft\n8 April – Dot Art\n\nFor adults. Groups welcome (if your group is more then 5+ please let us know in advance)\nNo booking required. Just turn up. \n\n\n\n\n\n\n\n\n\n\n\n\n\n\nLocation: Te Ao Mārama – Greerton Library\, 139 Greerton Road \n\n\n\n\n\n\n\n \nAccessibility\nAccessible bathrooms\nAccessible seating available\nCertified disability assist dogs welcome\nMobility parking spaces\nWheelchair access \n\n\n\nDisclaimer: While we endeavour to ensure the event information on this website is accurate we accept no liability for its accuracy or the accuracy of the content of any websites accessed through the links provided.
URL:https://letslearn.nz/event/just-wanna-have-fun-at-greerton-library/2026-01-27/
LOCATION:Greerton Library\, 139 Greerton Road\, Tauranga
CATEGORIES:Film,Games,Papercrafts
ATTACH;FMTTYPE=image/png:https://letslearn.nz/wp-content/uploads/2025/01/Library-Have-Fun.png
ORGANIZER;CN="Tauranga Libraries - Te Ao M%C4%81rama":MAILTO:library@tauranga.govt.nz 
END:VEVENT
BEGIN:VEVENT
DTSTART;TZID=Pacific/Auckland:20260128T083000
DTEND;TZID=Pacific/Auckland:20260128T120000
DTSTAMP:20260422T205505
CREATED:20250311T224231Z
LAST-MODIFIED:20250312T193523Z
UID:10032072-1769589000-1769601600@letslearn.nz
SUMMARY:The Katikati Coffin Club
DESCRIPTION:Where Members: \n\nMeet socially\nDiscuss the question of Death\nPlan their ‘Last Farewell’\nHelp other Members make & decorate Coffins\nMake their own traditional or modern Coffin\nMake & decorate coffins for special needs – ie. Still Born Babies\n\nLifetime Membership: $10-00\n\nThe Coffin Club meets: \nDay and Time: every Wednesday from 8-30am to noon\nAddress: 78 Prestidge Road\, Katikati \nContact: Danny: 021 204 4302\nEmail: kkcoffinclub@gmail.com
URL:https://letslearn.nz/event/the-katikati-coffin-club/2026-01-28/
LOCATION:78 Prestidge Road\, Katikati
CATEGORIES:DIY,Woodcraft,Woodcraft
ATTACH;FMTTYPE=image/jpeg:https://letslearn.nz/wp-content/uploads/2017/01/Coffin-making-1-e1484637365205.jpg
ORGANIZER;CN="Katikati Coffin Club":MAILTO:kkcoffinclub@gmail.com
END:VEVENT
BEGIN:VEVENT
DTSTART;TZID=Pacific/Auckland:20260129T100000
DTEND;TZID=Pacific/Auckland:20260129T113000
DTSTAMP:20260422T205505
CREATED:20250130T164831Z
LAST-MODIFIED:20250130T165130Z
UID:10028296-1769680800-1769686200@letslearn.nz
SUMMARY:Just Wanna Have Fun at Papamoa Library
DESCRIPTION:Keen to try something new\, have fun and meet new people? Come along and enjoy craft workshops\, board games\, movies\, fun with robots and lots more!\nInspired by the success of our regular group at Greerton\, we’re pleased to bring ‘Just Wanna Have Fun?’ to Te Ao Mārama – Pāpāmoa Library in 2025. \nCome along and enjoy the following games and craft: \n\n30 January – Waitangi Day Activities\n27 February – Lunar New Year Paper Craft\n27 March – Bingo\n24 April – Flower Art\n29 May – Rock Painting\n26 June – Tukutuku Panels and Stories\n\nFor adults. Groups welcome (if your group is more then 5+\, please let us know in advance by emailing us at libraryvisits@tauranga.govt.nz)
URL:https://letslearn.nz/event/just-wanna-have-fun-at-papamoa-library/2026-01-29/
LOCATION:Papamoa Library\, 15 Gravatt Road\, Papamoa
CATEGORIES:Papercrafts
ATTACH;FMTTYPE=image/png:https://letslearn.nz/wp-content/uploads/2025/01/Library-Have-Fun.png
ORGANIZER;CN="Tauranga Libraries - Te Ao M%C4%81rama":MAILTO:library@tauranga.govt.nz 
END:VEVENT
BEGIN:VEVENT
DTSTART;TZID=Pacific/Auckland:20260131T103000
DTEND;TZID=Pacific/Auckland:20260131T143000
DTSTAMP:20260422T205505
CREATED:20200110T111407Z
LAST-MODIFIED:20260116T225539Z
UID:10004148-1769855400-1769869800@letslearn.nz
SUMMARY:Glass Fusing Workshop: Miniature Meadows & More
DESCRIPTION:Miniature Meadows & More\nOn this workshop  you will learn all the basics of glass fusing I will also for the first time be showing you how to make one of my miniature meadow designs. These can be left as pictures\, made into  a platter. These art pieces will involve learning some new techniques such as  using glass line paints\, working with frits and bending stringers to produce a lovely one off piece. You can choose your own colour\, flower and grass combinations. \nIf you do not wish to make a meadow piece you are welcome to make anything you wish ie. a bowl platter clock or jewellery in your own design \nAll glass is included Price included and price includes lunch. \nPrice includes materials\, and high tea lunch. \nWhen: Saturday 31st Jan 2026  10.30 am – 2.30 pm\nWhere: Rotorua\nCost: $175 per person (inclusive of materials & lunch) \nFor further info or to register: \nPhone:  Jayne : 021 201 8580\nEmail:  info@jbcollections.co.nz\nFacebook: https://www.facebook.com/jbcollections
URL:https://letslearn.nz/event/glass-fusing-workshop/
LOCATION:JB Collections\, 51 Hillcrest Ave\, Rotorua
CATEGORIES:Glass Crafts
ATTACH;FMTTYPE=image/jpeg:https://letslearn.nz/wp-content/uploads/2020/10/Craft-JB-glass-meadows.jpg
ORGANIZER;CN="JB Collections":MAILTO:info@jbcollections.co.nz
END:VEVENT
END:VCALENDAR