BEGIN:VCALENDAR
VERSION:2.0
PRODID:-//Let&#039;s Learn - ECPv6.15.14//NONSGML v1.0//EN
CALSCALE:GREGORIAN
METHOD:PUBLISH
X-ORIGINAL-URL:https://letslearn.nz
X-WR-CALDESC:Events for Let&#039;s Learn
REFRESH-INTERVAL;VALUE=DURATION:PT1H
X-Robots-Tag:noindex
X-PUBLISHED-TTL:PT1H
BEGIN:VTIMEZONE
TZID:Pacific/Auckland
BEGIN:STANDARD
TZOFFSETFROM:+1300
TZOFFSETTO:+1200
TZNAME:NZST
DTSTART:20250405T140000
END:STANDARD
BEGIN:DAYLIGHT
TZOFFSETFROM:+1200
TZOFFSETTO:+1300
TZNAME:NZDT
DTSTART:20250927T140000
END:DAYLIGHT
BEGIN:STANDARD
TZOFFSETFROM:+1300
TZOFFSETTO:+1200
TZNAME:NZST
DTSTART:20260404T140000
END:STANDARD
BEGIN:DAYLIGHT
TZOFFSETFROM:+1200
TZOFFSETTO:+1300
TZNAME:NZDT
DTSTART:20260926T140000
END:DAYLIGHT
BEGIN:STANDARD
TZOFFSETFROM:+1300
TZOFFSETTO:+1200
TZNAME:NZST
DTSTART:20270403T140000
END:STANDARD
BEGIN:DAYLIGHT
TZOFFSETFROM:+1200
TZOFFSETTO:+1300
TZNAME:NZDT
DTSTART:20270925T140000
END:DAYLIGHT
END:VTIMEZONE
BEGIN:VEVENT
DTSTART;TZID=Pacific/Auckland:20260116T180000
DTEND;TZID=Pacific/Auckland:20260116T200000
DTSTAMP:20260424T002900
CREATED:20260115T200306Z
LAST-MODIFIED:20260115T201406Z
UID:10037915-1768586400-1768593600@letslearn.nz
SUMMARY:DIY Bingo Craft Party
DESCRIPTION:Presented by: The Incubator Creative Hub and Sew Love\nNew year resolutions are out — bingo boards are in! \nJoin an evening of gel pens\, watercolour pencils\, collage snips and fresh-start energy as we dream and design an epic year ahead. You’ll fill your bingo board with a mix of small joys and big aspirations\, in doodles\, pictures or words. Think of it as a playful\, personal roadmap that celebrates our progress every step of the way. \nSarah will guide you with prompts and inspiration to help you reflect on what matters most\, but the creative expression is all yours. This isn’t a drawing class\, it’s your permission slip to explore\, imagine\, and set intentions your own way. \nAll materials provided: A4 art paper\, pens\, pencils\, watercolours\, collage papers\, tools. \nThis is a supportive group workshop. You decide what to keep private\, what to share\, and which squares can stay blank until you’re ready. Vulnerability is welcome\, pressure is not. Let’s create a year worth cheering for\, one bingo row at a time! \nSarah Sew Love is a self proclaimed “hype girl for YOUR sustainable sewing journey”! She’s been sewing\, blogging\, gramming and teaching sewing for over 10 years through her sewcial enterprise Sew Love and she’s now calling Tauranga home. Sarah’s known for popping up workshops all over NZ; alongside markets\, conferences\, schools\, community houses & recycle centres to share her passion for sewing skills and sustainable living. “DIYing the reusables we need\, repairing the things we love\, embracing sewing slow and sewing together with others – it all makes our lives more special!” In recent years she’s mostly known for her sellout upcycled scrap bum bags and dancing around on instagram but hosting workshops is her homebase of happiness. Rest assured the energy is just the same in real life so come join one of her workshops this winter in our Social Fabric room. With big smiles and rainbow fabric scraps\, her workshops always provide a safe space and encouragement for everyone’s creativity and self expression through sewing. \n\n\n\n\nWhen : Friday 16th January 2026  6pm -8pm\nWhere :  Creative Community Campus\, Historic Village\, 17rh Ave\, Tauranga\nCost : $20 \nTicket Info
URL:https://letslearn.nz/event/diy-bingo-craft/
LOCATION:Creative Community Campus\, 159 17th Avenue\, Tauranga South
CATEGORIES:Crafts,Papercrafts
ATTACH;FMTTYPE=image/png:https://letslearn.nz/wp-content/uploads/2026/01/Inc-Bingo-Craft.png
ORGANIZER;CN="The Incubator Creative Hub%2C Historic Village%2C 17th Ave%2C Tauranga":MAILTO:info@theincubator.co.nz
END:VEVENT
END:VCALENDAR