BEGIN:VCALENDAR
VERSION:2.0
PRODID:-//Let&#039;s Learn - ECPv6.15.14//NONSGML v1.0//EN
CALSCALE:GREGORIAN
METHOD:PUBLISH
X-ORIGINAL-URL:https://letslearn.nz
X-WR-CALDESC:Events for Let&#039;s Learn
REFRESH-INTERVAL;VALUE=DURATION:PT1H
X-Robots-Tag:noindex
X-PUBLISHED-TTL:PT1H
BEGIN:VTIMEZONE
TZID:Pacific/Auckland
BEGIN:STANDARD
TZOFFSETFROM:+1300
TZOFFSETTO:+1200
TZNAME:NZST
DTSTART:20190406T140000
END:STANDARD
BEGIN:DAYLIGHT
TZOFFSETFROM:+1200
TZOFFSETTO:+1300
TZNAME:NZDT
DTSTART:20190928T140000
END:DAYLIGHT
BEGIN:STANDARD
TZOFFSETFROM:+1300
TZOFFSETTO:+1200
TZNAME:NZST
DTSTART:20200404T140000
END:STANDARD
BEGIN:DAYLIGHT
TZOFFSETFROM:+1200
TZOFFSETTO:+1300
TZNAME:NZDT
DTSTART:20200926T140000
END:DAYLIGHT
BEGIN:STANDARD
TZOFFSETFROM:+1300
TZOFFSETTO:+1200
TZNAME:NZST
DTSTART:20210403T140000
END:STANDARD
BEGIN:DAYLIGHT
TZOFFSETFROM:+1200
TZOFFSETTO:+1300
TZNAME:NZDT
DTSTART:20210925T140000
END:DAYLIGHT
BEGIN:STANDARD
TZOFFSETFROM:+1300
TZOFFSETTO:+1200
TZNAME:NZST
DTSTART:20220402T140000
END:STANDARD
BEGIN:DAYLIGHT
TZOFFSETFROM:+1200
TZOFFSETTO:+1300
TZNAME:NZDT
DTSTART:20220924T140000
END:DAYLIGHT
BEGIN:STANDARD
TZOFFSETFROM:+1300
TZOFFSETTO:+1200
TZNAME:NZST
DTSTART:20230401T140000
END:STANDARD
BEGIN:DAYLIGHT
TZOFFSETFROM:+1200
TZOFFSETTO:+1300
TZNAME:NZDT
DTSTART:20230923T140000
END:DAYLIGHT
BEGIN:STANDARD
TZOFFSETFROM:+1300
TZOFFSETTO:+1200
TZNAME:NZST
DTSTART:20240406T140000
END:STANDARD
BEGIN:DAYLIGHT
TZOFFSETFROM:+1200
TZOFFSETTO:+1300
TZNAME:NZDT
DTSTART:20240928T140000
END:DAYLIGHT
END:VTIMEZONE
BEGIN:VEVENT
DTSTART;TZID=Pacific/Auckland:20230902T100000
DTEND;TZID=Pacific/Auckland:20230903T160000
DTSTAMP:20260415T095149
CREATED:20230702T205551Z
LAST-MODIFIED:20230702T205923Z
UID:10009313-1693648800-1693756800@letslearn.nz
SUMMARY:Character Doll Workshop
DESCRIPTION:A Whimsical Workshop\nMake your own doll out of Polymer sculpy clay. \nParticipants will learn the step-by-step techniques of how to model with sculpy clay\, wire\, and mixed media to create an awe-inspiring art doll. This is Claire’s most popular workshop and people will not need any previous experience to achieve amazing results. \nStudents will be guided on how to do detailed face and hand painting plus making clothes and hair. All materials are supplied but bringing fabrics and accessories is encouraged too. Participants will be astounded with what they can produce in such a short time. All the dolls are so unique\, arty\, and quirky. \nSuitable for 13yrs and over. Come and join in with other unorthodox and innovative people to explore the world of art doll making. \nTutor: Clare Delaney\nDates: 2nd and 3rd September 2023 (Weekend Workshop)\nTime: 10am to 4pm\nCost: $240 \nAll Materials Supplied but you may wish to bring additional materials and accessories. \nLimited spaces available – Book now! . \nBook with Claire\nEmail: claire@clairedelaney.com\nPhone: 0210591281\nFacebook: https://www.facebook.com/clairedelaneyartist/\nWebsite: https://clairedelaney.com/ \nClaire Delaney is a visual storyteller. Originally from the UK she got a BA hon in Textiles and fashion attributing this to why her characters are always so uniquely dressed. Claire’s style is described as whimsical and playful. She has written and illustrated several of her own books and illustrates constantly for commission work. With a passion for the creative process\, she has taught art in the community for thirty years.
URL:https://letslearn.nz/event/character-doll-workshop/
LOCATION:The Incubator Creative Hub\, Historic village\, 17th Ave\, Tauranga
CATEGORIES:Dollmaking
ATTACH;FMTTYPE=image/jpeg:https://letslearn.nz/wp-content/uploads/2023/07/Artery-Delaney-Dolls.jpg
END:VEVENT
BEGIN:VEVENT
DTSTART;TZID=Pacific/Auckland:20200927T090000
DTEND;TZID=Pacific/Auckland:20200927T123000
DTSTAMP:20260415T095149
CREATED:20200821T223150Z
LAST-MODIFIED:20211109T221119Z
UID:10003269-1601197200-1601209800@letslearn.nz
SUMMARY:Explore Japanese Culture through Kokeshi Dolls!
DESCRIPTION:Participants will be designing and painting their wooden dolls with the tutor’s guidance\, and will take home their very own unique creation. Engage with Ulemj a renowned local artist who resided in Japan for many years. Ulemj is excited to be able to share her experiences with you and give you a practical and engaging way of exploring Japanese culture in a wonderfully sunny creative environment.\nTwo workshops to chose from.\nTutor: Ulemj Glamuzina:\nSunday: 9am – 12.30pm\nDates: 27th September\nCost $65\nAll Materials Supplied. Age 15+\n\nBookings: To secure your space\, please DM or email glamuzinart@gmail.com
URL:https://letslearn.nz/event/explore-japanese-culture-through-kokeshi-dolls/
LOCATION:The Incubator Creative Hub\, Historic village\, 17th Ave\, Tauranga
CATEGORIES:Dollmaking,Mixed Media
ATTACH;FMTTYPE=image/jpeg:https://letslearn.nz/wp-content/uploads/2020/08/Craft-Uemji-Kokeshi-Dolls-5.jpg
ORGANIZER;CN="Ulemj Glamuzina":MAILTO:glamuzinart@gmail.com
END:VEVENT
END:VCALENDAR