BEGIN:VCALENDAR
VERSION:2.0
PRODID:-//Let&#039;s Learn - ECPv6.15.14//NONSGML v1.0//EN
CALSCALE:GREGORIAN
METHOD:PUBLISH
X-WR-CALNAME:Let&#039;s Learn
X-ORIGINAL-URL:https://letslearn.nz
X-WR-CALDESC:Events for Let&#039;s Learn
REFRESH-INTERVAL;VALUE=DURATION:PT1H
X-Robots-Tag:noindex
X-PUBLISHED-TTL:PT1H
BEGIN:VTIMEZONE
TZID:Pacific/Auckland
BEGIN:STANDARD
TZOFFSETFROM:+1300
TZOFFSETTO:+1200
TZNAME:NZST
DTSTART:20210403T140000
END:STANDARD
BEGIN:DAYLIGHT
TZOFFSETFROM:+1200
TZOFFSETTO:+1300
TZNAME:NZDT
DTSTART:20210925T140000
END:DAYLIGHT
BEGIN:STANDARD
TZOFFSETFROM:+1300
TZOFFSETTO:+1200
TZNAME:NZST
DTSTART:20220402T140000
END:STANDARD
BEGIN:DAYLIGHT
TZOFFSETFROM:+1200
TZOFFSETTO:+1300
TZNAME:NZDT
DTSTART:20220924T140000
END:DAYLIGHT
BEGIN:STANDARD
TZOFFSETFROM:+1300
TZOFFSETTO:+1200
TZNAME:NZST
DTSTART:20230401T140000
END:STANDARD
BEGIN:DAYLIGHT
TZOFFSETFROM:+1200
TZOFFSETTO:+1300
TZNAME:NZDT
DTSTART:20230923T140000
END:DAYLIGHT
BEGIN:STANDARD
TZOFFSETFROM:+1300
TZOFFSETTO:+1200
TZNAME:NZST
DTSTART:20240406T140000
END:STANDARD
BEGIN:DAYLIGHT
TZOFFSETFROM:+1200
TZOFFSETTO:+1300
TZNAME:NZDT
DTSTART:20240928T140000
END:DAYLIGHT
END:VTIMEZONE
BEGIN:VEVENT
DTSTART;TZID=Pacific/Auckland:20230213T180000
DTEND;TZID=Pacific/Auckland:20230213T190000
DTSTAMP:20260424T233629
CREATED:20230211T083640Z
LAST-MODIFIED:20230211T083640Z
UID:10005203-1676311200-1676314800@letslearn.nz
SUMMARY:Zumba Mount Maunganui
DESCRIPTION:Zumba is a Latin dance class that takes the “work” out of work-out by combining all elements of fitness – cardio\, muscle conditioning\, balance and flexibility with an awesome calorie-burning dance fitness party. \nZumba is perfect for anybody – all ages and all body types! \nClasses are designed to bring people together to work out the latest tunes. You don’t need any experience or dancing skills\, just a can-do-attitude. \nInstructor Teejay is committed to making your exercise experience positive\, welcoming and memorable. \nIf you LOVE great music and appreciate the benefits of exercise\, then look no further ! \nWhen: Mondays 6pm-7pm\nWhere: Arataki Community Centre\, Zambuk Way\, the Mount\nCost:  $10 casual or $72 for a 10 class pass.\nSENIORS: $8 casual or $62 for a 10 class pass.\nSTUDENTS: $5 per class.
URL:https://letslearn.nz/event/zumba-mount-maunganui-2/
LOCATION:Arataki Community Centre\, Zambuk Way\, Mount Maunganui\,
CATEGORIES:Zumba
ATTACH;FMTTYPE=image/jpeg:https://letslearn.nz/wp-content/uploads/2020/02/Zumba-Katikati.jpg
ORGANIZER;CN="Zumba Tauranga":MAILTO:zumbatauranga@gmail.com
END:VEVENT
BEGIN:VEVENT
DTSTART;TZID=Pacific/Auckland:20221212T180000
DTEND;TZID=Pacific/Auckland:20221212T190000
DTSTAMP:20260424T233629
CREATED:20220423T035402Z
LAST-MODIFIED:20221013T202727Z
UID:10005202-1670868000-1670871600@letslearn.nz
SUMMARY:Zumba Mount Maunganui
DESCRIPTION:Zumba is a Latin dance class that takes the “work” out of work-out by combining all elements of fitness – cardio\, muscle conditioning\, balance and flexibility with an awesome calorie-burning dance fitness party. \nZumba is perfect for anybody – all ages and all body types! \nClasses are designed to bring people together to work out the latest tunes. You don’t need any experience or dancing skills\, just a can-do-attitude. \nInstructor Teejay is committed to making your exercise experience positive\, welcoming and memorable. \nIf you LOVE great music and appreciate the benefits of exercise\, then look no further ! \nWhen: Mondays 6pm-7pm\nWhere: Arataki Community Centre\, Zambuk Way\, the Mount\nCost:  $10 casual or $72 for a 10 class pass.\nSENIORS: $8 casual or $62 for a 10 class pass.\nSTUDENTS: $5 per class.
URL:https://letslearn.nz/event/zumba-mount-maunganui/2022-12-12/
LOCATION:Arataki Community Centre\, Zambuk Way\, Mount Maunganui\,
CATEGORIES:Zumba
ATTACH;FMTTYPE=image/jpeg:https://letslearn.nz/wp-content/uploads/2020/02/Zumba-Katikati.jpg
ORGANIZER;CN="Zumba Tauranga":MAILTO:zumbatauranga@gmail.com
END:VEVENT
BEGIN:VEVENT
DTSTART;TZID=Pacific/Auckland:20221205T180000
DTEND;TZID=Pacific/Auckland:20221205T190000
DTSTAMP:20260424T233629
CREATED:20220423T035402Z
LAST-MODIFIED:20221013T202727Z
UID:10005201-1670263200-1670266800@letslearn.nz
SUMMARY:Zumba Mount Maunganui
DESCRIPTION:Zumba is a Latin dance class that takes the “work” out of work-out by combining all elements of fitness – cardio\, muscle conditioning\, balance and flexibility with an awesome calorie-burning dance fitness party. \nZumba is perfect for anybody – all ages and all body types! \nClasses are designed to bring people together to work out the latest tunes. You don’t need any experience or dancing skills\, just a can-do-attitude. \nInstructor Teejay is committed to making your exercise experience positive\, welcoming and memorable. \nIf you LOVE great music and appreciate the benefits of exercise\, then look no further ! \nWhen: Mondays 6pm-7pm\nWhere: Arataki Community Centre\, Zambuk Way\, the Mount\nCost:  $10 casual or $72 for a 10 class pass.\nSENIORS: $8 casual or $62 for a 10 class pass.\nSTUDENTS: $5 per class.
URL:https://letslearn.nz/event/zumba-mount-maunganui/2022-12-05/
LOCATION:Arataki Community Centre\, Zambuk Way\, Mount Maunganui\,
CATEGORIES:Zumba
ATTACH;FMTTYPE=image/jpeg:https://letslearn.nz/wp-content/uploads/2020/02/Zumba-Katikati.jpg
ORGANIZER;CN="Zumba Tauranga":MAILTO:zumbatauranga@gmail.com
END:VEVENT
BEGIN:VEVENT
DTSTART;TZID=Pacific/Auckland:20221128T180000
DTEND;TZID=Pacific/Auckland:20221128T190000
DTSTAMP:20260424T233629
CREATED:20220423T035402Z
LAST-MODIFIED:20221013T202727Z
UID:10005200-1669658400-1669662000@letslearn.nz
SUMMARY:Zumba Mount Maunganui
DESCRIPTION:Zumba is a Latin dance class that takes the “work” out of work-out by combining all elements of fitness – cardio\, muscle conditioning\, balance and flexibility with an awesome calorie-burning dance fitness party. \nZumba is perfect for anybody – all ages and all body types! \nClasses are designed to bring people together to work out the latest tunes. You don’t need any experience or dancing skills\, just a can-do-attitude. \nInstructor Teejay is committed to making your exercise experience positive\, welcoming and memorable. \nIf you LOVE great music and appreciate the benefits of exercise\, then look no further ! \nWhen: Mondays 6pm-7pm\nWhere: Arataki Community Centre\, Zambuk Way\, the Mount\nCost:  $10 casual or $72 for a 10 class pass.\nSENIORS: $8 casual or $62 for a 10 class pass.\nSTUDENTS: $5 per class.
URL:https://letslearn.nz/event/zumba-mount-maunganui/2022-11-28/
LOCATION:Arataki Community Centre\, Zambuk Way\, Mount Maunganui\,
CATEGORIES:Zumba
ATTACH;FMTTYPE=image/jpeg:https://letslearn.nz/wp-content/uploads/2020/02/Zumba-Katikati.jpg
ORGANIZER;CN="Zumba Tauranga":MAILTO:zumbatauranga@gmail.com
END:VEVENT
BEGIN:VEVENT
DTSTART;TZID=Pacific/Auckland:20221121T180000
DTEND;TZID=Pacific/Auckland:20221121T190000
DTSTAMP:20260424T233629
CREATED:20220423T035402Z
LAST-MODIFIED:20221013T202727Z
UID:10005199-1669053600-1669057200@letslearn.nz
SUMMARY:Zumba Mount Maunganui
DESCRIPTION:Zumba is a Latin dance class that takes the “work” out of work-out by combining all elements of fitness – cardio\, muscle conditioning\, balance and flexibility with an awesome calorie-burning dance fitness party. \nZumba is perfect for anybody – all ages and all body types! \nClasses are designed to bring people together to work out the latest tunes. You don’t need any experience or dancing skills\, just a can-do-attitude. \nInstructor Teejay is committed to making your exercise experience positive\, welcoming and memorable. \nIf you LOVE great music and appreciate the benefits of exercise\, then look no further ! \nWhen: Mondays 6pm-7pm\nWhere: Arataki Community Centre\, Zambuk Way\, the Mount\nCost:  $10 casual or $72 for a 10 class pass.\nSENIORS: $8 casual or $62 for a 10 class pass.\nSTUDENTS: $5 per class.
URL:https://letslearn.nz/event/zumba-mount-maunganui/2022-11-21/
LOCATION:Arataki Community Centre\, Zambuk Way\, Mount Maunganui\,
CATEGORIES:Zumba
ATTACH;FMTTYPE=image/jpeg:https://letslearn.nz/wp-content/uploads/2020/02/Zumba-Katikati.jpg
ORGANIZER;CN="Zumba Tauranga":MAILTO:zumbatauranga@gmail.com
END:VEVENT
BEGIN:VEVENT
DTSTART;TZID=Pacific/Auckland:20221114T180000
DTEND;TZID=Pacific/Auckland:20221114T190000
DTSTAMP:20260424T233629
CREATED:20220423T035402Z
LAST-MODIFIED:20221013T202727Z
UID:10005198-1668448800-1668452400@letslearn.nz
SUMMARY:Zumba Mount Maunganui
DESCRIPTION:Zumba is a Latin dance class that takes the “work” out of work-out by combining all elements of fitness – cardio\, muscle conditioning\, balance and flexibility with an awesome calorie-burning dance fitness party. \nZumba is perfect for anybody – all ages and all body types! \nClasses are designed to bring people together to work out the latest tunes. You don’t need any experience or dancing skills\, just a can-do-attitude. \nInstructor Teejay is committed to making your exercise experience positive\, welcoming and memorable. \nIf you LOVE great music and appreciate the benefits of exercise\, then look no further ! \nWhen: Mondays 6pm-7pm\nWhere: Arataki Community Centre\, Zambuk Way\, the Mount\nCost:  $10 casual or $72 for a 10 class pass.\nSENIORS: $8 casual or $62 for a 10 class pass.\nSTUDENTS: $5 per class.
URL:https://letslearn.nz/event/zumba-mount-maunganui/2022-11-14/
LOCATION:Arataki Community Centre\, Zambuk Way\, Mount Maunganui\,
CATEGORIES:Zumba
ATTACH;FMTTYPE=image/jpeg:https://letslearn.nz/wp-content/uploads/2020/02/Zumba-Katikati.jpg
ORGANIZER;CN="Zumba Tauranga":MAILTO:zumbatauranga@gmail.com
END:VEVENT
BEGIN:VEVENT
DTSTART;TZID=Pacific/Auckland:20221107T180000
DTEND;TZID=Pacific/Auckland:20221107T190000
DTSTAMP:20260424T233629
CREATED:20220423T035402Z
LAST-MODIFIED:20221013T202727Z
UID:10005197-1667844000-1667847600@letslearn.nz
SUMMARY:Zumba Mount Maunganui
DESCRIPTION:Zumba is a Latin dance class that takes the “work” out of work-out by combining all elements of fitness – cardio\, muscle conditioning\, balance and flexibility with an awesome calorie-burning dance fitness party. \nZumba is perfect for anybody – all ages and all body types! \nClasses are designed to bring people together to work out the latest tunes. You don’t need any experience or dancing skills\, just a can-do-attitude. \nInstructor Teejay is committed to making your exercise experience positive\, welcoming and memorable. \nIf you LOVE great music and appreciate the benefits of exercise\, then look no further ! \nWhen: Mondays 6pm-7pm\nWhere: Arataki Community Centre\, Zambuk Way\, the Mount\nCost:  $10 casual or $72 for a 10 class pass.\nSENIORS: $8 casual or $62 for a 10 class pass.\nSTUDENTS: $5 per class.
URL:https://letslearn.nz/event/zumba-mount-maunganui/2022-11-07/
LOCATION:Arataki Community Centre\, Zambuk Way\, Mount Maunganui\,
CATEGORIES:Zumba
ATTACH;FMTTYPE=image/jpeg:https://letslearn.nz/wp-content/uploads/2020/02/Zumba-Katikati.jpg
ORGANIZER;CN="Zumba Tauranga":MAILTO:zumbatauranga@gmail.com
END:VEVENT
BEGIN:VEVENT
DTSTART;TZID=Pacific/Auckland:20221031T180000
DTEND;TZID=Pacific/Auckland:20221031T190000
DTSTAMP:20260424T233629
CREATED:20220423T035402Z
LAST-MODIFIED:20221013T202727Z
UID:10005196-1667239200-1667242800@letslearn.nz
SUMMARY:Zumba Mount Maunganui
DESCRIPTION:Zumba is a Latin dance class that takes the “work” out of work-out by combining all elements of fitness – cardio\, muscle conditioning\, balance and flexibility with an awesome calorie-burning dance fitness party. \nZumba is perfect for anybody – all ages and all body types! \nClasses are designed to bring people together to work out the latest tunes. You don’t need any experience or dancing skills\, just a can-do-attitude. \nInstructor Teejay is committed to making your exercise experience positive\, welcoming and memorable. \nIf you LOVE great music and appreciate the benefits of exercise\, then look no further ! \nWhen: Mondays 6pm-7pm\nWhere: Arataki Community Centre\, Zambuk Way\, the Mount\nCost:  $10 casual or $72 for a 10 class pass.\nSENIORS: $8 casual or $62 for a 10 class pass.\nSTUDENTS: $5 per class.
URL:https://letslearn.nz/event/zumba-mount-maunganui/2022-10-31/
LOCATION:Arataki Community Centre\, Zambuk Way\, Mount Maunganui\,
CATEGORIES:Zumba
ATTACH;FMTTYPE=image/jpeg:https://letslearn.nz/wp-content/uploads/2020/02/Zumba-Katikati.jpg
ORGANIZER;CN="Zumba Tauranga":MAILTO:zumbatauranga@gmail.com
END:VEVENT
BEGIN:VEVENT
DTSTART;TZID=Pacific/Auckland:20221024T180000
DTEND;TZID=Pacific/Auckland:20221024T190000
DTSTAMP:20260424T233629
CREATED:20220423T035402Z
LAST-MODIFIED:20221013T202727Z
UID:10005195-1666634400-1666638000@letslearn.nz
SUMMARY:Zumba Mount Maunganui
DESCRIPTION:Zumba is a Latin dance class that takes the “work” out of work-out by combining all elements of fitness – cardio\, muscle conditioning\, balance and flexibility with an awesome calorie-burning dance fitness party. \nZumba is perfect for anybody – all ages and all body types! \nClasses are designed to bring people together to work out the latest tunes. You don’t need any experience or dancing skills\, just a can-do-attitude. \nInstructor Teejay is committed to making your exercise experience positive\, welcoming and memorable. \nIf you LOVE great music and appreciate the benefits of exercise\, then look no further ! \nWhen: Mondays 6pm-7pm\nWhere: Arataki Community Centre\, Zambuk Way\, the Mount\nCost:  $10 casual or $72 for a 10 class pass.\nSENIORS: $8 casual or $62 for a 10 class pass.\nSTUDENTS: $5 per class.
URL:https://letslearn.nz/event/zumba-mount-maunganui/2022-10-24/
LOCATION:Arataki Community Centre\, Zambuk Way\, Mount Maunganui\,
CATEGORIES:Zumba
ATTACH;FMTTYPE=image/jpeg:https://letslearn.nz/wp-content/uploads/2020/02/Zumba-Katikati.jpg
ORGANIZER;CN="Zumba Tauranga":MAILTO:zumbatauranga@gmail.com
END:VEVENT
BEGIN:VEVENT
DTSTART;TZID=Pacific/Auckland:20221017T180000
DTEND;TZID=Pacific/Auckland:20221017T190000
DTSTAMP:20260424T233629
CREATED:20220423T035402Z
LAST-MODIFIED:20221013T202727Z
UID:10005194-1666029600-1666033200@letslearn.nz
SUMMARY:Zumba Mount Maunganui
DESCRIPTION:Zumba is a Latin dance class that takes the “work” out of work-out by combining all elements of fitness – cardio\, muscle conditioning\, balance and flexibility with an awesome calorie-burning dance fitness party. \nZumba is perfect for anybody – all ages and all body types! \nClasses are designed to bring people together to work out the latest tunes. You don’t need any experience or dancing skills\, just a can-do-attitude. \nInstructor Teejay is committed to making your exercise experience positive\, welcoming and memorable. \nIf you LOVE great music and appreciate the benefits of exercise\, then look no further ! \nWhen: Mondays 6pm-7pm\nWhere: Arataki Community Centre\, Zambuk Way\, the Mount\nCost:  $10 casual or $72 for a 10 class pass.\nSENIORS: $8 casual or $62 for a 10 class pass.\nSTUDENTS: $5 per class.
URL:https://letslearn.nz/event/zumba-mount-maunganui/2022-10-17/
LOCATION:Arataki Community Centre\, Zambuk Way\, Mount Maunganui\,
CATEGORIES:Zumba
ATTACH;FMTTYPE=image/jpeg:https://letslearn.nz/wp-content/uploads/2020/02/Zumba-Katikati.jpg
ORGANIZER;CN="Zumba Tauranga":MAILTO:zumbatauranga@gmail.com
END:VEVENT
END:VCALENDAR