BEGIN:VCALENDAR
VERSION:2.0
PRODID:-//Let&#039;s Learn - ECPv6.15.14//NONSGML v1.0//EN
CALSCALE:GREGORIAN
METHOD:PUBLISH
X-WR-CALNAME:Let&#039;s Learn
X-ORIGINAL-URL:https://letslearn.nz
X-WR-CALDESC:Events for Let&#039;s Learn
REFRESH-INTERVAL;VALUE=DURATION:PT1H
X-Robots-Tag:noindex
X-PUBLISHED-TTL:PT1H
BEGIN:VTIMEZONE
TZID:Pacific/Auckland
BEGIN:STANDARD
TZOFFSETFROM:+1300
TZOFFSETTO:+1200
TZNAME:NZST
DTSTART:20240406T140000
END:STANDARD
BEGIN:DAYLIGHT
TZOFFSETFROM:+1200
TZOFFSETTO:+1300
TZNAME:NZDT
DTSTART:20240928T140000
END:DAYLIGHT
BEGIN:STANDARD
TZOFFSETFROM:+1300
TZOFFSETTO:+1200
TZNAME:NZST
DTSTART:20250405T140000
END:STANDARD
BEGIN:DAYLIGHT
TZOFFSETFROM:+1200
TZOFFSETTO:+1300
TZNAME:NZDT
DTSTART:20250927T140000
END:DAYLIGHT
BEGIN:STANDARD
TZOFFSETFROM:+1300
TZOFFSETTO:+1200
TZNAME:NZST
DTSTART:20260404T140000
END:STANDARD
BEGIN:DAYLIGHT
TZOFFSETFROM:+1200
TZOFFSETTO:+1300
TZNAME:NZDT
DTSTART:20260926T140000
END:DAYLIGHT
END:VTIMEZONE
BEGIN:VEVENT
DTSTART;TZID=Pacific/Auckland:20251213T193000
DTEND;TZID=Pacific/Auckland:20251213T213000
DTSTAMP:20260420T181317
CREATED:20250228T223350Z
LAST-MODIFIED:20251211T080055Z
UID:10031215-1765654200-1765661400@letslearn.nz
SUMMARY:Honest Liars Showtime
DESCRIPTION:IT’S SHOW TIME !\n\n\nCome along and enjoy some classic Improv comedy from\nThe Honest Liars players. \nBring the gang for a night of huge laughs. Tickets are only $15 \nWe have a permanent gig at:\nGreen Room Stage — 16th Ave Theatre – 16th Avenue\, Tauranga.\nYou can book online or take your chance and turn up at the door.\n(Side gate entrance). \n \nContact us for more information. \nBOOK NOW FOR THE Christmas Show  … \nSaturday 13th December 7.30 pm\n \n\nSEE YOU THERE!\nNext Improv Workshop:  TBA
URL:https://letslearn.nz/event/honest-liars-showtime/
LOCATION:16th Ave Theatre\, 164 16th Ave\, Tauranga
CATEGORIES:Improv
ATTACH;FMTTYPE=image/jpeg:https://letslearn.nz/wp-content/uploads/2025/03/Impro-Xmas-Show.jpg
ORGANIZER;CN="Honest Liars Improv":MAILTO:enquiries@honestliarsimprov.co.nz
END:VEVENT
END:VCALENDAR