BEGIN:VCALENDAR
VERSION:2.0
PRODID:-//Let&#039;s Learn - ECPv6.15.14//NONSGML v1.0//EN
CALSCALE:GREGORIAN
METHOD:PUBLISH
X-WR-CALNAME:Let&#039;s Learn
X-ORIGINAL-URL:https://letslearn.nz
X-WR-CALDESC:Events for Let&#039;s Learn
REFRESH-INTERVAL;VALUE=DURATION:PT1H
X-Robots-Tag:noindex
X-PUBLISHED-TTL:PT1H
BEGIN:VTIMEZONE
TZID:Pacific/Auckland
BEGIN:STANDARD
TZOFFSETFROM:+1300
TZOFFSETTO:+1200
TZNAME:NZST
DTSTART:20190406T140000
END:STANDARD
BEGIN:DAYLIGHT
TZOFFSETFROM:+1200
TZOFFSETTO:+1300
TZNAME:NZDT
DTSTART:20190928T140000
END:DAYLIGHT
BEGIN:STANDARD
TZOFFSETFROM:+1300
TZOFFSETTO:+1200
TZNAME:NZST
DTSTART:20200404T140000
END:STANDARD
BEGIN:DAYLIGHT
TZOFFSETFROM:+1200
TZOFFSETTO:+1300
TZNAME:NZDT
DTSTART:20200926T140000
END:DAYLIGHT
BEGIN:STANDARD
TZOFFSETFROM:+1300
TZOFFSETTO:+1200
TZNAME:NZST
DTSTART:20210403T140000
END:STANDARD
BEGIN:DAYLIGHT
TZOFFSETFROM:+1200
TZOFFSETTO:+1300
TZNAME:NZDT
DTSTART:20210925T140000
END:DAYLIGHT
BEGIN:STANDARD
TZOFFSETFROM:+1300
TZOFFSETTO:+1200
TZNAME:NZST
DTSTART:20220402T140000
END:STANDARD
BEGIN:DAYLIGHT
TZOFFSETFROM:+1200
TZOFFSETTO:+1300
TZNAME:NZDT
DTSTART:20220924T140000
END:DAYLIGHT
BEGIN:STANDARD
TZOFFSETFROM:+1300
TZOFFSETTO:+1200
TZNAME:NZST
DTSTART:20230401T140000
END:STANDARD
BEGIN:DAYLIGHT
TZOFFSETFROM:+1200
TZOFFSETTO:+1300
TZNAME:NZDT
DTSTART:20230923T140000
END:DAYLIGHT
END:VTIMEZONE
BEGIN:VEVENT
DTSTART;TZID=Pacific/Auckland:20221215T084500
DTEND;TZID=Pacific/Auckland:20221215T140000
DTSTAMP:20260418T003742
CREATED:20220425T220802Z
LAST-MODIFIED:20221011T203933Z
UID:10005253-1671093900-1671112800@letslearn.nz
SUMMARY:Forklift Licence
DESCRIPTION:Forklift\n• This will give you an OSH Licence\, which needs to be renewed every three years.  You will be able to use a Forklift in a controlled environment.\n\nForklift with F Endorsement\n• This will give you an OSH Licence plus a ‘F’ endorsement on your licence.\n• If you drive a forklift on the road\, you must have an F endorsement on your driver licence.\n\nA full NZ Drivers Licence is a prerequisite of these courses.\nA pdf file for Forklifts will be emailed to you with your booking confirmation. Study at your leisure\, your assessment will be done  on this material.\n\nDate: Thursdays\nTime: 9.00am – 2.00pm\nPlace:  Active Endorsements\, 2 Dunlop Road\, Te Puke\n\nContact Sheldon to see which weeks they are running and to book the next available date. \nPlease contact Sheldon Magee\nPhone: 027 222 8345\nEmail: activeendorsements@gmail.com\nWebsite: http://activeendorsements.co.nz  \nTraining at your site is also available.
URL:https://letslearn.nz/event/forklift-licence/2022-12-15/
LOCATION:Active Endorsements\, 2 Dunlop Road\, Te Puke
CATEGORIES:Vocational Courses
ATTACH;FMTTYPE=image/png:https://letslearn.nz/wp-content/uploads/2022/04/Employ-Forklift-3.png
ORGANIZER;CN="Active Endorsements":MAILTO:activeendorsements@gmail.com
END:VEVENT
BEGIN:VEVENT
DTSTART;TZID=Pacific/Auckland:20221208T084500
DTEND;TZID=Pacific/Auckland:20221208T140000
DTSTAMP:20260418T003742
CREATED:20220425T220802Z
LAST-MODIFIED:20221011T203933Z
UID:10005252-1670489100-1670508000@letslearn.nz
SUMMARY:Forklift Licence
DESCRIPTION:Forklift\n• This will give you an OSH Licence\, which needs to be renewed every three years.  You will be able to use a Forklift in a controlled environment.\n\nForklift with F Endorsement\n• This will give you an OSH Licence plus a ‘F’ endorsement on your licence.\n• If you drive a forklift on the road\, you must have an F endorsement on your driver licence.\n\nA full NZ Drivers Licence is a prerequisite of these courses.\nA pdf file for Forklifts will be emailed to you with your booking confirmation. Study at your leisure\, your assessment will be done  on this material.\n\nDate: Thursdays\nTime: 9.00am – 2.00pm\nPlace:  Active Endorsements\, 2 Dunlop Road\, Te Puke\n\nContact Sheldon to see which weeks they are running and to book the next available date. \nPlease contact Sheldon Magee\nPhone: 027 222 8345\nEmail: activeendorsements@gmail.com\nWebsite: http://activeendorsements.co.nz  \nTraining at your site is also available.
URL:https://letslearn.nz/event/forklift-licence/2022-12-08/
LOCATION:Active Endorsements\, 2 Dunlop Road\, Te Puke
CATEGORIES:Vocational Courses
ATTACH;FMTTYPE=image/png:https://letslearn.nz/wp-content/uploads/2022/04/Employ-Forklift-3.png
ORGANIZER;CN="Active Endorsements":MAILTO:activeendorsements@gmail.com
END:VEVENT
BEGIN:VEVENT
DTSTART;TZID=Pacific/Auckland:20221201T084500
DTEND;TZID=Pacific/Auckland:20221201T140000
DTSTAMP:20260418T003742
CREATED:20220425T220802Z
LAST-MODIFIED:20221011T203933Z
UID:10005251-1669884300-1669903200@letslearn.nz
SUMMARY:Forklift Licence
DESCRIPTION:Forklift\n• This will give you an OSH Licence\, which needs to be renewed every three years.  You will be able to use a Forklift in a controlled environment.\n\nForklift with F Endorsement\n• This will give you an OSH Licence plus a ‘F’ endorsement on your licence.\n• If you drive a forklift on the road\, you must have an F endorsement on your driver licence.\n\nA full NZ Drivers Licence is a prerequisite of these courses.\nA pdf file for Forklifts will be emailed to you with your booking confirmation. Study at your leisure\, your assessment will be done  on this material.\n\nDate: Thursdays\nTime: 9.00am – 2.00pm\nPlace:  Active Endorsements\, 2 Dunlop Road\, Te Puke\n\nContact Sheldon to see which weeks they are running and to book the next available date. \nPlease contact Sheldon Magee\nPhone: 027 222 8345\nEmail: activeendorsements@gmail.com\nWebsite: http://activeendorsements.co.nz  \nTraining at your site is also available.
URL:https://letslearn.nz/event/forklift-licence/2022-12-01/
LOCATION:Active Endorsements\, 2 Dunlop Road\, Te Puke
CATEGORIES:Vocational Courses
ATTACH;FMTTYPE=image/png:https://letslearn.nz/wp-content/uploads/2022/04/Employ-Forklift-3.png
ORGANIZER;CN="Active Endorsements":MAILTO:activeendorsements@gmail.com
END:VEVENT
BEGIN:VEVENT
DTSTART;TZID=Pacific/Auckland:20221124T084500
DTEND;TZID=Pacific/Auckland:20221124T140000
DTSTAMP:20260418T003742
CREATED:20220425T220802Z
LAST-MODIFIED:20221011T203933Z
UID:10005250-1669279500-1669298400@letslearn.nz
SUMMARY:Forklift Licence
DESCRIPTION:Forklift\n• This will give you an OSH Licence\, which needs to be renewed every three years.  You will be able to use a Forklift in a controlled environment.\n\nForklift with F Endorsement\n• This will give you an OSH Licence plus a ‘F’ endorsement on your licence.\n• If you drive a forklift on the road\, you must have an F endorsement on your driver licence.\n\nA full NZ Drivers Licence is a prerequisite of these courses.\nA pdf file for Forklifts will be emailed to you with your booking confirmation. Study at your leisure\, your assessment will be done  on this material.\n\nDate: Thursdays\nTime: 9.00am – 2.00pm\nPlace:  Active Endorsements\, 2 Dunlop Road\, Te Puke\n\nContact Sheldon to see which weeks they are running and to book the next available date. \nPlease contact Sheldon Magee\nPhone: 027 222 8345\nEmail: activeendorsements@gmail.com\nWebsite: http://activeendorsements.co.nz  \nTraining at your site is also available.
URL:https://letslearn.nz/event/forklift-licence/2022-11-24/
LOCATION:Active Endorsements\, 2 Dunlop Road\, Te Puke
CATEGORIES:Vocational Courses
ATTACH;FMTTYPE=image/png:https://letslearn.nz/wp-content/uploads/2022/04/Employ-Forklift-3.png
ORGANIZER;CN="Active Endorsements":MAILTO:activeendorsements@gmail.com
END:VEVENT
BEGIN:VEVENT
DTSTART;TZID=Pacific/Auckland:20221117T084500
DTEND;TZID=Pacific/Auckland:20221117T140000
DTSTAMP:20260418T003742
CREATED:20220425T220802Z
LAST-MODIFIED:20221011T203933Z
UID:10005249-1668674700-1668693600@letslearn.nz
SUMMARY:Forklift Licence
DESCRIPTION:Forklift\n• This will give you an OSH Licence\, which needs to be renewed every three years.  You will be able to use a Forklift in a controlled environment.\n\nForklift with F Endorsement\n• This will give you an OSH Licence plus a ‘F’ endorsement on your licence.\n• If you drive a forklift on the road\, you must have an F endorsement on your driver licence.\n\nA full NZ Drivers Licence is a prerequisite of these courses.\nA pdf file for Forklifts will be emailed to you with your booking confirmation. Study at your leisure\, your assessment will be done  on this material.\n\nDate: Thursdays\nTime: 9.00am – 2.00pm\nPlace:  Active Endorsements\, 2 Dunlop Road\, Te Puke\n\nContact Sheldon to see which weeks they are running and to book the next available date. \nPlease contact Sheldon Magee\nPhone: 027 222 8345\nEmail: activeendorsements@gmail.com\nWebsite: http://activeendorsements.co.nz  \nTraining at your site is also available.
URL:https://letslearn.nz/event/forklift-licence/2022-11-17/
LOCATION:Active Endorsements\, 2 Dunlop Road\, Te Puke
CATEGORIES:Vocational Courses
ATTACH;FMTTYPE=image/png:https://letslearn.nz/wp-content/uploads/2022/04/Employ-Forklift-3.png
ORGANIZER;CN="Active Endorsements":MAILTO:activeendorsements@gmail.com
END:VEVENT
BEGIN:VEVENT
DTSTART;TZID=Pacific/Auckland:20221110T084500
DTEND;TZID=Pacific/Auckland:20221110T140000
DTSTAMP:20260418T003742
CREATED:20220425T220802Z
LAST-MODIFIED:20221011T203933Z
UID:10005248-1668069900-1668088800@letslearn.nz
SUMMARY:Forklift Licence
DESCRIPTION:Forklift\n• This will give you an OSH Licence\, which needs to be renewed every three years.  You will be able to use a Forklift in a controlled environment.\n\nForklift with F Endorsement\n• This will give you an OSH Licence plus a ‘F’ endorsement on your licence.\n• If you drive a forklift on the road\, you must have an F endorsement on your driver licence.\n\nA full NZ Drivers Licence is a prerequisite of these courses.\nA pdf file for Forklifts will be emailed to you with your booking confirmation. Study at your leisure\, your assessment will be done  on this material.\n\nDate: Thursdays\nTime: 9.00am – 2.00pm\nPlace:  Active Endorsements\, 2 Dunlop Road\, Te Puke\n\nContact Sheldon to see which weeks they are running and to book the next available date. \nPlease contact Sheldon Magee\nPhone: 027 222 8345\nEmail: activeendorsements@gmail.com\nWebsite: http://activeendorsements.co.nz  \nTraining at your site is also available.
URL:https://letslearn.nz/event/forklift-licence/2022-11-10/
LOCATION:Active Endorsements\, 2 Dunlop Road\, Te Puke
CATEGORIES:Vocational Courses
ATTACH;FMTTYPE=image/png:https://letslearn.nz/wp-content/uploads/2022/04/Employ-Forklift-3.png
ORGANIZER;CN="Active Endorsements":MAILTO:activeendorsements@gmail.com
END:VEVENT
BEGIN:VEVENT
DTSTART;TZID=Pacific/Auckland:20221103T084500
DTEND;TZID=Pacific/Auckland:20221103T140000
DTSTAMP:20260418T003742
CREATED:20220425T220802Z
LAST-MODIFIED:20221011T203933Z
UID:10005247-1667465100-1667484000@letslearn.nz
SUMMARY:Forklift Licence
DESCRIPTION:Forklift\n• This will give you an OSH Licence\, which needs to be renewed every three years.  You will be able to use a Forklift in a controlled environment.\n\nForklift with F Endorsement\n• This will give you an OSH Licence plus a ‘F’ endorsement on your licence.\n• If you drive a forklift on the road\, you must have an F endorsement on your driver licence.\n\nA full NZ Drivers Licence is a prerequisite of these courses.\nA pdf file for Forklifts will be emailed to you with your booking confirmation. Study at your leisure\, your assessment will be done  on this material.\n\nDate: Thursdays\nTime: 9.00am – 2.00pm\nPlace:  Active Endorsements\, 2 Dunlop Road\, Te Puke\n\nContact Sheldon to see which weeks they are running and to book the next available date. \nPlease contact Sheldon Magee\nPhone: 027 222 8345\nEmail: activeendorsements@gmail.com\nWebsite: http://activeendorsements.co.nz  \nTraining at your site is also available.
URL:https://letslearn.nz/event/forklift-licence/2022-11-03/
LOCATION:Active Endorsements\, 2 Dunlop Road\, Te Puke
CATEGORIES:Vocational Courses
ATTACH;FMTTYPE=image/png:https://letslearn.nz/wp-content/uploads/2022/04/Employ-Forklift-3.png
ORGANIZER;CN="Active Endorsements":MAILTO:activeendorsements@gmail.com
END:VEVENT
BEGIN:VEVENT
DTSTART;TZID=Pacific/Auckland:20221027T084500
DTEND;TZID=Pacific/Auckland:20221027T140000
DTSTAMP:20260418T003742
CREATED:20220425T220802Z
LAST-MODIFIED:20221011T203933Z
UID:10005246-1666860300-1666879200@letslearn.nz
SUMMARY:Forklift Licence
DESCRIPTION:Forklift\n• This will give you an OSH Licence\, which needs to be renewed every three years.  You will be able to use a Forklift in a controlled environment.\n\nForklift with F Endorsement\n• This will give you an OSH Licence plus a ‘F’ endorsement on your licence.\n• If you drive a forklift on the road\, you must have an F endorsement on your driver licence.\n\nA full NZ Drivers Licence is a prerequisite of these courses.\nA pdf file for Forklifts will be emailed to you with your booking confirmation. Study at your leisure\, your assessment will be done  on this material.\n\nDate: Thursdays\nTime: 9.00am – 2.00pm\nPlace:  Active Endorsements\, 2 Dunlop Road\, Te Puke\n\nContact Sheldon to see which weeks they are running and to book the next available date. \nPlease contact Sheldon Magee\nPhone: 027 222 8345\nEmail: activeendorsements@gmail.com\nWebsite: http://activeendorsements.co.nz  \nTraining at your site is also available.
URL:https://letslearn.nz/event/forklift-licence/2022-10-27/
LOCATION:Active Endorsements\, 2 Dunlop Road\, Te Puke
CATEGORIES:Vocational Courses
ATTACH;FMTTYPE=image/png:https://letslearn.nz/wp-content/uploads/2022/04/Employ-Forklift-3.png
ORGANIZER;CN="Active Endorsements":MAILTO:activeendorsements@gmail.com
END:VEVENT
BEGIN:VEVENT
DTSTART;TZID=Pacific/Auckland:20221020T084500
DTEND;TZID=Pacific/Auckland:20221020T140000
DTSTAMP:20260418T003742
CREATED:20220425T220802Z
LAST-MODIFIED:20221011T203933Z
UID:10005245-1666255500-1666274400@letslearn.nz
SUMMARY:Forklift Licence
DESCRIPTION:Forklift\n• This will give you an OSH Licence\, which needs to be renewed every three years.  You will be able to use a Forklift in a controlled environment.\n\nForklift with F Endorsement\n• This will give you an OSH Licence plus a ‘F’ endorsement on your licence.\n• If you drive a forklift on the road\, you must have an F endorsement on your driver licence.\n\nA full NZ Drivers Licence is a prerequisite of these courses.\nA pdf file for Forklifts will be emailed to you with your booking confirmation. Study at your leisure\, your assessment will be done  on this material.\n\nDate: Thursdays\nTime: 9.00am – 2.00pm\nPlace:  Active Endorsements\, 2 Dunlop Road\, Te Puke\n\nContact Sheldon to see which weeks they are running and to book the next available date. \nPlease contact Sheldon Magee\nPhone: 027 222 8345\nEmail: activeendorsements@gmail.com\nWebsite: http://activeendorsements.co.nz  \nTraining at your site is also available.
URL:https://letslearn.nz/event/forklift-licence/2022-10-20/
LOCATION:Active Endorsements\, 2 Dunlop Road\, Te Puke
CATEGORIES:Vocational Courses
ATTACH;FMTTYPE=image/png:https://letslearn.nz/wp-content/uploads/2022/04/Employ-Forklift-3.png
ORGANIZER;CN="Active Endorsements":MAILTO:activeendorsements@gmail.com
END:VEVENT
BEGIN:VEVENT
DTSTART;TZID=Pacific/Auckland:20221013T084500
DTEND;TZID=Pacific/Auckland:20221013T140000
DTSTAMP:20260418T003742
CREATED:20220425T220802Z
LAST-MODIFIED:20221011T203933Z
UID:10005244-1665650700-1665669600@letslearn.nz
SUMMARY:Forklift Licence
DESCRIPTION:Forklift\n• This will give you an OSH Licence\, which needs to be renewed every three years.  You will be able to use a Forklift in a controlled environment.\n\nForklift with F Endorsement\n• This will give you an OSH Licence plus a ‘F’ endorsement on your licence.\n• If you drive a forklift on the road\, you must have an F endorsement on your driver licence.\n\nA full NZ Drivers Licence is a prerequisite of these courses.\nA pdf file for Forklifts will be emailed to you with your booking confirmation. Study at your leisure\, your assessment will be done  on this material.\n\nDate: Thursdays\nTime: 9.00am – 2.00pm\nPlace:  Active Endorsements\, 2 Dunlop Road\, Te Puke\n\nContact Sheldon to see which weeks they are running and to book the next available date. \nPlease contact Sheldon Magee\nPhone: 027 222 8345\nEmail: activeendorsements@gmail.com\nWebsite: http://activeendorsements.co.nz  \nTraining at your site is also available.
URL:https://letslearn.nz/event/forklift-licence/2022-10-13/
LOCATION:Active Endorsements\, 2 Dunlop Road\, Te Puke
CATEGORIES:Vocational Courses
ATTACH;FMTTYPE=image/png:https://letslearn.nz/wp-content/uploads/2022/04/Employ-Forklift-3.png
ORGANIZER;CN="Active Endorsements":MAILTO:activeendorsements@gmail.com
END:VEVENT
BEGIN:VEVENT
DTSTART;TZID=Pacific/Auckland:20200705T100000
DTEND;TZID=Pacific/Auckland:20200712T150000
DTSTAMP:20260418T003742
CREATED:20190826T195534Z
LAST-MODIFIED:20211107T041834Z
UID:10002932-1593943200-1594566000@letslearn.nz
SUMMARY:Get Qualified - Prep for Employment
DESCRIPTION:Interested in working in\n* Early Childhood Education\n* Automotive Trades\n* Construction\n* Information technology\n* Cooking & Hospitality\n* Sport & Fitness\n* NCEA \nWanting to \n* gain confidence in reading &  writing or\n* complete NCEA\n* gain Workplace Skills \nEmploy NZ Fees Free Courses are Open to All Ages\n& have a rolling intake\n– you can start now ! \nRealise your potential \nWhichever course you choose\, in as little as 20 weeks\, you’ll have the skills\, knowledge and confidence you need to get your first job or progress into higher education. \nNeed help to choose ?\nEmploy NZ will help you identify new directions\, plan your career and give you the confidence and skills to take the next step. \n\n\nFree call EmployNZ on 0800 002 159 or\nFree text upskill to 3165 \n\n\n\n\nwww.employnz.co.nz \n \n  \n\n\n  \n 
URL:https://letslearn.nz/event/prep-for-employment-get-qualified/
LOCATION:Employ NZ\, 94 2nd Ave\, Tauranga
CATEGORIES:Computing IT,Employment - Training,Learning,Skills Development,Training,Vocational Courses
ATTACH;FMTTYPE=image/jpeg:https://letslearn.nz/wp-content/uploads/2019/08/Employ-NZ.jpg
ORGANIZER;CN="Justin":MAILTO:info@employnz.co.nz
END:VEVENT
END:VCALENDAR