BEGIN:VCALENDAR
VERSION:2.0
PRODID:-//Let&#039;s Learn - ECPv6.15.14//NONSGML v1.0//EN
CALSCALE:GREGORIAN
METHOD:PUBLISH
X-WR-CALNAME:Let&#039;s Learn
X-ORIGINAL-URL:https://letslearn.nz
X-WR-CALDESC:Events for Let&#039;s Learn
REFRESH-INTERVAL;VALUE=DURATION:PT1H
X-Robots-Tag:noindex
X-PUBLISHED-TTL:PT1H
BEGIN:VTIMEZONE
TZID:Pacific/Auckland
BEGIN:STANDARD
TZOFFSETFROM:+1300
TZOFFSETTO:+1200
TZNAME:NZST
DTSTART:20260404T140000
END:STANDARD
BEGIN:DAYLIGHT
TZOFFSETFROM:+1200
TZOFFSETTO:+1300
TZNAME:NZDT
DTSTART:20260926T140000
END:DAYLIGHT
BEGIN:STANDARD
TZOFFSETFROM:+1300
TZOFFSETTO:+1200
TZNAME:NZST
DTSTART:20270403T140000
END:STANDARD
BEGIN:DAYLIGHT
TZOFFSETFROM:+1200
TZOFFSETTO:+1300
TZNAME:NZDT
DTSTART:20270925T140000
END:DAYLIGHT
BEGIN:STANDARD
TZOFFSETFROM:+1300
TZOFFSETTO:+1200
TZNAME:NZST
DTSTART:20280401T140000
END:STANDARD
BEGIN:DAYLIGHT
TZOFFSETFROM:+1200
TZOFFSETTO:+1300
TZNAME:NZDT
DTSTART:20280923T140000
END:DAYLIGHT
END:VTIMEZONE
BEGIN:VEVENT
DTSTART;TZID=Pacific/Auckland:20270301T093000
DTEND;TZID=Pacific/Auckland:20270301T143000
DTSTAMP:20260420T092138
CREATED:20240127T013051Z
LAST-MODIFIED:20250820T225044Z
UID:10014902-1803893400-1803911400@letslearn.nz
SUMMARY:Papamoa Patchers
DESCRIPTION:Visitors and prospective new members are warmly welcomed. \nWhen:  Mondays at 9.30am\nWhere:  St Andrew’s Church Hall\, Dee Street\, Mount Maunganui.\nTime: 9.30 am-2.30 pm on 1st and 3rd Monday and 9.30am- 12.30pm on 2nd and 4th Monday each month. \nContact :  Phone 021 188 5840 for any further information.\nFacebook: https://www.facebook.com/papamoapatchers
URL:https://letslearn.nz/event/papamoa-patchers/2027-03-01/
LOCATION:St Andrews Church\, Cnr Dee & Macville Streets\, Mount Maunganui
CATEGORIES:Patchwork
ATTACH;FMTTYPE=image/jpeg:https://letslearn.nz/wp-content/uploads/2024/01/Fabric-Papamoa-Patchers.jpg
ORGANIZER;CN="Papamoa Patchers":MAILTO:papamoapatchers1@gmail.com
END:VEVENT
BEGIN:VEVENT
DTSTART;TZID=Pacific/Auckland:20270308T093000
DTEND;TZID=Pacific/Auckland:20270308T143000
DTSTAMP:20260420T092138
CREATED:20240127T013051Z
LAST-MODIFIED:20250820T225044Z
UID:10014903-1804498200-1804516200@letslearn.nz
SUMMARY:Papamoa Patchers
DESCRIPTION:Visitors and prospective new members are warmly welcomed. \nWhen:  Mondays at 9.30am\nWhere:  St Andrew’s Church Hall\, Dee Street\, Mount Maunganui.\nTime: 9.30 am-2.30 pm on 1st and 3rd Monday and 9.30am- 12.30pm on 2nd and 4th Monday each month. \nContact :  Phone 021 188 5840 for any further information.\nFacebook: https://www.facebook.com/papamoapatchers
URL:https://letslearn.nz/event/papamoa-patchers/2027-03-08/
LOCATION:St Andrews Church\, Cnr Dee & Macville Streets\, Mount Maunganui
CATEGORIES:Patchwork
ATTACH;FMTTYPE=image/jpeg:https://letslearn.nz/wp-content/uploads/2024/01/Fabric-Papamoa-Patchers.jpg
ORGANIZER;CN="Papamoa Patchers":MAILTO:papamoapatchers1@gmail.com
END:VEVENT
BEGIN:VEVENT
DTSTART;TZID=Pacific/Auckland:20270312T100000
DTEND;TZID=Pacific/Auckland:20270312T150000
DTSTAMP:20260420T092138
CREATED:20210221T140556Z
LAST-MODIFIED:20250820T224155Z
UID:10035444-1804845600-1804863600@letslearn.nz
SUMMARY:Tauranga Patchwork & Quilters Group
DESCRIPTION:Members of the group meet at the Art and Craft Centre \, 177 Elizabeth Street\, Tauranga \nVisitors are welcome. \nMeets:-  Second & Fourth Fridays; 10am – 3pm\nFacebook link \nFor more information contact: \nEmail: taurangaquilters@gmail.com
URL:https://letslearn.nz/event/tauranga-patchwork-quilters-group/2027-03-12/
LOCATION:Art and Craft Centre \, 177 Elizabeth Street\, Tauranga
CATEGORIES:Clubs,Patchwork,Quilting,Sewing
ATTACH;FMTTYPE=image/jpeg:https://letslearn.nz/wp-content/uploads/2021/02/Patchwork-club-4.jpg
ORGANIZER;CN="Patchwork & Quilters Group":MAILTO:taurangaquilters@gmail.com
END:VEVENT
BEGIN:VEVENT
DTSTART;TZID=Pacific/Auckland:20270315T093000
DTEND;TZID=Pacific/Auckland:20270315T143000
DTSTAMP:20260420T092138
CREATED:20240127T013051Z
LAST-MODIFIED:20250820T225044Z
UID:10014904-1805103000-1805121000@letslearn.nz
SUMMARY:Papamoa Patchers
DESCRIPTION:Visitors and prospective new members are warmly welcomed. \nWhen:  Mondays at 9.30am\nWhere:  St Andrew’s Church Hall\, Dee Street\, Mount Maunganui.\nTime: 9.30 am-2.30 pm on 1st and 3rd Monday and 9.30am- 12.30pm on 2nd and 4th Monday each month. \nContact :  Phone 021 188 5840 for any further information.\nFacebook: https://www.facebook.com/papamoapatchers
URL:https://letslearn.nz/event/papamoa-patchers/2027-03-15/
LOCATION:St Andrews Church\, Cnr Dee & Macville Streets\, Mount Maunganui
CATEGORIES:Patchwork
ATTACH;FMTTYPE=image/jpeg:https://letslearn.nz/wp-content/uploads/2024/01/Fabric-Papamoa-Patchers.jpg
ORGANIZER;CN="Papamoa Patchers":MAILTO:papamoapatchers1@gmail.com
END:VEVENT
BEGIN:VEVENT
DTSTART;TZID=Pacific/Auckland:20270322T093000
DTEND;TZID=Pacific/Auckland:20270322T143000
DTSTAMP:20260420T092138
CREATED:20240127T013051Z
LAST-MODIFIED:20250820T225044Z
UID:10014905-1805707800-1805725800@letslearn.nz
SUMMARY:Papamoa Patchers
DESCRIPTION:Visitors and prospective new members are warmly welcomed. \nWhen:  Mondays at 9.30am\nWhere:  St Andrew’s Church Hall\, Dee Street\, Mount Maunganui.\nTime: 9.30 am-2.30 pm on 1st and 3rd Monday and 9.30am- 12.30pm on 2nd and 4th Monday each month. \nContact :  Phone 021 188 5840 for any further information.\nFacebook: https://www.facebook.com/papamoapatchers
URL:https://letslearn.nz/event/papamoa-patchers/2027-03-22/
LOCATION:St Andrews Church\, Cnr Dee & Macville Streets\, Mount Maunganui
CATEGORIES:Patchwork
ATTACH;FMTTYPE=image/jpeg:https://letslearn.nz/wp-content/uploads/2024/01/Fabric-Papamoa-Patchers.jpg
ORGANIZER;CN="Papamoa Patchers":MAILTO:papamoapatchers1@gmail.com
END:VEVENT
BEGIN:VEVENT
DTSTART;TZID=Pacific/Auckland:20270326T100000
DTEND;TZID=Pacific/Auckland:20270326T150000
DTSTAMP:20260420T092138
CREATED:20230211T090516Z
LAST-MODIFIED:20250820T224031Z
UID:10035325-1806055200-1806073200@letslearn.nz
SUMMARY:Tauranga Patchwork & Quilters Group
DESCRIPTION:Members of the group meet at the Art and Craft Centre \, 177 Elizabeth Street\, Tauranga \nVisitors welcome.\nMeets:-\nSecond & Fourth Fridays; 10am – 3pm\nFacebook link \nFor more information contact: \nEmail: taurangaquilters@gmail.com
URL:https://letslearn.nz/event/tauranga-patchwork-quilters-group-2-2/2027-03-26/
LOCATION:Art and Craft Centre \, 177 Elizabeth Street\, Tauranga
CATEGORIES:Patchwork,Quilting
ATTACH;FMTTYPE=image/jpeg:https://letslearn.nz/wp-content/uploads/2016/09/Patchwork-Club-1.jpg
ORGANIZER;CN="Patchwork & Quilters Group":MAILTO:taurangaquilters@gmail.com
END:VEVENT
BEGIN:VEVENT
DTSTART;TZID=Pacific/Auckland:20270329T093000
DTEND;TZID=Pacific/Auckland:20270329T143000
DTSTAMP:20260420T092138
CREATED:20240127T013051Z
LAST-MODIFIED:20250820T225044Z
UID:10014906-1806312600-1806330600@letslearn.nz
SUMMARY:Papamoa Patchers
DESCRIPTION:Visitors and prospective new members are warmly welcomed. \nWhen:  Mondays at 9.30am\nWhere:  St Andrew’s Church Hall\, Dee Street\, Mount Maunganui.\nTime: 9.30 am-2.30 pm on 1st and 3rd Monday and 9.30am- 12.30pm on 2nd and 4th Monday each month. \nContact :  Phone 021 188 5840 for any further information.\nFacebook: https://www.facebook.com/papamoapatchers
URL:https://letslearn.nz/event/papamoa-patchers/2027-03-29/
LOCATION:St Andrews Church\, Cnr Dee & Macville Streets\, Mount Maunganui
CATEGORIES:Patchwork
ATTACH;FMTTYPE=image/jpeg:https://letslearn.nz/wp-content/uploads/2024/01/Fabric-Papamoa-Patchers.jpg
ORGANIZER;CN="Papamoa Patchers":MAILTO:papamoapatchers1@gmail.com
END:VEVENT
END:VCALENDAR