BEGIN:VCALENDAR
VERSION:2.0
PRODID:-//Let&#039;s Learn - ECPv6.15.14//NONSGML v1.0//EN
CALSCALE:GREGORIAN
METHOD:PUBLISH
X-ORIGINAL-URL:https://letslearn.nz
X-WR-CALDESC:Events for Let&#039;s Learn
REFRESH-INTERVAL;VALUE=DURATION:PT1H
X-Robots-Tag:noindex
X-PUBLISHED-TTL:PT1H
BEGIN:VTIMEZONE
TZID:Pacific/Auckland
BEGIN:STANDARD
TZOFFSETFROM:+1300
TZOFFSETTO:+1200
TZNAME:NZST
DTSTART:20240406T140000
END:STANDARD
BEGIN:DAYLIGHT
TZOFFSETFROM:+1200
TZOFFSETTO:+1300
TZNAME:NZDT
DTSTART:20240928T140000
END:DAYLIGHT
BEGIN:STANDARD
TZOFFSETFROM:+1300
TZOFFSETTO:+1200
TZNAME:NZST
DTSTART:20250405T140000
END:STANDARD
BEGIN:DAYLIGHT
TZOFFSETFROM:+1200
TZOFFSETTO:+1300
TZNAME:NZDT
DTSTART:20250927T140000
END:DAYLIGHT
BEGIN:STANDARD
TZOFFSETFROM:+1300
TZOFFSETTO:+1200
TZNAME:NZST
DTSTART:20260404T140000
END:STANDARD
BEGIN:DAYLIGHT
TZOFFSETFROM:+1200
TZOFFSETTO:+1300
TZNAME:NZDT
DTSTART:20260926T140000
END:DAYLIGHT
END:VTIMEZONE
BEGIN:VEVENT
DTSTART;TZID=Pacific/Auckland:20250901T093000
DTEND;TZID=Pacific/Auckland:20250901T130000
DTSTAMP:20260421T001827
CREATED:20230211T083825Z
LAST-MODIFIED:20240127T005012Z
UID:10014439-1756719000-1756731600@letslearn.nz
SUMMARY:Tauranga Creative Fibre Group
DESCRIPTION:Enjoy learning new crafts. \nTauranga Creative Fibre meets every Monday\,  9.30am\, at 177 Elizabeth Street\, Tauranga.  Learn knitting\, crochet\, spinning\, weaving\, felting & dying. \nThey also get together on the 2nd & 4th Thursday of the month at 6.30pm at the same venue. \nContact Person: Rosanne\nPhone: 0275 752 175 \nFacebook: www.facebook.com/taurangacreativefibre
URL:https://letslearn.nz/event/9324-2/2025-09-01/
LOCATION:Art & Craft Centre\, 177 Elizabeth St\, Tauranga
CATEGORIES:Clubs,Crochet,Felting,Knitting,Spinning,Weaving
ATTACH;FMTTYPE=image/jpeg:https://letslearn.nz/wp-content/uploads/2019/08/Creative-Fibre-1.jpg
END:VEVENT
BEGIN:VEVENT
DTSTART;TZID=Pacific/Auckland:20250902T100000
DTEND;TZID=Pacific/Auckland:20250902T120000
DTSTAMP:20260421T001827
CREATED:20210101T023035Z
LAST-MODIFIED:20250130T152950Z
UID:10027109-1756807200-1756814400@letslearn.nz
SUMMARY:Knit & Knatter at Papamoa Library
DESCRIPTION:Join us for some friendly knitting and a good natter. Bring along your latest project\, share your ideas and skills or simply enjoy time spent with fellow creators.\nCrocheters\, cross stitchers\, embroiderers and beginner knitters are welcome. \nWhere: Papamoa Library\, 15 Gravatt Road\nWhen:\nTuesdays 10am -12pm\nWednesdays at 1pm- 2pm\n \nOther sessions are held: \nGreerton Library  :  Tuesdays at 12.30pm – 2pm
URL:https://letslearn.nz/event/knit-knatter-at-your-library/2025-09-02/
LOCATION:Papamoa Library\, 15 Gravatt Road\, Papamoa
CATEGORIES:Crochet,Embroidery,Knitting
ATTACH;FMTTYPE=image/png:https://letslearn.nz/wp-content/uploads/2021/01/Craft-Knit-Knatter-Papamoa.png
ORGANIZER;CN="Tauranga Libraries - Te Ao M%C4%81rama":MAILTO:library@tauranga.govt.nz 
END:VEVENT
BEGIN:VEVENT
DTSTART;TZID=Pacific/Auckland:20250903T100000
DTEND;TZID=Pacific/Auckland:20250903T120000
DTSTAMP:20260421T001827
CREATED:20210721T182835Z
LAST-MODIFIED:20250130T154750Z
UID:10027892-1756893600-1756900800@letslearn.nz
SUMMARY:Knit and Natter – Ōmokoroa
DESCRIPTION:Do you love crafting with company? Come along to knit (or crochet\, sew\, quilt…) and natter in the library. \nWhen: Wednesdays 10am – 12 noon\nWhere:  Ōmokoroa Library\nCost:  Free
URL:https://letslearn.nz/event/knit-and-natter-omokoroa/2025-09-03/
LOCATION:Omokoroa Library\, 28 Western Avenue\, Ōmokoroa
CATEGORIES:Crochet,Knitting,Sewing
ATTACH;FMTTYPE=image/png:https://letslearn.nz/wp-content/uploads/2021/07/Fibre-Knitting-Omokoroa.png
ORGANIZER;CN="Omokoroa Library%2C 28 Western Avenue%2C %C5%8Cmokoroa":MAILTO:libraries@westernbay.govt.nz
END:VEVENT
BEGIN:VEVENT
DTSTART;TZID=Pacific/Auckland:20250903T130000
DTEND;TZID=Pacific/Auckland:20250903T140000
DTSTAMP:20260421T001827
CREATED:20250130T152850Z
LAST-MODIFIED:20250130T152850Z
UID:10027631-1756904400-1756908000@letslearn.nz
SUMMARY:Knit & Knatter at Papamoa Library
DESCRIPTION:Join us for some friendly knitting and a good natter. Bring along your latest project\, share your ideas and skills or simply enjoy time spent with fellow creators.\nCrocheters\, cross stitchers\, embroiderers and beginner knitters are welcome. \nWhere: Papamoa Library\, 15 Gravatt Road\nWhen:\nTuesdays 10am -12pm\nWednesdays at 1pm- 2pm\n \nOther sessions are held: \nGreerton Library  :  Tuesdays at 12.30pm – 2pm
URL:https://letslearn.nz/event/knit-knatter-at-papamoa-library/2025-09-03/
LOCATION:Papamoa Library\, 15 Gravatt Road\, Papamoa
CATEGORIES:Crochet,Embroidery,Knitting
ATTACH;FMTTYPE=image/jpeg:https://letslearn.nz/wp-content/uploads/2025/01/Fibre-Library-Mount.jpg
ORGANIZER;CN="Tauranga Libraries - Te Ao M%C4%81rama":MAILTO:library@tauranga.govt.nz 
END:VEVENT
BEGIN:VEVENT
DTSTART;TZID=Pacific/Auckland:20250908T093000
DTEND;TZID=Pacific/Auckland:20250908T130000
DTSTAMP:20260421T001827
CREATED:20230211T083825Z
LAST-MODIFIED:20240127T005012Z
UID:10014440-1757323800-1757336400@letslearn.nz
SUMMARY:Tauranga Creative Fibre Group
DESCRIPTION:Enjoy learning new crafts. \nTauranga Creative Fibre meets every Monday\,  9.30am\, at 177 Elizabeth Street\, Tauranga.  Learn knitting\, crochet\, spinning\, weaving\, felting & dying. \nThey also get together on the 2nd & 4th Thursday of the month at 6.30pm at the same venue. \nContact Person: Rosanne\nPhone: 0275 752 175 \nFacebook: www.facebook.com/taurangacreativefibre
URL:https://letslearn.nz/event/9324-2/2025-09-08/
LOCATION:Art & Craft Centre\, 177 Elizabeth St\, Tauranga
CATEGORIES:Clubs,Crochet,Felting,Knitting,Spinning,Weaving
ATTACH;FMTTYPE=image/jpeg:https://letslearn.nz/wp-content/uploads/2019/08/Creative-Fibre-1.jpg
END:VEVENT
BEGIN:VEVENT
DTSTART;TZID=Pacific/Auckland:20250909T100000
DTEND;TZID=Pacific/Auckland:20250909T120000
DTSTAMP:20260421T001827
CREATED:20210101T023035Z
LAST-MODIFIED:20250130T152950Z
UID:10027110-1757412000-1757419200@letslearn.nz
SUMMARY:Knit & Knatter at Papamoa Library
DESCRIPTION:Join us for some friendly knitting and a good natter. Bring along your latest project\, share your ideas and skills or simply enjoy time spent with fellow creators.\nCrocheters\, cross stitchers\, embroiderers and beginner knitters are welcome. \nWhere: Papamoa Library\, 15 Gravatt Road\nWhen:\nTuesdays 10am -12pm\nWednesdays at 1pm- 2pm\n \nOther sessions are held: \nGreerton Library  :  Tuesdays at 12.30pm – 2pm
URL:https://letslearn.nz/event/knit-knatter-at-your-library/2025-09-09/
LOCATION:Papamoa Library\, 15 Gravatt Road\, Papamoa
CATEGORIES:Crochet,Embroidery,Knitting
ATTACH;FMTTYPE=image/png:https://letslearn.nz/wp-content/uploads/2021/01/Craft-Knit-Knatter-Papamoa.png
ORGANIZER;CN="Tauranga Libraries - Te Ao M%C4%81rama":MAILTO:library@tauranga.govt.nz 
END:VEVENT
BEGIN:VEVENT
DTSTART;TZID=Pacific/Auckland:20250910T100000
DTEND;TZID=Pacific/Auckland:20250910T120000
DTSTAMP:20260421T001827
CREATED:20210721T182835Z
LAST-MODIFIED:20250130T154750Z
UID:10027893-1757498400-1757505600@letslearn.nz
SUMMARY:Knit and Natter – Ōmokoroa
DESCRIPTION:Do you love crafting with company? Come along to knit (or crochet\, sew\, quilt…) and natter in the library. \nWhen: Wednesdays 10am – 12 noon\nWhere:  Ōmokoroa Library\nCost:  Free
URL:https://letslearn.nz/event/knit-and-natter-omokoroa/2025-09-10/
LOCATION:Omokoroa Library\, 28 Western Avenue\, Ōmokoroa
CATEGORIES:Crochet,Knitting,Sewing
ATTACH;FMTTYPE=image/png:https://letslearn.nz/wp-content/uploads/2021/07/Fibre-Knitting-Omokoroa.png
ORGANIZER;CN="Omokoroa Library%2C 28 Western Avenue%2C %C5%8Cmokoroa":MAILTO:libraries@westernbay.govt.nz
END:VEVENT
BEGIN:VEVENT
DTSTART;TZID=Pacific/Auckland:20250910T130000
DTEND;TZID=Pacific/Auckland:20250910T140000
DTSTAMP:20260421T001827
CREATED:20250130T152850Z
LAST-MODIFIED:20250130T152850Z
UID:10027632-1757509200-1757512800@letslearn.nz
SUMMARY:Knit & Knatter at Papamoa Library
DESCRIPTION:Join us for some friendly knitting and a good natter. Bring along your latest project\, share your ideas and skills or simply enjoy time spent with fellow creators.\nCrocheters\, cross stitchers\, embroiderers and beginner knitters are welcome. \nWhere: Papamoa Library\, 15 Gravatt Road\nWhen:\nTuesdays 10am -12pm\nWednesdays at 1pm- 2pm\n \nOther sessions are held: \nGreerton Library  :  Tuesdays at 12.30pm – 2pm
URL:https://letslearn.nz/event/knit-knatter-at-papamoa-library/2025-09-10/
LOCATION:Papamoa Library\, 15 Gravatt Road\, Papamoa
CATEGORIES:Crochet,Embroidery,Knitting
ATTACH;FMTTYPE=image/jpeg:https://letslearn.nz/wp-content/uploads/2025/01/Fibre-Library-Mount.jpg
ORGANIZER;CN="Tauranga Libraries - Te Ao M%C4%81rama":MAILTO:library@tauranga.govt.nz 
END:VEVENT
BEGIN:VEVENT
DTSTART;TZID=Pacific/Auckland:20250915T093000
DTEND;TZID=Pacific/Auckland:20250915T130000
DTSTAMP:20260421T001827
CREATED:20230211T083825Z
LAST-MODIFIED:20240127T005012Z
UID:10014441-1757928600-1757941200@letslearn.nz
SUMMARY:Tauranga Creative Fibre Group
DESCRIPTION:Enjoy learning new crafts. \nTauranga Creative Fibre meets every Monday\,  9.30am\, at 177 Elizabeth Street\, Tauranga.  Learn knitting\, crochet\, spinning\, weaving\, felting & dying. \nThey also get together on the 2nd & 4th Thursday of the month at 6.30pm at the same venue. \nContact Person: Rosanne\nPhone: 0275 752 175 \nFacebook: www.facebook.com/taurangacreativefibre
URL:https://letslearn.nz/event/9324-2/2025-09-15/
LOCATION:Art & Craft Centre\, 177 Elizabeth St\, Tauranga
CATEGORIES:Clubs,Crochet,Felting,Knitting,Spinning,Weaving
ATTACH;FMTTYPE=image/jpeg:https://letslearn.nz/wp-content/uploads/2019/08/Creative-Fibre-1.jpg
END:VEVENT
BEGIN:VEVENT
DTSTART;TZID=Pacific/Auckland:20250916T100000
DTEND;TZID=Pacific/Auckland:20250916T120000
DTSTAMP:20260421T001827
CREATED:20210101T023035Z
LAST-MODIFIED:20250130T152950Z
UID:10027111-1758016800-1758024000@letslearn.nz
SUMMARY:Knit & Knatter at Papamoa Library
DESCRIPTION:Join us for some friendly knitting and a good natter. Bring along your latest project\, share your ideas and skills or simply enjoy time spent with fellow creators.\nCrocheters\, cross stitchers\, embroiderers and beginner knitters are welcome. \nWhere: Papamoa Library\, 15 Gravatt Road\nWhen:\nTuesdays 10am -12pm\nWednesdays at 1pm- 2pm\n \nOther sessions are held: \nGreerton Library  :  Tuesdays at 12.30pm – 2pm
URL:https://letslearn.nz/event/knit-knatter-at-your-library/2025-09-16/
LOCATION:Papamoa Library\, 15 Gravatt Road\, Papamoa
CATEGORIES:Crochet,Embroidery,Knitting
ATTACH;FMTTYPE=image/png:https://letslearn.nz/wp-content/uploads/2021/01/Craft-Knit-Knatter-Papamoa.png
ORGANIZER;CN="Tauranga Libraries - Te Ao M%C4%81rama":MAILTO:library@tauranga.govt.nz 
END:VEVENT
BEGIN:VEVENT
DTSTART;TZID=Pacific/Auckland:20250917T100000
DTEND;TZID=Pacific/Auckland:20250917T120000
DTSTAMP:20260421T001827
CREATED:20210721T182835Z
LAST-MODIFIED:20250130T154750Z
UID:10027894-1758103200-1758110400@letslearn.nz
SUMMARY:Knit and Natter – Ōmokoroa
DESCRIPTION:Do you love crafting with company? Come along to knit (or crochet\, sew\, quilt…) and natter in the library. \nWhen: Wednesdays 10am – 12 noon\nWhere:  Ōmokoroa Library\nCost:  Free
URL:https://letslearn.nz/event/knit-and-natter-omokoroa/2025-09-17/
LOCATION:Omokoroa Library\, 28 Western Avenue\, Ōmokoroa
CATEGORIES:Crochet,Knitting,Sewing
ATTACH;FMTTYPE=image/png:https://letslearn.nz/wp-content/uploads/2021/07/Fibre-Knitting-Omokoroa.png
ORGANIZER;CN="Omokoroa Library%2C 28 Western Avenue%2C %C5%8Cmokoroa":MAILTO:libraries@westernbay.govt.nz
END:VEVENT
BEGIN:VEVENT
DTSTART;TZID=Pacific/Auckland:20250917T130000
DTEND;TZID=Pacific/Auckland:20250917T140000
DTSTAMP:20260421T001827
CREATED:20250130T152850Z
LAST-MODIFIED:20250130T152850Z
UID:10027633-1758114000-1758117600@letslearn.nz
SUMMARY:Knit & Knatter at Papamoa Library
DESCRIPTION:Join us for some friendly knitting and a good natter. Bring along your latest project\, share your ideas and skills or simply enjoy time spent with fellow creators.\nCrocheters\, cross stitchers\, embroiderers and beginner knitters are welcome. \nWhere: Papamoa Library\, 15 Gravatt Road\nWhen:\nTuesdays 10am -12pm\nWednesdays at 1pm- 2pm\n \nOther sessions are held: \nGreerton Library  :  Tuesdays at 12.30pm – 2pm
URL:https://letslearn.nz/event/knit-knatter-at-papamoa-library/2025-09-17/
LOCATION:Papamoa Library\, 15 Gravatt Road\, Papamoa
CATEGORIES:Crochet,Embroidery,Knitting
ATTACH;FMTTYPE=image/jpeg:https://letslearn.nz/wp-content/uploads/2025/01/Fibre-Library-Mount.jpg
ORGANIZER;CN="Tauranga Libraries - Te Ao M%C4%81rama":MAILTO:library@tauranga.govt.nz 
END:VEVENT
BEGIN:VEVENT
DTSTART;TZID=Pacific/Auckland:20250922T093000
DTEND;TZID=Pacific/Auckland:20250922T130000
DTSTAMP:20260421T001827
CREATED:20230211T083825Z
LAST-MODIFIED:20240127T005012Z
UID:10014442-1758533400-1758546000@letslearn.nz
SUMMARY:Tauranga Creative Fibre Group
DESCRIPTION:Enjoy learning new crafts. \nTauranga Creative Fibre meets every Monday\,  9.30am\, at 177 Elizabeth Street\, Tauranga.  Learn knitting\, crochet\, spinning\, weaving\, felting & dying. \nThey also get together on the 2nd & 4th Thursday of the month at 6.30pm at the same venue. \nContact Person: Rosanne\nPhone: 0275 752 175 \nFacebook: www.facebook.com/taurangacreativefibre
URL:https://letslearn.nz/event/9324-2/2025-09-22/
LOCATION:Art & Craft Centre\, 177 Elizabeth St\, Tauranga
CATEGORIES:Clubs,Crochet,Felting,Knitting,Spinning,Weaving
ATTACH;FMTTYPE=image/jpeg:https://letslearn.nz/wp-content/uploads/2019/08/Creative-Fibre-1.jpg
END:VEVENT
BEGIN:VEVENT
DTSTART;TZID=Pacific/Auckland:20250923T100000
DTEND;TZID=Pacific/Auckland:20250923T120000
DTSTAMP:20260421T001827
CREATED:20210101T023035Z
LAST-MODIFIED:20250130T152950Z
UID:10027112-1758621600-1758628800@letslearn.nz
SUMMARY:Knit & Knatter at Papamoa Library
DESCRIPTION:Join us for some friendly knitting and a good natter. Bring along your latest project\, share your ideas and skills or simply enjoy time spent with fellow creators.\nCrocheters\, cross stitchers\, embroiderers and beginner knitters are welcome. \nWhere: Papamoa Library\, 15 Gravatt Road\nWhen:\nTuesdays 10am -12pm\nWednesdays at 1pm- 2pm\n \nOther sessions are held: \nGreerton Library  :  Tuesdays at 12.30pm – 2pm
URL:https://letslearn.nz/event/knit-knatter-at-your-library/2025-09-23/
LOCATION:Papamoa Library\, 15 Gravatt Road\, Papamoa
CATEGORIES:Crochet,Embroidery,Knitting
ATTACH;FMTTYPE=image/png:https://letslearn.nz/wp-content/uploads/2021/01/Craft-Knit-Knatter-Papamoa.png
ORGANIZER;CN="Tauranga Libraries - Te Ao M%C4%81rama":MAILTO:library@tauranga.govt.nz 
END:VEVENT
BEGIN:VEVENT
DTSTART;TZID=Pacific/Auckland:20250924T100000
DTEND;TZID=Pacific/Auckland:20250924T120000
DTSTAMP:20260421T001827
CREATED:20210721T182835Z
LAST-MODIFIED:20250130T154750Z
UID:10027895-1758708000-1758715200@letslearn.nz
SUMMARY:Knit and Natter – Ōmokoroa
DESCRIPTION:Do you love crafting with company? Come along to knit (or crochet\, sew\, quilt…) and natter in the library. \nWhen: Wednesdays 10am – 12 noon\nWhere:  Ōmokoroa Library\nCost:  Free
URL:https://letslearn.nz/event/knit-and-natter-omokoroa/2025-09-24/
LOCATION:Omokoroa Library\, 28 Western Avenue\, Ōmokoroa
CATEGORIES:Crochet,Knitting,Sewing
ATTACH;FMTTYPE=image/png:https://letslearn.nz/wp-content/uploads/2021/07/Fibre-Knitting-Omokoroa.png
ORGANIZER;CN="Omokoroa Library%2C 28 Western Avenue%2C %C5%8Cmokoroa":MAILTO:libraries@westernbay.govt.nz
END:VEVENT
BEGIN:VEVENT
DTSTART;TZID=Pacific/Auckland:20250924T130000
DTEND;TZID=Pacific/Auckland:20250924T140000
DTSTAMP:20260421T001827
CREATED:20250130T152850Z
LAST-MODIFIED:20250130T152850Z
UID:10027634-1758718800-1758722400@letslearn.nz
SUMMARY:Knit & Knatter at Papamoa Library
DESCRIPTION:Join us for some friendly knitting and a good natter. Bring along your latest project\, share your ideas and skills or simply enjoy time spent with fellow creators.\nCrocheters\, cross stitchers\, embroiderers and beginner knitters are welcome. \nWhere: Papamoa Library\, 15 Gravatt Road\nWhen:\nTuesdays 10am -12pm\nWednesdays at 1pm- 2pm\n \nOther sessions are held: \nGreerton Library  :  Tuesdays at 12.30pm – 2pm
URL:https://letslearn.nz/event/knit-knatter-at-papamoa-library/2025-09-24/
LOCATION:Papamoa Library\, 15 Gravatt Road\, Papamoa
CATEGORIES:Crochet,Embroidery,Knitting
ATTACH;FMTTYPE=image/jpeg:https://letslearn.nz/wp-content/uploads/2025/01/Fibre-Library-Mount.jpg
ORGANIZER;CN="Tauranga Libraries - Te Ao M%C4%81rama":MAILTO:library@tauranga.govt.nz 
END:VEVENT
BEGIN:VEVENT
DTSTART;TZID=Pacific/Auckland:20250925T190000
DTEND;TZID=Pacific/Auckland:20250925T210000
DTSTAMP:20260421T001827
CREATED:20191005T195957Z
LAST-MODIFIED:20240127T005925Z
UID:10014645-1758826800-1758834000@letslearn.nz
SUMMARY:Tauranga Creative Fibre Evening Group
DESCRIPTION:Tauranga Creative Fibre meets on the 2nd and 4th Thursday of the month in the evening from 7pm.\nThe group meets at 177 Elizabeth Street\, Tauranga. \nLearn knitting\, crochet\, spinning\, weaving & felting. \nContact Person: Rosanne\nPhone: 0275 752 175\nFacebook: https://www.facebook.com/taurangacreativefibre
URL:https://letslearn.nz/event/tauranga-creative-fibre-evening-group/2025-09-25/
LOCATION:Art & Craft Centre\, 177 Elizabeth St\, Tauranga
CATEGORIES:Crochet,Dyeing,Felting,Knitting,Spinning,Weaving
ATTACH;FMTTYPE=image/jpeg:https://letslearn.nz/wp-content/uploads/2019/10/Creative-Fibre-Weaving.jpg
END:VEVENT
BEGIN:VEVENT
DTSTART;TZID=Pacific/Auckland:20250929T093000
DTEND;TZID=Pacific/Auckland:20250929T130000
DTSTAMP:20260421T001827
CREATED:20230211T083825Z
LAST-MODIFIED:20240127T005012Z
UID:10014443-1759138200-1759150800@letslearn.nz
SUMMARY:Tauranga Creative Fibre Group
DESCRIPTION:Enjoy learning new crafts. \nTauranga Creative Fibre meets every Monday\,  9.30am\, at 177 Elizabeth Street\, Tauranga.  Learn knitting\, crochet\, spinning\, weaving\, felting & dying. \nThey also get together on the 2nd & 4th Thursday of the month at 6.30pm at the same venue. \nContact Person: Rosanne\nPhone: 0275 752 175 \nFacebook: www.facebook.com/taurangacreativefibre
URL:https://letslearn.nz/event/9324-2/2025-09-29/
LOCATION:Art & Craft Centre\, 177 Elizabeth St\, Tauranga
CATEGORIES:Clubs,Crochet,Felting,Knitting,Spinning,Weaving
ATTACH;FMTTYPE=image/jpeg:https://letslearn.nz/wp-content/uploads/2019/08/Creative-Fibre-1.jpg
END:VEVENT
BEGIN:VEVENT
DTSTART;TZID=Pacific/Auckland:20250930T100000
DTEND;TZID=Pacific/Auckland:20250930T120000
DTSTAMP:20260421T001827
CREATED:20210101T023035Z
LAST-MODIFIED:20250130T152950Z
UID:10027113-1759226400-1759233600@letslearn.nz
SUMMARY:Knit & Knatter at Papamoa Library
DESCRIPTION:Join us for some friendly knitting and a good natter. Bring along your latest project\, share your ideas and skills or simply enjoy time spent with fellow creators.\nCrocheters\, cross stitchers\, embroiderers and beginner knitters are welcome. \nWhere: Papamoa Library\, 15 Gravatt Road\nWhen:\nTuesdays 10am -12pm\nWednesdays at 1pm- 2pm\n \nOther sessions are held: \nGreerton Library  :  Tuesdays at 12.30pm – 2pm
URL:https://letslearn.nz/event/knit-knatter-at-your-library/2025-09-30/
LOCATION:Papamoa Library\, 15 Gravatt Road\, Papamoa
CATEGORIES:Crochet,Embroidery,Knitting
ATTACH;FMTTYPE=image/png:https://letslearn.nz/wp-content/uploads/2021/01/Craft-Knit-Knatter-Papamoa.png
ORGANIZER;CN="Tauranga Libraries - Te Ao M%C4%81rama":MAILTO:library@tauranga.govt.nz 
END:VEVENT
END:VCALENDAR