BEGIN:VCALENDAR
VERSION:2.0
PRODID:-//Let&#039;s Learn - ECPv6.15.14//NONSGML v1.0//EN
CALSCALE:GREGORIAN
METHOD:PUBLISH
X-WR-CALNAME:Let&#039;s Learn
X-ORIGINAL-URL:https://letslearn.nz
X-WR-CALDESC:Events for Let&#039;s Learn
REFRESH-INTERVAL;VALUE=DURATION:PT1H
X-Robots-Tag:noindex
X-PUBLISHED-TTL:PT1H
BEGIN:VTIMEZONE
TZID:Pacific/Auckland
BEGIN:STANDARD
TZOFFSETFROM:+1300
TZOFFSETTO:+1200
TZNAME:NZST
DTSTART:20190406T140000
END:STANDARD
BEGIN:DAYLIGHT
TZOFFSETFROM:+1200
TZOFFSETTO:+1300
TZNAME:NZDT
DTSTART:20190928T140000
END:DAYLIGHT
BEGIN:STANDARD
TZOFFSETFROM:+1300
TZOFFSETTO:+1200
TZNAME:NZST
DTSTART:20200404T140000
END:STANDARD
BEGIN:DAYLIGHT
TZOFFSETFROM:+1200
TZOFFSETTO:+1300
TZNAME:NZDT
DTSTART:20200926T140000
END:DAYLIGHT
BEGIN:STANDARD
TZOFFSETFROM:+1300
TZOFFSETTO:+1200
TZNAME:NZST
DTSTART:20210403T140000
END:STANDARD
BEGIN:DAYLIGHT
TZOFFSETFROM:+1200
TZOFFSETTO:+1300
TZNAME:NZDT
DTSTART:20210925T140000
END:DAYLIGHT
BEGIN:STANDARD
TZOFFSETFROM:+1300
TZOFFSETTO:+1200
TZNAME:NZST
DTSTART:20220402T140000
END:STANDARD
BEGIN:DAYLIGHT
TZOFFSETFROM:+1200
TZOFFSETTO:+1300
TZNAME:NZDT
DTSTART:20220924T140000
END:DAYLIGHT
BEGIN:STANDARD
TZOFFSETFROM:+1300
TZOFFSETTO:+1200
TZNAME:NZST
DTSTART:20230401T140000
END:STANDARD
BEGIN:DAYLIGHT
TZOFFSETFROM:+1200
TZOFFSETTO:+1300
TZNAME:NZDT
DTSTART:20230923T140000
END:DAYLIGHT
BEGIN:STANDARD
TZOFFSETFROM:+1300
TZOFFSETTO:+1200
TZNAME:NZST
DTSTART:20240406T140000
END:STANDARD
BEGIN:DAYLIGHT
TZOFFSETFROM:+1200
TZOFFSETTO:+1300
TZNAME:NZDT
DTSTART:20240928T140000
END:DAYLIGHT
BEGIN:STANDARD
TZOFFSETFROM:+1300
TZOFFSETTO:+1200
TZNAME:NZST
DTSTART:20250405T140000
END:STANDARD
BEGIN:DAYLIGHT
TZOFFSETFROM:+1200
TZOFFSETTO:+1300
TZNAME:NZDT
DTSTART:20250927T140000
END:DAYLIGHT
BEGIN:STANDARD
TZOFFSETFROM:+1300
TZOFFSETTO:+1200
TZNAME:NZST
DTSTART:20260404T140000
END:STANDARD
BEGIN:DAYLIGHT
TZOFFSETFROM:+1200
TZOFFSETTO:+1300
TZNAME:NZDT
DTSTART:20260926T140000
END:DAYLIGHT
BEGIN:STANDARD
TZOFFSETFROM:+1300
TZOFFSETTO:+1200
TZNAME:NZST
DTSTART:20270403T140000
END:STANDARD
BEGIN:DAYLIGHT
TZOFFSETFROM:+1200
TZOFFSETTO:+1300
TZNAME:NZDT
DTSTART:20270925T140000
END:DAYLIGHT
END:VTIMEZONE
BEGIN:VEVENT
DTSTART;TZID=Pacific/Auckland:20260404T140000
DTEND;TZID=Pacific/Auckland:20260404T180000
DTSTAMP:20260423T115611
CREATED:20260127T122519Z
LAST-MODIFIED:20260127T122821Z
UID:10039761-1775311200-1775325600@letslearn.nz
SUMMARY:Te Pahi Classes : All About Knives
DESCRIPTION:Sharpening and maintenance\nUsing your knives\nKnife knowledge and good habits\nCreate a shared meal\nThe first Saturday of the month \nFebruary 7th 2pm\nMarch 7th 2pm\nApril 4th 2pm\nMay 2nd 2pm\nJune 6th 2pm\nJuly 4th 2pm\nAugust 1st 2pm\nSeptember 5th 2pm\nOctober 3rd 2pm\nNovember 7th 2pm\nDecember 5th 2pm \nCost :  $130 per person\nFood created is devoured\nClasses approx 4 hours\nOptions to buy and or make a knife \nBook now
URL:https://letslearn.nz/event/te-pahi-classes-all-about-knives/2026-04-04/
CATEGORIES:Food,Food Safety,Seasonal
ATTACH;FMTTYPE=image/jpeg:https://letslearn.nz/wp-content/uploads/2026/01/Cooking-Te-Pahi-knives.jpg
ORGANIZER;CN="Te Pahi Cooking Classes":MAILTO:james@tepahi.co.nz 
END:VEVENT
BEGIN:VEVENT
DTSTART;TZID=Pacific/Auckland:20260307T140000
DTEND;TZID=Pacific/Auckland:20260307T180000
DTSTAMP:20260423T115611
CREATED:20260127T122519Z
LAST-MODIFIED:20260127T122821Z
UID:10039760-1772892000-1772906400@letslearn.nz
SUMMARY:Te Pahi Classes : All About Knives
DESCRIPTION:Sharpening and maintenance\nUsing your knives\nKnife knowledge and good habits\nCreate a shared meal\nThe first Saturday of the month \nFebruary 7th 2pm\nMarch 7th 2pm\nApril 4th 2pm\nMay 2nd 2pm\nJune 6th 2pm\nJuly 4th 2pm\nAugust 1st 2pm\nSeptember 5th 2pm\nOctober 3rd 2pm\nNovember 7th 2pm\nDecember 5th 2pm \nCost :  $130 per person\nFood created is devoured\nClasses approx 4 hours\nOptions to buy and or make a knife \nBook now
URL:https://letslearn.nz/event/te-pahi-classes-all-about-knives/2026-03-07/
CATEGORIES:Food,Food Safety,Seasonal
ATTACH;FMTTYPE=image/jpeg:https://letslearn.nz/wp-content/uploads/2026/01/Cooking-Te-Pahi-knives.jpg
ORGANIZER;CN="Te Pahi Cooking Classes":MAILTO:james@tepahi.co.nz 
END:VEVENT
BEGIN:VEVENT
DTSTART;TZID=Pacific/Auckland:20260207T140000
DTEND;TZID=Pacific/Auckland:20260207T180000
DTSTAMP:20260423T115611
CREATED:20260127T122519Z
LAST-MODIFIED:20260127T122821Z
UID:10039759-1770472800-1770487200@letslearn.nz
SUMMARY:Te Pahi Classes : All About Knives
DESCRIPTION:Sharpening and maintenance\nUsing your knives\nKnife knowledge and good habits\nCreate a shared meal\nThe first Saturday of the month \nFebruary 7th 2pm\nMarch 7th 2pm\nApril 4th 2pm\nMay 2nd 2pm\nJune 6th 2pm\nJuly 4th 2pm\nAugust 1st 2pm\nSeptember 5th 2pm\nOctober 3rd 2pm\nNovember 7th 2pm\nDecember 5th 2pm \nCost :  $130 per person\nFood created is devoured\nClasses approx 4 hours\nOptions to buy and or make a knife \nBook now
URL:https://letslearn.nz/event/te-pahi-classes-all-about-knives/2026-02-07/
CATEGORIES:Food,Food Safety,Seasonal
ATTACH;FMTTYPE=image/jpeg:https://letslearn.nz/wp-content/uploads/2026/01/Cooking-Te-Pahi-knives.jpg
ORGANIZER;CN="Te Pahi Cooking Classes":MAILTO:james@tepahi.co.nz 
END:VEVENT
BEGIN:VEVENT
DTSTART;TZID=Pacific/Auckland:20201020T190000
DTEND;TZID=Pacific/Auckland:20201020T210000
DTSTAMP:20260423T115611
CREATED:20191102T135606Z
LAST-MODIFIED:20211107T202442Z
UID:10003802-1603220400-1603227600@letslearn.nz
SUMMARY:Andrea's Beeswax Wraps Workshop
DESCRIPTION:Want to make a change? Using less plastic in your household? Great\, you’re in good hands. \nLearn how to create your own beeswax wraps to reduce your single use plastic wraps. For $35 ( including eventbrite fees) you get to make and take home 2 wraps worth $20 and gain this valuable skill for life! There are only 8 spaces so get in quick! \nAndrea will take you through a 2 hour workshop which shows you the tips and tricks to make good quality beeswax wraps at home. \nThe first hour will be hearing what others do in regards to sustainable practices and korero about environmental issues\, connecting as a group. \nAll material and resources will be provided. Secure your spot by booking directly with Eventbrite thanks. \nIf you are a club or a organisation (group of friends) that would like to learn collectively I can organise an alternative venue for you that suits. Feel free to approach me. 027 955 7499 \nLet’s make a difference together!!\nhttps://www.facebook.com/kiwihomesteaders \n \n 
URL:https://letslearn.nz/event/beeswax-wraps-workshop/
LOCATION:96 b Valley Rd\, Mount Maunganui
CATEGORIES:Eco-Friendly,Food Safety
ATTACH;FMTTYPE=image/jpeg:https://letslearn.nz/wp-content/uploads/2019/11/Andrea-Lehmann-Beeswax-Wraps-Nov-19-1.jpg
ORGANIZER;CN="Andrea Lehmann":MAILTO:Kiwihomesteaders@gmail.com
END:VEVENT
END:VCALENDAR