BEGIN:VCALENDAR
VERSION:2.0
PRODID:-//Let&#039;s Learn - ECPv6.15.14//NONSGML v1.0//EN
CALSCALE:GREGORIAN
METHOD:PUBLISH
X-ORIGINAL-URL:https://letslearn.nz
X-WR-CALDESC:Events for Let&#039;s Learn
REFRESH-INTERVAL;VALUE=DURATION:PT1H
X-Robots-Tag:noindex
X-PUBLISHED-TTL:PT1H
BEGIN:VTIMEZONE
TZID:Pacific/Auckland
BEGIN:STANDARD
TZOFFSETFROM:+1300
TZOFFSETTO:+1200
TZNAME:NZST
DTSTART:20230401T140000
END:STANDARD
BEGIN:DAYLIGHT
TZOFFSETFROM:+1200
TZOFFSETTO:+1300
TZNAME:NZDT
DTSTART:20230923T140000
END:DAYLIGHT
BEGIN:STANDARD
TZOFFSETFROM:+1300
TZOFFSETTO:+1200
TZNAME:NZST
DTSTART:20240406T140000
END:STANDARD
BEGIN:DAYLIGHT
TZOFFSETFROM:+1200
TZOFFSETTO:+1300
TZNAME:NZDT
DTSTART:20240928T140000
END:DAYLIGHT
BEGIN:STANDARD
TZOFFSETFROM:+1300
TZOFFSETTO:+1200
TZNAME:NZST
DTSTART:20250405T140000
END:STANDARD
BEGIN:DAYLIGHT
TZOFFSETFROM:+1200
TZOFFSETTO:+1300
TZNAME:NZDT
DTSTART:20250927T140000
END:DAYLIGHT
END:VTIMEZONE
BEGIN:VEVENT
DTSTART;TZID=Pacific/Auckland:20240501T090000
DTEND;TZID=Pacific/Auckland:20240501T100000
DTSTAMP:20260423T135154
CREATED:20240126T234457Z
LAST-MODIFIED:20240127T003605Z
UID:10013625-1714554000-1714557600@letslearn.nz
SUMMARY:Taijiquan & Qigong
DESCRIPTION:Join the Taiji/Qigong group.  All welcome. \nDays: Saturdays and Wednesdays\nTime: 9am\nPlace:  Kulim Park on the beach by big rock.\nCost:  Free \nContact Petro for further details.\nPhone: 021 751 665
URL:https://letslearn.nz/event/taijiquan-qigong-2/2024-05-01/
LOCATION:Kulim Park\, 101 Kulim Avenue\, Otumoetai\, Tauranga
CATEGORIES:Free,Tai Chi
ATTACH;FMTTYPE=image/jpeg:https://letslearn.nz/wp-content/uploads/2022/02/Exercise-Qigong.jpg
END:VEVENT
BEGIN:VEVENT
DTSTART;TZID=Pacific/Auckland:20240504T090000
DTEND;TZID=Pacific/Auckland:20240504T100000
DTSTAMP:20260423T135154
CREATED:20220203T102641Z
LAST-MODIFIED:20250301T002803Z
UID:10013103-1714813200-1714816800@letslearn.nz
SUMMARY:Taijiquan & Qigong
DESCRIPTION:Join the Taiji/Qigong group.  All welcome. \nDays: Saturdays and Wednesdays\nTime: 9am\nPlace:  Kulim Park on the beach by big rock.\nCost:  Free \nContact Petro for further details.\nPhone: 021 751 665
URL:https://letslearn.nz/event/taijiquan-qigong/2024-05-04/
LOCATION:Kulim Park\, 101 Kulim Avenue\, Otumoetai\, Tauranga
CATEGORIES:Free,Tai Chi
ATTACH;FMTTYPE=image/jpeg:https://letslearn.nz/wp-content/uploads/2022/02/Exercise-Qigong.jpg
END:VEVENT
BEGIN:VEVENT
DTSTART;TZID=Pacific/Auckland:20240504T180000
DTEND;TZID=Pacific/Auckland:20240504T230000
DTSTAMP:20260423T135154
CREATED:20210820T234913Z
LAST-MODIFIED:20230926T025230Z
UID:10011130-1714845600-1714863600@letslearn.nz
SUMMARY:Paintvine: Free Online Tutorials
DESCRIPTION:Feel free to check out our free online library for some funky fresh step-by-step painting tutorials to keep you creative whenever you choose. \nCHOOSE HERE
URL:https://letslearn.nz/event/paintvine-free-online-tutorials/2024-05-04/
LOCATION:On Line
CATEGORIES:Free,Online Tutorials,Painting
ATTACH;FMTTYPE=image/png:https://letslearn.nz/wp-content/uploads/2021/08/Art-Paintvine-OnLine.png
ORGANIZER;CN="Paintvine":MAILTO:hello@paintvine.co.nz
END:VEVENT
BEGIN:VEVENT
DTSTART;TZID=Pacific/Auckland:20240508T090000
DTEND;TZID=Pacific/Auckland:20240508T100000
DTSTAMP:20260423T135154
CREATED:20240126T234457Z
LAST-MODIFIED:20240127T003605Z
UID:10013626-1715158800-1715162400@letslearn.nz
SUMMARY:Taijiquan & Qigong
DESCRIPTION:Join the Taiji/Qigong group.  All welcome. \nDays: Saturdays and Wednesdays\nTime: 9am\nPlace:  Kulim Park on the beach by big rock.\nCost:  Free \nContact Petro for further details.\nPhone: 021 751 665
URL:https://letslearn.nz/event/taijiquan-qigong-2/2024-05-08/
LOCATION:Kulim Park\, 101 Kulim Avenue\, Otumoetai\, Tauranga
CATEGORIES:Free,Tai Chi
ATTACH;FMTTYPE=image/jpeg:https://letslearn.nz/wp-content/uploads/2022/02/Exercise-Qigong.jpg
END:VEVENT
BEGIN:VEVENT
DTSTART;TZID=Pacific/Auckland:20240508T103000
DTEND;TZID=Pacific/Auckland:20240508T120000
DTSTAMP:20260423T135154
CREATED:20210121T041539Z
LAST-MODIFIED:20230626T220534Z
UID:10009025-1715164200-1715169600@letslearn.nz
SUMMARY:Language Brew - Fun English Classes
DESCRIPTION:Free morning tea held fortnightly Wednesday 10.30am-12pm \nWhen: Wednesdays 10.30am – 11.30pm\nWhere: Multicultural Centre\, Historic Village\, 17th Ave\, Tauranga \nFor details:\nContact Multicultural Tauranga\nTuesday to Thursday\nPh: 07 571 6419\nEmail: enquiries@trmc.co.nz\nWebsite: www.trmc.co.nz \nAlso at the Centre:\nFree English Conversational Classes on Thursdays 10am-Noon
URL:https://letslearn.nz/event/multicultural-newcomers-network/2024-05-08/
LOCATION:Multicultural Tauranga\, Historic Village\, 17th Ave\, Tauranga
CATEGORIES:Community Groups,Conversational English,English (ESOL),English Classes,Free
ATTACH;FMTTYPE=image/jpeg:https://letslearn.nz/wp-content/uploads/2020/07/Language-English-Multicultural-1.jpg
ORGANIZER;CN="Multicultural Tauranga":MAILTO:enquiries@trmc.co.nz
END:VEVENT
BEGIN:VEVENT
DTSTART;TZID=Pacific/Auckland:20240511T090000
DTEND;TZID=Pacific/Auckland:20240511T100000
DTSTAMP:20260423T135154
CREATED:20220203T102641Z
LAST-MODIFIED:20250301T002803Z
UID:10013104-1715418000-1715421600@letslearn.nz
SUMMARY:Taijiquan & Qigong
DESCRIPTION:Join the Taiji/Qigong group.  All welcome. \nDays: Saturdays and Wednesdays\nTime: 9am\nPlace:  Kulim Park on the beach by big rock.\nCost:  Free \nContact Petro for further details.\nPhone: 021 751 665
URL:https://letslearn.nz/event/taijiquan-qigong/2024-05-11/
LOCATION:Kulim Park\, 101 Kulim Avenue\, Otumoetai\, Tauranga
CATEGORIES:Free,Tai Chi
ATTACH;FMTTYPE=image/jpeg:https://letslearn.nz/wp-content/uploads/2022/02/Exercise-Qigong.jpg
END:VEVENT
BEGIN:VEVENT
DTSTART;TZID=Pacific/Auckland:20240511T180000
DTEND;TZID=Pacific/Auckland:20240511T230000
DTSTAMP:20260423T135154
CREATED:20210820T234913Z
LAST-MODIFIED:20230926T025230Z
UID:10011131-1715450400-1715468400@letslearn.nz
SUMMARY:Paintvine: Free Online Tutorials
DESCRIPTION:Feel free to check out our free online library for some funky fresh step-by-step painting tutorials to keep you creative whenever you choose. \nCHOOSE HERE
URL:https://letslearn.nz/event/paintvine-free-online-tutorials/2024-05-11/
LOCATION:On Line
CATEGORIES:Free,Online Tutorials,Painting
ATTACH;FMTTYPE=image/png:https://letslearn.nz/wp-content/uploads/2021/08/Art-Paintvine-OnLine.png
ORGANIZER;CN="Paintvine":MAILTO:hello@paintvine.co.nz
END:VEVENT
BEGIN:VEVENT
DTSTART;TZID=Pacific/Auckland:20240515T090000
DTEND;TZID=Pacific/Auckland:20240515T100000
DTSTAMP:20260423T135154
CREATED:20240126T234457Z
LAST-MODIFIED:20240127T003605Z
UID:10013627-1715763600-1715767200@letslearn.nz
SUMMARY:Taijiquan & Qigong
DESCRIPTION:Join the Taiji/Qigong group.  All welcome. \nDays: Saturdays and Wednesdays\nTime: 9am\nPlace:  Kulim Park on the beach by big rock.\nCost:  Free \nContact Petro for further details.\nPhone: 021 751 665
URL:https://letslearn.nz/event/taijiquan-qigong-2/2024-05-15/
LOCATION:Kulim Park\, 101 Kulim Avenue\, Otumoetai\, Tauranga
CATEGORIES:Free,Tai Chi
ATTACH;FMTTYPE=image/jpeg:https://letslearn.nz/wp-content/uploads/2022/02/Exercise-Qigong.jpg
END:VEVENT
BEGIN:VEVENT
DTSTART;TZID=Pacific/Auckland:20240518T090000
DTEND;TZID=Pacific/Auckland:20240518T100000
DTSTAMP:20260423T135154
CREATED:20220203T102641Z
LAST-MODIFIED:20250301T002803Z
UID:10013105-1716022800-1716026400@letslearn.nz
SUMMARY:Taijiquan & Qigong
DESCRIPTION:Join the Taiji/Qigong group.  All welcome. \nDays: Saturdays and Wednesdays\nTime: 9am\nPlace:  Kulim Park on the beach by big rock.\nCost:  Free \nContact Petro for further details.\nPhone: 021 751 665
URL:https://letslearn.nz/event/taijiquan-qigong/2024-05-18/
LOCATION:Kulim Park\, 101 Kulim Avenue\, Otumoetai\, Tauranga
CATEGORIES:Free,Tai Chi
ATTACH;FMTTYPE=image/jpeg:https://letslearn.nz/wp-content/uploads/2022/02/Exercise-Qigong.jpg
END:VEVENT
BEGIN:VEVENT
DTSTART;TZID=Pacific/Auckland:20240518T180000
DTEND;TZID=Pacific/Auckland:20240518T230000
DTSTAMP:20260423T135154
CREATED:20210820T234913Z
LAST-MODIFIED:20230926T025230Z
UID:10011132-1716055200-1716073200@letslearn.nz
SUMMARY:Paintvine: Free Online Tutorials
DESCRIPTION:Feel free to check out our free online library for some funky fresh step-by-step painting tutorials to keep you creative whenever you choose. \nCHOOSE HERE
URL:https://letslearn.nz/event/paintvine-free-online-tutorials/2024-05-18/
LOCATION:On Line
CATEGORIES:Free,Online Tutorials,Painting
ATTACH;FMTTYPE=image/png:https://letslearn.nz/wp-content/uploads/2021/08/Art-Paintvine-OnLine.png
ORGANIZER;CN="Paintvine":MAILTO:hello@paintvine.co.nz
END:VEVENT
BEGIN:VEVENT
DTSTART;TZID=Pacific/Auckland:20240522T090000
DTEND;TZID=Pacific/Auckland:20240522T100000
DTSTAMP:20260423T135154
CREATED:20240126T234457Z
LAST-MODIFIED:20240127T003605Z
UID:10013628-1716368400-1716372000@letslearn.nz
SUMMARY:Taijiquan & Qigong
DESCRIPTION:Join the Taiji/Qigong group.  All welcome. \nDays: Saturdays and Wednesdays\nTime: 9am\nPlace:  Kulim Park on the beach by big rock.\nCost:  Free \nContact Petro for further details.\nPhone: 021 751 665
URL:https://letslearn.nz/event/taijiquan-qigong-2/2024-05-22/
LOCATION:Kulim Park\, 101 Kulim Avenue\, Otumoetai\, Tauranga
CATEGORIES:Free,Tai Chi
ATTACH;FMTTYPE=image/jpeg:https://letslearn.nz/wp-content/uploads/2022/02/Exercise-Qigong.jpg
END:VEVENT
BEGIN:VEVENT
DTSTART;TZID=Pacific/Auckland:20240522T103000
DTEND;TZID=Pacific/Auckland:20240522T120000
DTSTAMP:20260423T135154
CREATED:20210121T041539Z
LAST-MODIFIED:20230626T220534Z
UID:10009026-1716373800-1716379200@letslearn.nz
SUMMARY:Language Brew - Fun English Classes
DESCRIPTION:Free morning tea held fortnightly Wednesday 10.30am-12pm \nWhen: Wednesdays 10.30am – 11.30pm\nWhere: Multicultural Centre\, Historic Village\, 17th Ave\, Tauranga \nFor details:\nContact Multicultural Tauranga\nTuesday to Thursday\nPh: 07 571 6419\nEmail: enquiries@trmc.co.nz\nWebsite: www.trmc.co.nz \nAlso at the Centre:\nFree English Conversational Classes on Thursdays 10am-Noon
URL:https://letslearn.nz/event/multicultural-newcomers-network/2024-05-22/
LOCATION:Multicultural Tauranga\, Historic Village\, 17th Ave\, Tauranga
CATEGORIES:Community Groups,Conversational English,English (ESOL),English Classes,Free
ATTACH;FMTTYPE=image/jpeg:https://letslearn.nz/wp-content/uploads/2020/07/Language-English-Multicultural-1.jpg
ORGANIZER;CN="Multicultural Tauranga":MAILTO:enquiries@trmc.co.nz
END:VEVENT
BEGIN:VEVENT
DTSTART;TZID=Pacific/Auckland:20240525T090000
DTEND;TZID=Pacific/Auckland:20240525T100000
DTSTAMP:20260423T135154
CREATED:20220203T102641Z
LAST-MODIFIED:20250301T002803Z
UID:10013106-1716627600-1716631200@letslearn.nz
SUMMARY:Taijiquan & Qigong
DESCRIPTION:Join the Taiji/Qigong group.  All welcome. \nDays: Saturdays and Wednesdays\nTime: 9am\nPlace:  Kulim Park on the beach by big rock.\nCost:  Free \nContact Petro for further details.\nPhone: 021 751 665
URL:https://letslearn.nz/event/taijiquan-qigong/2024-05-25/
LOCATION:Kulim Park\, 101 Kulim Avenue\, Otumoetai\, Tauranga
CATEGORIES:Free,Tai Chi
ATTACH;FMTTYPE=image/jpeg:https://letslearn.nz/wp-content/uploads/2022/02/Exercise-Qigong.jpg
END:VEVENT
BEGIN:VEVENT
DTSTART;TZID=Pacific/Auckland:20240525T180000
DTEND;TZID=Pacific/Auckland:20240525T230000
DTSTAMP:20260423T135154
CREATED:20210820T234913Z
LAST-MODIFIED:20230926T025230Z
UID:10011133-1716660000-1716678000@letslearn.nz
SUMMARY:Paintvine: Free Online Tutorials
DESCRIPTION:Feel free to check out our free online library for some funky fresh step-by-step painting tutorials to keep you creative whenever you choose. \nCHOOSE HERE
URL:https://letslearn.nz/event/paintvine-free-online-tutorials/2024-05-25/
LOCATION:On Line
CATEGORIES:Free,Online Tutorials,Painting
ATTACH;FMTTYPE=image/png:https://letslearn.nz/wp-content/uploads/2021/08/Art-Paintvine-OnLine.png
ORGANIZER;CN="Paintvine":MAILTO:hello@paintvine.co.nz
END:VEVENT
BEGIN:VEVENT
DTSTART;TZID=Pacific/Auckland:20240529T090000
DTEND;TZID=Pacific/Auckland:20240529T100000
DTSTAMP:20260423T135154
CREATED:20240126T234457Z
LAST-MODIFIED:20240127T003605Z
UID:10013629-1716973200-1716976800@letslearn.nz
SUMMARY:Taijiquan & Qigong
DESCRIPTION:Join the Taiji/Qigong group.  All welcome. \nDays: Saturdays and Wednesdays\nTime: 9am\nPlace:  Kulim Park on the beach by big rock.\nCost:  Free \nContact Petro for further details.\nPhone: 021 751 665
URL:https://letslearn.nz/event/taijiquan-qigong-2/2024-05-29/
LOCATION:Kulim Park\, 101 Kulim Avenue\, Otumoetai\, Tauranga
CATEGORIES:Free,Tai Chi
ATTACH;FMTTYPE=image/jpeg:https://letslearn.nz/wp-content/uploads/2022/02/Exercise-Qigong.jpg
END:VEVENT
END:VCALENDAR