BEGIN:VCALENDAR
VERSION:2.0
PRODID:-//Let&#039;s Learn - ECPv6.15.14//NONSGML v1.0//EN
CALSCALE:GREGORIAN
METHOD:PUBLISH
X-ORIGINAL-URL:https://letslearn.nz
X-WR-CALDESC:Events for Let&#039;s Learn
REFRESH-INTERVAL;VALUE=DURATION:PT1H
X-Robots-Tag:noindex
X-PUBLISHED-TTL:PT1H
BEGIN:VTIMEZONE
TZID:Pacific/Auckland
BEGIN:STANDARD
TZOFFSETFROM:+1300
TZOFFSETTO:+1200
TZNAME:NZST
DTSTART:20230401T140000
END:STANDARD
BEGIN:DAYLIGHT
TZOFFSETFROM:+1200
TZOFFSETTO:+1300
TZNAME:NZDT
DTSTART:20230923T140000
END:DAYLIGHT
BEGIN:STANDARD
TZOFFSETFROM:+1300
TZOFFSETTO:+1200
TZNAME:NZST
DTSTART:20240406T140000
END:STANDARD
BEGIN:DAYLIGHT
TZOFFSETFROM:+1200
TZOFFSETTO:+1300
TZNAME:NZDT
DTSTART:20240928T140000
END:DAYLIGHT
BEGIN:STANDARD
TZOFFSETFROM:+1300
TZOFFSETTO:+1200
TZNAME:NZST
DTSTART:20250405T140000
END:STANDARD
BEGIN:DAYLIGHT
TZOFFSETFROM:+1200
TZOFFSETTO:+1300
TZNAME:NZDT
DTSTART:20250927T140000
END:DAYLIGHT
END:VTIMEZONE
BEGIN:VEVENT
DTSTART;TZID=Pacific/Auckland:20240601T090000
DTEND;TZID=Pacific/Auckland:20240601T100000
DTSTAMP:20260420T022446
CREATED:20220203T102641Z
LAST-MODIFIED:20250301T002803Z
UID:10013107-1717232400-1717236000@letslearn.nz
SUMMARY:Taijiquan & Qigong
DESCRIPTION:Join the Taiji/Qigong group.  All welcome. \nDays: Saturdays and Wednesdays\nTime: 9am\nPlace:  Kulim Park on the beach by big rock.\nCost:  Free \nContact Petro for further details.\nPhone: 021 751 665
URL:https://letslearn.nz/event/taijiquan-qigong/2024-06-01/
LOCATION:Kulim Park\, 101 Kulim Avenue\, Otumoetai\, Tauranga
CATEGORIES:Free,Tai Chi
ATTACH;FMTTYPE=image/jpeg:https://letslearn.nz/wp-content/uploads/2022/02/Exercise-Qigong.jpg
END:VEVENT
BEGIN:VEVENT
DTSTART;TZID=Pacific/Auckland:20240601T180000
DTEND;TZID=Pacific/Auckland:20240601T230000
DTSTAMP:20260420T022446
CREATED:20210820T234913Z
LAST-MODIFIED:20230926T025230Z
UID:10011134-1717264800-1717282800@letslearn.nz
SUMMARY:Paintvine: Free Online Tutorials
DESCRIPTION:Feel free to check out our free online library for some funky fresh step-by-step painting tutorials to keep you creative whenever you choose. \nCHOOSE HERE
URL:https://letslearn.nz/event/paintvine-free-online-tutorials/2024-06-01/
LOCATION:On Line
CATEGORIES:Free,Online Tutorials,Painting
ATTACH;FMTTYPE=image/png:https://letslearn.nz/wp-content/uploads/2021/08/Art-Paintvine-OnLine.png
ORGANIZER;CN="Paintvine":MAILTO:hello@paintvine.co.nz
END:VEVENT
BEGIN:VEVENT
DTSTART;TZID=Pacific/Auckland:20240605T090000
DTEND;TZID=Pacific/Auckland:20240605T100000
DTSTAMP:20260420T022446
CREATED:20240126T234457Z
LAST-MODIFIED:20240127T003605Z
UID:10013630-1717578000-1717581600@letslearn.nz
SUMMARY:Taijiquan & Qigong
DESCRIPTION:Join the Taiji/Qigong group.  All welcome. \nDays: Saturdays and Wednesdays\nTime: 9am\nPlace:  Kulim Park on the beach by big rock.\nCost:  Free \nContact Petro for further details.\nPhone: 021 751 665
URL:https://letslearn.nz/event/taijiquan-qigong-2/2024-06-05/
LOCATION:Kulim Park\, 101 Kulim Avenue\, Otumoetai\, Tauranga
CATEGORIES:Free,Tai Chi
ATTACH;FMTTYPE=image/jpeg:https://letslearn.nz/wp-content/uploads/2022/02/Exercise-Qigong.jpg
END:VEVENT
BEGIN:VEVENT
DTSTART;TZID=Pacific/Auckland:20240605T103000
DTEND;TZID=Pacific/Auckland:20240605T120000
DTSTAMP:20260420T022446
CREATED:20210121T041539Z
LAST-MODIFIED:20230626T220534Z
UID:10009027-1717583400-1717588800@letslearn.nz
SUMMARY:Language Brew - Fun English Classes
DESCRIPTION:Free morning tea held fortnightly Wednesday 10.30am-12pm \nWhen: Wednesdays 10.30am – 11.30pm\nWhere: Multicultural Centre\, Historic Village\, 17th Ave\, Tauranga \nFor details:\nContact Multicultural Tauranga\nTuesday to Thursday\nPh: 07 571 6419\nEmail: enquiries@trmc.co.nz\nWebsite: www.trmc.co.nz \nAlso at the Centre:\nFree English Conversational Classes on Thursdays 10am-Noon
URL:https://letslearn.nz/event/multicultural-newcomers-network/2024-06-05/
LOCATION:Multicultural Tauranga\, Historic Village\, 17th Ave\, Tauranga
CATEGORIES:Community Groups,Conversational English,English (ESOL),English Classes,Free
ATTACH;FMTTYPE=image/jpeg:https://letslearn.nz/wp-content/uploads/2020/07/Language-English-Multicultural-1.jpg
ORGANIZER;CN="Multicultural Tauranga":MAILTO:enquiries@trmc.co.nz
END:VEVENT
BEGIN:VEVENT
DTSTART;TZID=Pacific/Auckland:20240608T090000
DTEND;TZID=Pacific/Auckland:20240608T100000
DTSTAMP:20260420T022446
CREATED:20220203T102641Z
LAST-MODIFIED:20250301T002803Z
UID:10013108-1717837200-1717840800@letslearn.nz
SUMMARY:Taijiquan & Qigong
DESCRIPTION:Join the Taiji/Qigong group.  All welcome. \nDays: Saturdays and Wednesdays\nTime: 9am\nPlace:  Kulim Park on the beach by big rock.\nCost:  Free \nContact Petro for further details.\nPhone: 021 751 665
URL:https://letslearn.nz/event/taijiquan-qigong/2024-06-08/
LOCATION:Kulim Park\, 101 Kulim Avenue\, Otumoetai\, Tauranga
CATEGORIES:Free,Tai Chi
ATTACH;FMTTYPE=image/jpeg:https://letslearn.nz/wp-content/uploads/2022/02/Exercise-Qigong.jpg
END:VEVENT
BEGIN:VEVENT
DTSTART;TZID=Pacific/Auckland:20240608T180000
DTEND;TZID=Pacific/Auckland:20240608T230000
DTSTAMP:20260420T022446
CREATED:20210820T234913Z
LAST-MODIFIED:20230926T025230Z
UID:10011135-1717869600-1717887600@letslearn.nz
SUMMARY:Paintvine: Free Online Tutorials
DESCRIPTION:Feel free to check out our free online library for some funky fresh step-by-step painting tutorials to keep you creative whenever you choose. \nCHOOSE HERE
URL:https://letslearn.nz/event/paintvine-free-online-tutorials/2024-06-08/
LOCATION:On Line
CATEGORIES:Free,Online Tutorials,Painting
ATTACH;FMTTYPE=image/png:https://letslearn.nz/wp-content/uploads/2021/08/Art-Paintvine-OnLine.png
ORGANIZER;CN="Paintvine":MAILTO:hello@paintvine.co.nz
END:VEVENT
BEGIN:VEVENT
DTSTART;TZID=Pacific/Auckland:20240612T090000
DTEND;TZID=Pacific/Auckland:20240612T100000
DTSTAMP:20260420T022446
CREATED:20240126T234457Z
LAST-MODIFIED:20240127T003605Z
UID:10013631-1718182800-1718186400@letslearn.nz
SUMMARY:Taijiquan & Qigong
DESCRIPTION:Join the Taiji/Qigong group.  All welcome. \nDays: Saturdays and Wednesdays\nTime: 9am\nPlace:  Kulim Park on the beach by big rock.\nCost:  Free \nContact Petro for further details.\nPhone: 021 751 665
URL:https://letslearn.nz/event/taijiquan-qigong-2/2024-06-12/
LOCATION:Kulim Park\, 101 Kulim Avenue\, Otumoetai\, Tauranga
CATEGORIES:Free,Tai Chi
ATTACH;FMTTYPE=image/jpeg:https://letslearn.nz/wp-content/uploads/2022/02/Exercise-Qigong.jpg
END:VEVENT
BEGIN:VEVENT
DTSTART;TZID=Pacific/Auckland:20240615T090000
DTEND;TZID=Pacific/Auckland:20240615T100000
DTSTAMP:20260420T022446
CREATED:20220203T102641Z
LAST-MODIFIED:20250301T002803Z
UID:10013109-1718442000-1718445600@letslearn.nz
SUMMARY:Taijiquan & Qigong
DESCRIPTION:Join the Taiji/Qigong group.  All welcome. \nDays: Saturdays and Wednesdays\nTime: 9am\nPlace:  Kulim Park on the beach by big rock.\nCost:  Free \nContact Petro for further details.\nPhone: 021 751 665
URL:https://letslearn.nz/event/taijiquan-qigong/2024-06-15/
LOCATION:Kulim Park\, 101 Kulim Avenue\, Otumoetai\, Tauranga
CATEGORIES:Free,Tai Chi
ATTACH;FMTTYPE=image/jpeg:https://letslearn.nz/wp-content/uploads/2022/02/Exercise-Qigong.jpg
END:VEVENT
BEGIN:VEVENT
DTSTART;TZID=Pacific/Auckland:20240615T180000
DTEND;TZID=Pacific/Auckland:20240615T230000
DTSTAMP:20260420T022446
CREATED:20210820T234913Z
LAST-MODIFIED:20230926T025230Z
UID:10011136-1718474400-1718492400@letslearn.nz
SUMMARY:Paintvine: Free Online Tutorials
DESCRIPTION:Feel free to check out our free online library for some funky fresh step-by-step painting tutorials to keep you creative whenever you choose. \nCHOOSE HERE
URL:https://letslearn.nz/event/paintvine-free-online-tutorials/2024-06-15/
LOCATION:On Line
CATEGORIES:Free,Online Tutorials,Painting
ATTACH;FMTTYPE=image/png:https://letslearn.nz/wp-content/uploads/2021/08/Art-Paintvine-OnLine.png
ORGANIZER;CN="Paintvine":MAILTO:hello@paintvine.co.nz
END:VEVENT
BEGIN:VEVENT
DTSTART;TZID=Pacific/Auckland:20240619T090000
DTEND;TZID=Pacific/Auckland:20240619T100000
DTSTAMP:20260420T022446
CREATED:20240126T234457Z
LAST-MODIFIED:20240127T003605Z
UID:10013632-1718787600-1718791200@letslearn.nz
SUMMARY:Taijiquan & Qigong
DESCRIPTION:Join the Taiji/Qigong group.  All welcome. \nDays: Saturdays and Wednesdays\nTime: 9am\nPlace:  Kulim Park on the beach by big rock.\nCost:  Free \nContact Petro for further details.\nPhone: 021 751 665
URL:https://letslearn.nz/event/taijiquan-qigong-2/2024-06-19/
LOCATION:Kulim Park\, 101 Kulim Avenue\, Otumoetai\, Tauranga
CATEGORIES:Free,Tai Chi
ATTACH;FMTTYPE=image/jpeg:https://letslearn.nz/wp-content/uploads/2022/02/Exercise-Qigong.jpg
END:VEVENT
BEGIN:VEVENT
DTSTART;TZID=Pacific/Auckland:20240619T103000
DTEND;TZID=Pacific/Auckland:20240619T120000
DTSTAMP:20260420T022446
CREATED:20210121T041539Z
LAST-MODIFIED:20230626T220534Z
UID:10009028-1718793000-1718798400@letslearn.nz
SUMMARY:Language Brew - Fun English Classes
DESCRIPTION:Free morning tea held fortnightly Wednesday 10.30am-12pm \nWhen: Wednesdays 10.30am – 11.30pm\nWhere: Multicultural Centre\, Historic Village\, 17th Ave\, Tauranga \nFor details:\nContact Multicultural Tauranga\nTuesday to Thursday\nPh: 07 571 6419\nEmail: enquiries@trmc.co.nz\nWebsite: www.trmc.co.nz \nAlso at the Centre:\nFree English Conversational Classes on Thursdays 10am-Noon
URL:https://letslearn.nz/event/multicultural-newcomers-network/2024-06-19/
LOCATION:Multicultural Tauranga\, Historic Village\, 17th Ave\, Tauranga
CATEGORIES:Community Groups,Conversational English,English (ESOL),English Classes,Free
ATTACH;FMTTYPE=image/jpeg:https://letslearn.nz/wp-content/uploads/2020/07/Language-English-Multicultural-1.jpg
ORGANIZER;CN="Multicultural Tauranga":MAILTO:enquiries@trmc.co.nz
END:VEVENT
BEGIN:VEVENT
DTSTART;TZID=Pacific/Auckland:20240622T090000
DTEND;TZID=Pacific/Auckland:20240622T100000
DTSTAMP:20260420T022446
CREATED:20220203T102641Z
LAST-MODIFIED:20250301T002803Z
UID:10013110-1719046800-1719050400@letslearn.nz
SUMMARY:Taijiquan & Qigong
DESCRIPTION:Join the Taiji/Qigong group.  All welcome. \nDays: Saturdays and Wednesdays\nTime: 9am\nPlace:  Kulim Park on the beach by big rock.\nCost:  Free \nContact Petro for further details.\nPhone: 021 751 665
URL:https://letslearn.nz/event/taijiquan-qigong/2024-06-22/
LOCATION:Kulim Park\, 101 Kulim Avenue\, Otumoetai\, Tauranga
CATEGORIES:Free,Tai Chi
ATTACH;FMTTYPE=image/jpeg:https://letslearn.nz/wp-content/uploads/2022/02/Exercise-Qigong.jpg
END:VEVENT
BEGIN:VEVENT
DTSTART;TZID=Pacific/Auckland:20240622T180000
DTEND;TZID=Pacific/Auckland:20240622T230000
DTSTAMP:20260420T022446
CREATED:20210820T234913Z
LAST-MODIFIED:20230926T025230Z
UID:10011137-1719079200-1719097200@letslearn.nz
SUMMARY:Paintvine: Free Online Tutorials
DESCRIPTION:Feel free to check out our free online library for some funky fresh step-by-step painting tutorials to keep you creative whenever you choose. \nCHOOSE HERE
URL:https://letslearn.nz/event/paintvine-free-online-tutorials/2024-06-22/
LOCATION:On Line
CATEGORIES:Free,Online Tutorials,Painting
ATTACH;FMTTYPE=image/png:https://letslearn.nz/wp-content/uploads/2021/08/Art-Paintvine-OnLine.png
ORGANIZER;CN="Paintvine":MAILTO:hello@paintvine.co.nz
END:VEVENT
BEGIN:VEVENT
DTSTART;TZID=Pacific/Auckland:20240626T090000
DTEND;TZID=Pacific/Auckland:20240626T100000
DTSTAMP:20260420T022446
CREATED:20240126T234457Z
LAST-MODIFIED:20240127T003605Z
UID:10013633-1719392400-1719396000@letslearn.nz
SUMMARY:Taijiquan & Qigong
DESCRIPTION:Join the Taiji/Qigong group.  All welcome. \nDays: Saturdays and Wednesdays\nTime: 9am\nPlace:  Kulim Park on the beach by big rock.\nCost:  Free \nContact Petro for further details.\nPhone: 021 751 665
URL:https://letslearn.nz/event/taijiquan-qigong-2/2024-06-26/
LOCATION:Kulim Park\, 101 Kulim Avenue\, Otumoetai\, Tauranga
CATEGORIES:Free,Tai Chi
ATTACH;FMTTYPE=image/jpeg:https://letslearn.nz/wp-content/uploads/2022/02/Exercise-Qigong.jpg
END:VEVENT
BEGIN:VEVENT
DTSTART;TZID=Pacific/Auckland:20240629T090000
DTEND;TZID=Pacific/Auckland:20240629T100000
DTSTAMP:20260420T022446
CREATED:20220203T102641Z
LAST-MODIFIED:20250301T002803Z
UID:10013111-1719651600-1719655200@letslearn.nz
SUMMARY:Taijiquan & Qigong
DESCRIPTION:Join the Taiji/Qigong group.  All welcome. \nDays: Saturdays and Wednesdays\nTime: 9am\nPlace:  Kulim Park on the beach by big rock.\nCost:  Free \nContact Petro for further details.\nPhone: 021 751 665
URL:https://letslearn.nz/event/taijiquan-qigong/2024-06-29/
LOCATION:Kulim Park\, 101 Kulim Avenue\, Otumoetai\, Tauranga
CATEGORIES:Free,Tai Chi
ATTACH;FMTTYPE=image/jpeg:https://letslearn.nz/wp-content/uploads/2022/02/Exercise-Qigong.jpg
END:VEVENT
BEGIN:VEVENT
DTSTART;TZID=Pacific/Auckland:20240629T180000
DTEND;TZID=Pacific/Auckland:20240629T230000
DTSTAMP:20260420T022446
CREATED:20210820T234913Z
LAST-MODIFIED:20230926T025230Z
UID:10011138-1719684000-1719702000@letslearn.nz
SUMMARY:Paintvine: Free Online Tutorials
DESCRIPTION:Feel free to check out our free online library for some funky fresh step-by-step painting tutorials to keep you creative whenever you choose. \nCHOOSE HERE
URL:https://letslearn.nz/event/paintvine-free-online-tutorials/2024-06-29/
LOCATION:On Line
CATEGORIES:Free,Online Tutorials,Painting
ATTACH;FMTTYPE=image/png:https://letslearn.nz/wp-content/uploads/2021/08/Art-Paintvine-OnLine.png
ORGANIZER;CN="Paintvine":MAILTO:hello@paintvine.co.nz
END:VEVENT
END:VCALENDAR