BEGIN:VCALENDAR
VERSION:2.0
PRODID:-//Let&#039;s Learn - ECPv6.15.14//NONSGML v1.0//EN
CALSCALE:GREGORIAN
METHOD:PUBLISH
X-WR-CALNAME:Let&#039;s Learn
X-ORIGINAL-URL:https://letslearn.nz
X-WR-CALDESC:Events for Let&#039;s Learn
REFRESH-INTERVAL;VALUE=DURATION:PT1H
X-Robots-Tag:noindex
X-PUBLISHED-TTL:PT1H
BEGIN:VTIMEZONE
TZID:Pacific/Auckland
BEGIN:STANDARD
TZOFFSETFROM:+1300
TZOFFSETTO:+1200
TZNAME:NZST
DTSTART:20230401T140000
END:STANDARD
BEGIN:DAYLIGHT
TZOFFSETFROM:+1200
TZOFFSETTO:+1300
TZNAME:NZDT
DTSTART:20230923T140000
END:DAYLIGHT
BEGIN:STANDARD
TZOFFSETFROM:+1300
TZOFFSETTO:+1200
TZNAME:NZST
DTSTART:20240406T140000
END:STANDARD
BEGIN:DAYLIGHT
TZOFFSETFROM:+1200
TZOFFSETTO:+1300
TZNAME:NZDT
DTSTART:20240928T140000
END:DAYLIGHT
BEGIN:STANDARD
TZOFFSETFROM:+1300
TZOFFSETTO:+1200
TZNAME:NZST
DTSTART:20250405T140000
END:STANDARD
BEGIN:DAYLIGHT
TZOFFSETFROM:+1200
TZOFFSETTO:+1300
TZNAME:NZDT
DTSTART:20250927T140000
END:DAYLIGHT
BEGIN:STANDARD
TZOFFSETFROM:+1300
TZOFFSETTO:+1200
TZNAME:NZST
DTSTART:20260404T140000
END:STANDARD
BEGIN:DAYLIGHT
TZOFFSETFROM:+1200
TZOFFSETTO:+1300
TZNAME:NZDT
DTSTART:20260926T140000
END:DAYLIGHT
END:VTIMEZONE
BEGIN:VEVENT
DTSTART;TZID=Pacific/Auckland:20250301T090000
DTEND;TZID=Pacific/Auckland:20250301T100000
DTSTAMP:20260423T061447
CREATED:20220203T102641Z
LAST-MODIFIED:20250301T002803Z
UID:10013146-1740819600-1740823200@letslearn.nz
SUMMARY:Taijiquan & Qigong
DESCRIPTION:Join the Taiji/Qigong group.  All welcome. \nDays: Saturdays and Wednesdays\nTime: 9am\nPlace:  Kulim Park on the beach by big rock.\nCost:  Free \nContact Petro for further details.\nPhone: 021 751 665
URL:https://letslearn.nz/event/taijiquan-qigong/2025-03-01/
LOCATION:Kulim Park\, 101 Kulim Avenue\, Otumoetai\, Tauranga
CATEGORIES:Free,Tai Chi
ATTACH;FMTTYPE=image/jpeg:https://letslearn.nz/wp-content/uploads/2022/02/Exercise-Qigong.jpg
END:VEVENT
BEGIN:VEVENT
DTSTART;TZID=Pacific/Auckland:20250226T090000
DTEND;TZID=Pacific/Auckland:20250226T100000
DTSTAMP:20260423T061447
CREATED:20240126T234457Z
LAST-MODIFIED:20240127T003605Z
UID:10013668-1740560400-1740564000@letslearn.nz
SUMMARY:Taijiquan & Qigong
DESCRIPTION:Join the Taiji/Qigong group.  All welcome. \nDays: Saturdays and Wednesdays\nTime: 9am\nPlace:  Kulim Park on the beach by big rock.\nCost:  Free \nContact Petro for further details.\nPhone: 021 751 665
URL:https://letslearn.nz/event/taijiquan-qigong-2/2025-02-26/
LOCATION:Kulim Park\, 101 Kulim Avenue\, Otumoetai\, Tauranga
CATEGORIES:Free,Tai Chi
ATTACH;FMTTYPE=image/jpeg:https://letslearn.nz/wp-content/uploads/2022/02/Exercise-Qigong.jpg
END:VEVENT
BEGIN:VEVENT
DTSTART;TZID=Pacific/Auckland:20250222T090000
DTEND;TZID=Pacific/Auckland:20250222T100000
DTSTAMP:20260423T061447
CREATED:20220203T102641Z
LAST-MODIFIED:20250301T002803Z
UID:10013145-1740214800-1740218400@letslearn.nz
SUMMARY:Taijiquan & Qigong
DESCRIPTION:Join the Taiji/Qigong group.  All welcome. \nDays: Saturdays and Wednesdays\nTime: 9am\nPlace:  Kulim Park on the beach by big rock.\nCost:  Free \nContact Petro for further details.\nPhone: 021 751 665
URL:https://letslearn.nz/event/taijiquan-qigong/2025-02-22/
LOCATION:Kulim Park\, 101 Kulim Avenue\, Otumoetai\, Tauranga
CATEGORIES:Free,Tai Chi
ATTACH;FMTTYPE=image/jpeg:https://letslearn.nz/wp-content/uploads/2022/02/Exercise-Qigong.jpg
END:VEVENT
BEGIN:VEVENT
DTSTART;TZID=Pacific/Auckland:20250219T090000
DTEND;TZID=Pacific/Auckland:20250219T100000
DTSTAMP:20260423T061447
CREATED:20240126T234457Z
LAST-MODIFIED:20240127T003605Z
UID:10013667-1739955600-1739959200@letslearn.nz
SUMMARY:Taijiquan & Qigong
DESCRIPTION:Join the Taiji/Qigong group.  All welcome. \nDays: Saturdays and Wednesdays\nTime: 9am\nPlace:  Kulim Park on the beach by big rock.\nCost:  Free \nContact Petro for further details.\nPhone: 021 751 665
URL:https://letslearn.nz/event/taijiquan-qigong-2/2025-02-19/
LOCATION:Kulim Park\, 101 Kulim Avenue\, Otumoetai\, Tauranga
CATEGORIES:Free,Tai Chi
ATTACH;FMTTYPE=image/jpeg:https://letslearn.nz/wp-content/uploads/2022/02/Exercise-Qigong.jpg
END:VEVENT
BEGIN:VEVENT
DTSTART;TZID=Pacific/Auckland:20250217T100000
DTEND;TZID=Pacific/Auckland:20250217T170000
DTSTAMP:20260423T061447
CREATED:20250130T162319Z
LAST-MODIFIED:20250130T163056Z
UID:10028183-1739786400-1739811600@letslearn.nz
SUMMARY:What's On at Your Library
DESCRIPTION:From Knitting & Knattering to Chess\, from Rummikub to Genealogy plus a host of activities in between\, libraries are true community hubs. Check out what is on the programme and geared for adults in your area.\nhttps://library.tauranga.govt.nz/whats-on/adult-events
URL:https://letslearn.nz/event/whats-on-at-your-library/2025-02-17/
CATEGORIES:Book Clubs,Card Games,Chess,Free,Free IT Courses,Genealogy,Knitting,Legal,Reading,Rummicub,Scrabble,Seniors
ATTACH;FMTTYPE=image/jpeg:https://letslearn.nz/wp-content/uploads/2025/01/Library-logos.jpg
ORGANIZER;CN="Tauranga Libraries - Te Ao M%C4%81rama":MAILTO:library@tauranga.govt.nz 
END:VEVENT
BEGIN:VEVENT
DTSTART;TZID=Pacific/Auckland:20250215T090000
DTEND;TZID=Pacific/Auckland:20250215T100000
DTSTAMP:20260423T061447
CREATED:20220203T102641Z
LAST-MODIFIED:20250301T002803Z
UID:10013144-1739610000-1739613600@letslearn.nz
SUMMARY:Taijiquan & Qigong
DESCRIPTION:Join the Taiji/Qigong group.  All welcome. \nDays: Saturdays and Wednesdays\nTime: 9am\nPlace:  Kulim Park on the beach by big rock.\nCost:  Free \nContact Petro for further details.\nPhone: 021 751 665
URL:https://letslearn.nz/event/taijiquan-qigong/2025-02-15/
LOCATION:Kulim Park\, 101 Kulim Avenue\, Otumoetai\, Tauranga
CATEGORIES:Free,Tai Chi
ATTACH;FMTTYPE=image/jpeg:https://letslearn.nz/wp-content/uploads/2022/02/Exercise-Qigong.jpg
END:VEVENT
BEGIN:VEVENT
DTSTART;TZID=Pacific/Auckland:20250212T090000
DTEND;TZID=Pacific/Auckland:20250212T100000
DTSTAMP:20260423T061447
CREATED:20240126T234457Z
LAST-MODIFIED:20240127T003605Z
UID:10013666-1739350800-1739354400@letslearn.nz
SUMMARY:Taijiquan & Qigong
DESCRIPTION:Join the Taiji/Qigong group.  All welcome. \nDays: Saturdays and Wednesdays\nTime: 9am\nPlace:  Kulim Park on the beach by big rock.\nCost:  Free \nContact Petro for further details.\nPhone: 021 751 665
URL:https://letslearn.nz/event/taijiquan-qigong-2/2025-02-12/
LOCATION:Kulim Park\, 101 Kulim Avenue\, Otumoetai\, Tauranga
CATEGORIES:Free,Tai Chi
ATTACH;FMTTYPE=image/jpeg:https://letslearn.nz/wp-content/uploads/2022/02/Exercise-Qigong.jpg
END:VEVENT
BEGIN:VEVENT
DTSTART;TZID=Pacific/Auckland:20250208T090000
DTEND;TZID=Pacific/Auckland:20250208T100000
DTSTAMP:20260423T061447
CREATED:20220203T102641Z
LAST-MODIFIED:20250301T002803Z
UID:10013143-1739005200-1739008800@letslearn.nz
SUMMARY:Taijiquan & Qigong
DESCRIPTION:Join the Taiji/Qigong group.  All welcome. \nDays: Saturdays and Wednesdays\nTime: 9am\nPlace:  Kulim Park on the beach by big rock.\nCost:  Free \nContact Petro for further details.\nPhone: 021 751 665
URL:https://letslearn.nz/event/taijiquan-qigong/2025-02-08/
LOCATION:Kulim Park\, 101 Kulim Avenue\, Otumoetai\, Tauranga
CATEGORIES:Free,Tai Chi
ATTACH;FMTTYPE=image/jpeg:https://letslearn.nz/wp-content/uploads/2022/02/Exercise-Qigong.jpg
END:VEVENT
BEGIN:VEVENT
DTSTART;TZID=Pacific/Auckland:20250205T090000
DTEND;TZID=Pacific/Auckland:20250205T100000
DTSTAMP:20260423T061447
CREATED:20240126T234457Z
LAST-MODIFIED:20240127T003605Z
UID:10013665-1738746000-1738749600@letslearn.nz
SUMMARY:Taijiquan & Qigong
DESCRIPTION:Join the Taiji/Qigong group.  All welcome. \nDays: Saturdays and Wednesdays\nTime: 9am\nPlace:  Kulim Park on the beach by big rock.\nCost:  Free \nContact Petro for further details.\nPhone: 021 751 665
URL:https://letslearn.nz/event/taijiquan-qigong-2/2025-02-05/
LOCATION:Kulim Park\, 101 Kulim Avenue\, Otumoetai\, Tauranga
CATEGORIES:Free,Tai Chi
ATTACH;FMTTYPE=image/jpeg:https://letslearn.nz/wp-content/uploads/2022/02/Exercise-Qigong.jpg
END:VEVENT
BEGIN:VEVENT
DTSTART;TZID=Pacific/Auckland:20250203T100000
DTEND;TZID=Pacific/Auckland:20250203T170000
DTSTAMP:20260423T061447
CREATED:20250130T162319Z
LAST-MODIFIED:20250130T163056Z
UID:10028123-1738576800-1738602000@letslearn.nz
SUMMARY:What's On at Your Library
DESCRIPTION:From Knitting & Knattering to Chess\, from Rummikub to Genealogy plus a host of activities in between\, libraries are true community hubs. Check out what is on the programme and geared for adults in your area.\nhttps://library.tauranga.govt.nz/whats-on/adult-events
URL:https://letslearn.nz/event/whats-on-at-your-library/2025-02-03/
CATEGORIES:Book Clubs,Card Games,Chess,Free,Free IT Courses,Genealogy,Knitting,Legal,Reading,Rummicub,Scrabble,Seniors
ATTACH;FMTTYPE=image/jpeg:https://letslearn.nz/wp-content/uploads/2025/01/Library-logos.jpg
ORGANIZER;CN="Tauranga Libraries - Te Ao M%C4%81rama":MAILTO:library@tauranga.govt.nz 
END:VEVENT
BEGIN:VEVENT
DTSTART;TZID=Pacific/Auckland:20250201T090000
DTEND;TZID=Pacific/Auckland:20250201T100000
DTSTAMP:20260423T061447
CREATED:20220203T102641Z
LAST-MODIFIED:20250301T002803Z
UID:10013142-1738400400-1738404000@letslearn.nz
SUMMARY:Taijiquan & Qigong
DESCRIPTION:Join the Taiji/Qigong group.  All welcome. \nDays: Saturdays and Wednesdays\nTime: 9am\nPlace:  Kulim Park on the beach by big rock.\nCost:  Free \nContact Petro for further details.\nPhone: 021 751 665
URL:https://letslearn.nz/event/taijiquan-qigong/2025-02-01/
LOCATION:Kulim Park\, 101 Kulim Avenue\, Otumoetai\, Tauranga
CATEGORIES:Free,Tai Chi
ATTACH;FMTTYPE=image/jpeg:https://letslearn.nz/wp-content/uploads/2022/02/Exercise-Qigong.jpg
END:VEVENT
BEGIN:VEVENT
DTSTART;TZID=Pacific/Auckland:20250129T090000
DTEND;TZID=Pacific/Auckland:20250129T100000
DTSTAMP:20260423T061447
CREATED:20240126T234457Z
LAST-MODIFIED:20240127T003605Z
UID:10013664-1738141200-1738144800@letslearn.nz
SUMMARY:Taijiquan & Qigong
DESCRIPTION:Join the Taiji/Qigong group.  All welcome. \nDays: Saturdays and Wednesdays\nTime: 9am\nPlace:  Kulim Park on the beach by big rock.\nCost:  Free \nContact Petro for further details.\nPhone: 021 751 665
URL:https://letslearn.nz/event/taijiquan-qigong-2/2025-01-29/
LOCATION:Kulim Park\, 101 Kulim Avenue\, Otumoetai\, Tauranga
CATEGORIES:Free,Tai Chi
ATTACH;FMTTYPE=image/jpeg:https://letslearn.nz/wp-content/uploads/2022/02/Exercise-Qigong.jpg
END:VEVENT
BEGIN:VEVENT
DTSTART;TZID=Pacific/Auckland:20250125T090000
DTEND;TZID=Pacific/Auckland:20250125T100000
DTSTAMP:20260423T061447
CREATED:20220203T102641Z
LAST-MODIFIED:20250301T002803Z
UID:10013141-1737795600-1737799200@letslearn.nz
SUMMARY:Taijiquan & Qigong
DESCRIPTION:Join the Taiji/Qigong group.  All welcome. \nDays: Saturdays and Wednesdays\nTime: 9am\nPlace:  Kulim Park on the beach by big rock.\nCost:  Free \nContact Petro for further details.\nPhone: 021 751 665
URL:https://letslearn.nz/event/taijiquan-qigong/2025-01-25/
LOCATION:Kulim Park\, 101 Kulim Avenue\, Otumoetai\, Tauranga
CATEGORIES:Free,Tai Chi
ATTACH;FMTTYPE=image/jpeg:https://letslearn.nz/wp-content/uploads/2022/02/Exercise-Qigong.jpg
END:VEVENT
BEGIN:VEVENT
DTSTART;TZID=Pacific/Auckland:20250122T090000
DTEND;TZID=Pacific/Auckland:20250122T100000
DTSTAMP:20260423T061447
CREATED:20240126T234457Z
LAST-MODIFIED:20240127T003605Z
UID:10013663-1737536400-1737540000@letslearn.nz
SUMMARY:Taijiquan & Qigong
DESCRIPTION:Join the Taiji/Qigong group.  All welcome. \nDays: Saturdays and Wednesdays\nTime: 9am\nPlace:  Kulim Park on the beach by big rock.\nCost:  Free \nContact Petro for further details.\nPhone: 021 751 665
URL:https://letslearn.nz/event/taijiquan-qigong-2/2025-01-22/
LOCATION:Kulim Park\, 101 Kulim Avenue\, Otumoetai\, Tauranga
CATEGORIES:Free,Tai Chi
ATTACH;FMTTYPE=image/jpeg:https://letslearn.nz/wp-content/uploads/2022/02/Exercise-Qigong.jpg
END:VEVENT
BEGIN:VEVENT
DTSTART;TZID=Pacific/Auckland:20250118T090000
DTEND;TZID=Pacific/Auckland:20250118T100000
DTSTAMP:20260423T061447
CREATED:20220203T102641Z
LAST-MODIFIED:20250301T002803Z
UID:10013140-1737190800-1737194400@letslearn.nz
SUMMARY:Taijiquan & Qigong
DESCRIPTION:Join the Taiji/Qigong group.  All welcome. \nDays: Saturdays and Wednesdays\nTime: 9am\nPlace:  Kulim Park on the beach by big rock.\nCost:  Free \nContact Petro for further details.\nPhone: 021 751 665
URL:https://letslearn.nz/event/taijiquan-qigong/2025-01-18/
LOCATION:Kulim Park\, 101 Kulim Avenue\, Otumoetai\, Tauranga
CATEGORIES:Free,Tai Chi
ATTACH;FMTTYPE=image/jpeg:https://letslearn.nz/wp-content/uploads/2022/02/Exercise-Qigong.jpg
END:VEVENT
BEGIN:VEVENT
DTSTART;TZID=Pacific/Auckland:20250115T090000
DTEND;TZID=Pacific/Auckland:20250115T100000
DTSTAMP:20260423T061447
CREATED:20240126T234457Z
LAST-MODIFIED:20240127T003605Z
UID:10013662-1736931600-1736935200@letslearn.nz
SUMMARY:Taijiquan & Qigong
DESCRIPTION:Join the Taiji/Qigong group.  All welcome. \nDays: Saturdays and Wednesdays\nTime: 9am\nPlace:  Kulim Park on the beach by big rock.\nCost:  Free \nContact Petro for further details.\nPhone: 021 751 665
URL:https://letslearn.nz/event/taijiquan-qigong-2/2025-01-15/
LOCATION:Kulim Park\, 101 Kulim Avenue\, Otumoetai\, Tauranga
CATEGORIES:Free,Tai Chi
ATTACH;FMTTYPE=image/jpeg:https://letslearn.nz/wp-content/uploads/2022/02/Exercise-Qigong.jpg
END:VEVENT
BEGIN:VEVENT
DTSTART;TZID=Pacific/Auckland:20250111T090000
DTEND;TZID=Pacific/Auckland:20250111T100000
DTSTAMP:20260423T061447
CREATED:20220203T102641Z
LAST-MODIFIED:20250301T002803Z
UID:10013139-1736586000-1736589600@letslearn.nz
SUMMARY:Taijiquan & Qigong
DESCRIPTION:Join the Taiji/Qigong group.  All welcome. \nDays: Saturdays and Wednesdays\nTime: 9am\nPlace:  Kulim Park on the beach by big rock.\nCost:  Free \nContact Petro for further details.\nPhone: 021 751 665
URL:https://letslearn.nz/event/taijiquan-qigong/2025-01-11/
LOCATION:Kulim Park\, 101 Kulim Avenue\, Otumoetai\, Tauranga
CATEGORIES:Free,Tai Chi
ATTACH;FMTTYPE=image/jpeg:https://letslearn.nz/wp-content/uploads/2022/02/Exercise-Qigong.jpg
END:VEVENT
BEGIN:VEVENT
DTSTART;TZID=Pacific/Auckland:20250108T090000
DTEND;TZID=Pacific/Auckland:20250108T100000
DTSTAMP:20260423T061447
CREATED:20240126T234457Z
LAST-MODIFIED:20240127T003605Z
UID:10013661-1736326800-1736330400@letslearn.nz
SUMMARY:Taijiquan & Qigong
DESCRIPTION:Join the Taiji/Qigong group.  All welcome. \nDays: Saturdays and Wednesdays\nTime: 9am\nPlace:  Kulim Park on the beach by big rock.\nCost:  Free \nContact Petro for further details.\nPhone: 021 751 665
URL:https://letslearn.nz/event/taijiquan-qigong-2/2025-01-08/
LOCATION:Kulim Park\, 101 Kulim Avenue\, Otumoetai\, Tauranga
CATEGORIES:Free,Tai Chi
ATTACH;FMTTYPE=image/jpeg:https://letslearn.nz/wp-content/uploads/2022/02/Exercise-Qigong.jpg
END:VEVENT
BEGIN:VEVENT
DTSTART;TZID=Pacific/Auckland:20250104T090000
DTEND;TZID=Pacific/Auckland:20250104T100000
DTSTAMP:20260423T061447
CREATED:20220203T102641Z
LAST-MODIFIED:20250301T002803Z
UID:10013138-1735981200-1735984800@letslearn.nz
SUMMARY:Taijiquan & Qigong
DESCRIPTION:Join the Taiji/Qigong group.  All welcome. \nDays: Saturdays and Wednesdays\nTime: 9am\nPlace:  Kulim Park on the beach by big rock.\nCost:  Free \nContact Petro for further details.\nPhone: 021 751 665
URL:https://letslearn.nz/event/taijiquan-qigong/2025-01-04/
LOCATION:Kulim Park\, 101 Kulim Avenue\, Otumoetai\, Tauranga
CATEGORIES:Free,Tai Chi
ATTACH;FMTTYPE=image/jpeg:https://letslearn.nz/wp-content/uploads/2022/02/Exercise-Qigong.jpg
END:VEVENT
BEGIN:VEVENT
DTSTART;TZID=Pacific/Auckland:20250101T090000
DTEND;TZID=Pacific/Auckland:20250101T100000
DTSTAMP:20260423T061447
CREATED:20240126T234457Z
LAST-MODIFIED:20240127T003605Z
UID:10013660-1735722000-1735725600@letslearn.nz
SUMMARY:Taijiquan & Qigong
DESCRIPTION:Join the Taiji/Qigong group.  All welcome. \nDays: Saturdays and Wednesdays\nTime: 9am\nPlace:  Kulim Park on the beach by big rock.\nCost:  Free \nContact Petro for further details.\nPhone: 021 751 665
URL:https://letslearn.nz/event/taijiquan-qigong-2/2025-01-01/
LOCATION:Kulim Park\, 101 Kulim Avenue\, Otumoetai\, Tauranga
CATEGORIES:Free,Tai Chi
ATTACH;FMTTYPE=image/jpeg:https://letslearn.nz/wp-content/uploads/2022/02/Exercise-Qigong.jpg
END:VEVENT
BEGIN:VEVENT
DTSTART;TZID=Pacific/Auckland:20241228T090000
DTEND;TZID=Pacific/Auckland:20241228T100000
DTSTAMP:20260423T061447
CREATED:20220203T102641Z
LAST-MODIFIED:20250301T002803Z
UID:10013137-1735376400-1735380000@letslearn.nz
SUMMARY:Taijiquan & Qigong
DESCRIPTION:Join the Taiji/Qigong group.  All welcome. \nDays: Saturdays and Wednesdays\nTime: 9am\nPlace:  Kulim Park on the beach by big rock.\nCost:  Free \nContact Petro for further details.\nPhone: 021 751 665
URL:https://letslearn.nz/event/taijiquan-qigong/2024-12-28/
LOCATION:Kulim Park\, 101 Kulim Avenue\, Otumoetai\, Tauranga
CATEGORIES:Free,Tai Chi
ATTACH;FMTTYPE=image/jpeg:https://letslearn.nz/wp-content/uploads/2022/02/Exercise-Qigong.jpg
END:VEVENT
BEGIN:VEVENT
DTSTART;TZID=Pacific/Auckland:20241225T090000
DTEND;TZID=Pacific/Auckland:20241225T100000
DTSTAMP:20260423T061447
CREATED:20240126T234457Z
LAST-MODIFIED:20240127T003605Z
UID:10013659-1735117200-1735120800@letslearn.nz
SUMMARY:Taijiquan & Qigong
DESCRIPTION:Join the Taiji/Qigong group.  All welcome. \nDays: Saturdays and Wednesdays\nTime: 9am\nPlace:  Kulim Park on the beach by big rock.\nCost:  Free \nContact Petro for further details.\nPhone: 021 751 665
URL:https://letslearn.nz/event/taijiquan-qigong-2/2024-12-25/
LOCATION:Kulim Park\, 101 Kulim Avenue\, Otumoetai\, Tauranga
CATEGORIES:Free,Tai Chi
ATTACH;FMTTYPE=image/jpeg:https://letslearn.nz/wp-content/uploads/2022/02/Exercise-Qigong.jpg
END:VEVENT
BEGIN:VEVENT
DTSTART;TZID=Pacific/Auckland:20241221T090000
DTEND;TZID=Pacific/Auckland:20241221T100000
DTSTAMP:20260423T061447
CREATED:20220203T102641Z
LAST-MODIFIED:20250301T002803Z
UID:10013136-1734771600-1734775200@letslearn.nz
SUMMARY:Taijiquan & Qigong
DESCRIPTION:Join the Taiji/Qigong group.  All welcome. \nDays: Saturdays and Wednesdays\nTime: 9am\nPlace:  Kulim Park on the beach by big rock.\nCost:  Free \nContact Petro for further details.\nPhone: 021 751 665
URL:https://letslearn.nz/event/taijiquan-qigong/2024-12-21/
LOCATION:Kulim Park\, 101 Kulim Avenue\, Otumoetai\, Tauranga
CATEGORIES:Free,Tai Chi
ATTACH;FMTTYPE=image/jpeg:https://letslearn.nz/wp-content/uploads/2022/02/Exercise-Qigong.jpg
END:VEVENT
BEGIN:VEVENT
DTSTART;TZID=Pacific/Auckland:20241218T090000
DTEND;TZID=Pacific/Auckland:20241218T100000
DTSTAMP:20260423T061447
CREATED:20240126T234457Z
LAST-MODIFIED:20240127T003605Z
UID:10013658-1734512400-1734516000@letslearn.nz
SUMMARY:Taijiquan & Qigong
DESCRIPTION:Join the Taiji/Qigong group.  All welcome. \nDays: Saturdays and Wednesdays\nTime: 9am\nPlace:  Kulim Park on the beach by big rock.\nCost:  Free \nContact Petro for further details.\nPhone: 021 751 665
URL:https://letslearn.nz/event/taijiquan-qigong-2/2024-12-18/
LOCATION:Kulim Park\, 101 Kulim Avenue\, Otumoetai\, Tauranga
CATEGORIES:Free,Tai Chi
ATTACH;FMTTYPE=image/jpeg:https://letslearn.nz/wp-content/uploads/2022/02/Exercise-Qigong.jpg
END:VEVENT
BEGIN:VEVENT
DTSTART;TZID=Pacific/Auckland:20241214T090000
DTEND;TZID=Pacific/Auckland:20241214T100000
DTSTAMP:20260423T061447
CREATED:20220203T102641Z
LAST-MODIFIED:20250301T002803Z
UID:10013135-1734166800-1734170400@letslearn.nz
SUMMARY:Taijiquan & Qigong
DESCRIPTION:Join the Taiji/Qigong group.  All welcome. \nDays: Saturdays and Wednesdays\nTime: 9am\nPlace:  Kulim Park on the beach by big rock.\nCost:  Free \nContact Petro for further details.\nPhone: 021 751 665
URL:https://letslearn.nz/event/taijiquan-qigong/2024-12-14/
LOCATION:Kulim Park\, 101 Kulim Avenue\, Otumoetai\, Tauranga
CATEGORIES:Free,Tai Chi
ATTACH;FMTTYPE=image/jpeg:https://letslearn.nz/wp-content/uploads/2022/02/Exercise-Qigong.jpg
END:VEVENT
BEGIN:VEVENT
DTSTART;TZID=Pacific/Auckland:20241211T090000
DTEND;TZID=Pacific/Auckland:20241211T100000
DTSTAMP:20260423T061447
CREATED:20240126T234457Z
LAST-MODIFIED:20240127T003605Z
UID:10013657-1733907600-1733911200@letslearn.nz
SUMMARY:Taijiquan & Qigong
DESCRIPTION:Join the Taiji/Qigong group.  All welcome. \nDays: Saturdays and Wednesdays\nTime: 9am\nPlace:  Kulim Park on the beach by big rock.\nCost:  Free \nContact Petro for further details.\nPhone: 021 751 665
URL:https://letslearn.nz/event/taijiquan-qigong-2/2024-12-11/
LOCATION:Kulim Park\, 101 Kulim Avenue\, Otumoetai\, Tauranga
CATEGORIES:Free,Tai Chi
ATTACH;FMTTYPE=image/jpeg:https://letslearn.nz/wp-content/uploads/2022/02/Exercise-Qigong.jpg
END:VEVENT
BEGIN:VEVENT
DTSTART;TZID=Pacific/Auckland:20241207T090000
DTEND;TZID=Pacific/Auckland:20241207T100000
DTSTAMP:20260423T061447
CREATED:20220203T102641Z
LAST-MODIFIED:20250301T002803Z
UID:10013134-1733562000-1733565600@letslearn.nz
SUMMARY:Taijiquan & Qigong
DESCRIPTION:Join the Taiji/Qigong group.  All welcome. \nDays: Saturdays and Wednesdays\nTime: 9am\nPlace:  Kulim Park on the beach by big rock.\nCost:  Free \nContact Petro for further details.\nPhone: 021 751 665
URL:https://letslearn.nz/event/taijiquan-qigong/2024-12-07/
LOCATION:Kulim Park\, 101 Kulim Avenue\, Otumoetai\, Tauranga
CATEGORIES:Free,Tai Chi
ATTACH;FMTTYPE=image/jpeg:https://letslearn.nz/wp-content/uploads/2022/02/Exercise-Qigong.jpg
END:VEVENT
BEGIN:VEVENT
DTSTART;TZID=Pacific/Auckland:20241204T090000
DTEND;TZID=Pacific/Auckland:20241204T100000
DTSTAMP:20260423T061447
CREATED:20240126T234457Z
LAST-MODIFIED:20240127T003605Z
UID:10013656-1733302800-1733306400@letslearn.nz
SUMMARY:Taijiquan & Qigong
DESCRIPTION:Join the Taiji/Qigong group.  All welcome. \nDays: Saturdays and Wednesdays\nTime: 9am\nPlace:  Kulim Park on the beach by big rock.\nCost:  Free \nContact Petro for further details.\nPhone: 021 751 665
URL:https://letslearn.nz/event/taijiquan-qigong-2/2024-12-04/
LOCATION:Kulim Park\, 101 Kulim Avenue\, Otumoetai\, Tauranga
CATEGORIES:Free,Tai Chi
ATTACH;FMTTYPE=image/jpeg:https://letslearn.nz/wp-content/uploads/2022/02/Exercise-Qigong.jpg
END:VEVENT
BEGIN:VEVENT
DTSTART;TZID=Pacific/Auckland:20241130T090000
DTEND;TZID=Pacific/Auckland:20241130T100000
DTSTAMP:20260423T061447
CREATED:20220203T102641Z
LAST-MODIFIED:20250301T002803Z
UID:10013133-1732957200-1732960800@letslearn.nz
SUMMARY:Taijiquan & Qigong
DESCRIPTION:Join the Taiji/Qigong group.  All welcome. \nDays: Saturdays and Wednesdays\nTime: 9am\nPlace:  Kulim Park on the beach by big rock.\nCost:  Free \nContact Petro for further details.\nPhone: 021 751 665
URL:https://letslearn.nz/event/taijiquan-qigong/2024-11-30/
LOCATION:Kulim Park\, 101 Kulim Avenue\, Otumoetai\, Tauranga
CATEGORIES:Free,Tai Chi
ATTACH;FMTTYPE=image/jpeg:https://letslearn.nz/wp-content/uploads/2022/02/Exercise-Qigong.jpg
END:VEVENT
BEGIN:VEVENT
DTSTART;TZID=Pacific/Auckland:20241127T090000
DTEND;TZID=Pacific/Auckland:20241127T100000
DTSTAMP:20260423T061447
CREATED:20240126T234457Z
LAST-MODIFIED:20240127T003605Z
UID:10013655-1732698000-1732701600@letslearn.nz
SUMMARY:Taijiquan & Qigong
DESCRIPTION:Join the Taiji/Qigong group.  All welcome. \nDays: Saturdays and Wednesdays\nTime: 9am\nPlace:  Kulim Park on the beach by big rock.\nCost:  Free \nContact Petro for further details.\nPhone: 021 751 665
URL:https://letslearn.nz/event/taijiquan-qigong-2/2024-11-27/
LOCATION:Kulim Park\, 101 Kulim Avenue\, Otumoetai\, Tauranga
CATEGORIES:Free,Tai Chi
ATTACH;FMTTYPE=image/jpeg:https://letslearn.nz/wp-content/uploads/2022/02/Exercise-Qigong.jpg
END:VEVENT
END:VCALENDAR