BEGIN:VCALENDAR
VERSION:2.0
PRODID:-//Let&#039;s Learn - ECPv6.15.14//NONSGML v1.0//EN
CALSCALE:GREGORIAN
METHOD:PUBLISH
X-WR-CALNAME:Let&#039;s Learn
X-ORIGINAL-URL:https://letslearn.nz
X-WR-CALDESC:Events for Let&#039;s Learn
REFRESH-INTERVAL;VALUE=DURATION:PT1H
X-Robots-Tag:noindex
X-PUBLISHED-TTL:PT1H
BEGIN:VTIMEZONE
TZID:Pacific/Auckland
BEGIN:STANDARD
TZOFFSETFROM:+1300
TZOFFSETTO:+1200
TZNAME:NZST
DTSTART:20250405T140000
END:STANDARD
BEGIN:DAYLIGHT
TZOFFSETFROM:+1200
TZOFFSETTO:+1300
TZNAME:NZDT
DTSTART:20250927T140000
END:DAYLIGHT
BEGIN:STANDARD
TZOFFSETFROM:+1300
TZOFFSETTO:+1200
TZNAME:NZST
DTSTART:20260404T140000
END:STANDARD
BEGIN:DAYLIGHT
TZOFFSETFROM:+1200
TZOFFSETTO:+1300
TZNAME:NZDT
DTSTART:20260926T140000
END:DAYLIGHT
BEGIN:STANDARD
TZOFFSETFROM:+1300
TZOFFSETTO:+1200
TZNAME:NZST
DTSTART:20270403T140000
END:STANDARD
BEGIN:DAYLIGHT
TZOFFSETFROM:+1200
TZOFFSETTO:+1300
TZNAME:NZDT
DTSTART:20270925T140000
END:DAYLIGHT
BEGIN:STANDARD
TZOFFSETFROM:+1300
TZOFFSETTO:+1200
TZNAME:NZST
DTSTART:20280401T140000
END:STANDARD
BEGIN:DAYLIGHT
TZOFFSETFROM:+1200
TZOFFSETTO:+1300
TZNAME:NZDT
DTSTART:20280923T140000
END:DAYLIGHT
END:VTIMEZONE
BEGIN:VEVENT
DTSTART;TZID=Pacific/Auckland:20260427T100000
DTEND;TZID=Pacific/Auckland:20260427T170000
DTSTAMP:20260420T225452
CREATED:20250130T162319Z
LAST-MODIFIED:20250130T163056Z
UID:10028207-1777284000-1777309200@letslearn.nz
SUMMARY:What's On at Your Library
DESCRIPTION:From Knitting & Knattering to Chess\, from Rummikub to Genealogy plus a host of activities in between\, libraries are true community hubs. Check out what is on the programme and geared for adults in your area.\nhttps://library.tauranga.govt.nz/whats-on/adult-events
URL:https://letslearn.nz/event/whats-on-at-your-library/2026-04-27/
CATEGORIES:Book Clubs,Card Games,Chess,Free,Free IT Courses,Genealogy,Knitting,Legal,Reading,Rummicub,Scrabble,Seniors
ATTACH;FMTTYPE=image/jpeg:https://letslearn.nz/wp-content/uploads/2025/01/Library-logos.jpg
ORGANIZER;CN="Tauranga Libraries - Te Ao M%C4%81rama":MAILTO:library@tauranga.govt.nz 
END:VEVENT
BEGIN:VEVENT
DTSTART;TZID=Pacific/Auckland:20260511T100000
DTEND;TZID=Pacific/Auckland:20260511T170000
DTSTAMP:20260420T225452
CREATED:20250130T162319Z
LAST-MODIFIED:20250130T163056Z
UID:10028208-1778493600-1778518800@letslearn.nz
SUMMARY:What's On at Your Library
DESCRIPTION:From Knitting & Knattering to Chess\, from Rummikub to Genealogy plus a host of activities in between\, libraries are true community hubs. Check out what is on the programme and geared for adults in your area.\nhttps://library.tauranga.govt.nz/whats-on/adult-events
URL:https://letslearn.nz/event/whats-on-at-your-library/2026-05-11/
CATEGORIES:Book Clubs,Card Games,Chess,Free,Free IT Courses,Genealogy,Knitting,Legal,Reading,Rummicub,Scrabble,Seniors
ATTACH;FMTTYPE=image/jpeg:https://letslearn.nz/wp-content/uploads/2025/01/Library-logos.jpg
ORGANIZER;CN="Tauranga Libraries - Te Ao M%C4%81rama":MAILTO:library@tauranga.govt.nz 
END:VEVENT
BEGIN:VEVENT
DTSTART;TZID=Pacific/Auckland:20260525T100000
DTEND;TZID=Pacific/Auckland:20260525T170000
DTSTAMP:20260420T225452
CREATED:20250130T162319Z
LAST-MODIFIED:20250130T163056Z
UID:10028209-1779703200-1779728400@letslearn.nz
SUMMARY:What's On at Your Library
DESCRIPTION:From Knitting & Knattering to Chess\, from Rummikub to Genealogy plus a host of activities in between\, libraries are true community hubs. Check out what is on the programme and geared for adults in your area.\nhttps://library.tauranga.govt.nz/whats-on/adult-events
URL:https://letslearn.nz/event/whats-on-at-your-library/2026-05-25/
CATEGORIES:Book Clubs,Card Games,Chess,Free,Free IT Courses,Genealogy,Knitting,Legal,Reading,Rummicub,Scrabble,Seniors
ATTACH;FMTTYPE=image/jpeg:https://letslearn.nz/wp-content/uploads/2025/01/Library-logos.jpg
ORGANIZER;CN="Tauranga Libraries - Te Ao M%C4%81rama":MAILTO:library@tauranga.govt.nz 
END:VEVENT
BEGIN:VEVENT
DTSTART;TZID=Pacific/Auckland:20260608T100000
DTEND;TZID=Pacific/Auckland:20260608T170000
DTSTAMP:20260420T225452
CREATED:20250130T162319Z
LAST-MODIFIED:20250130T163056Z
UID:10028210-1780912800-1780938000@letslearn.nz
SUMMARY:What's On at Your Library
DESCRIPTION:From Knitting & Knattering to Chess\, from Rummikub to Genealogy plus a host of activities in between\, libraries are true community hubs. Check out what is on the programme and geared for adults in your area.\nhttps://library.tauranga.govt.nz/whats-on/adult-events
URL:https://letslearn.nz/event/whats-on-at-your-library/2026-06-08/
CATEGORIES:Book Clubs,Card Games,Chess,Free,Free IT Courses,Genealogy,Knitting,Legal,Reading,Rummicub,Scrabble,Seniors
ATTACH;FMTTYPE=image/jpeg:https://letslearn.nz/wp-content/uploads/2025/01/Library-logos.jpg
ORGANIZER;CN="Tauranga Libraries - Te Ao M%C4%81rama":MAILTO:library@tauranga.govt.nz 
END:VEVENT
BEGIN:VEVENT
DTSTART;TZID=Pacific/Auckland:20260622T100000
DTEND;TZID=Pacific/Auckland:20260622T170000
DTSTAMP:20260420T225452
CREATED:20250130T162319Z
LAST-MODIFIED:20250130T163056Z
UID:10028211-1782122400-1782147600@letslearn.nz
SUMMARY:What's On at Your Library
DESCRIPTION:From Knitting & Knattering to Chess\, from Rummikub to Genealogy plus a host of activities in between\, libraries are true community hubs. Check out what is on the programme and geared for adults in your area.\nhttps://library.tauranga.govt.nz/whats-on/adult-events
URL:https://letslearn.nz/event/whats-on-at-your-library/2026-06-22/
CATEGORIES:Book Clubs,Card Games,Chess,Free,Free IT Courses,Genealogy,Knitting,Legal,Reading,Rummicub,Scrabble,Seniors
ATTACH;FMTTYPE=image/jpeg:https://letslearn.nz/wp-content/uploads/2025/01/Library-logos.jpg
ORGANIZER;CN="Tauranga Libraries - Te Ao M%C4%81rama":MAILTO:library@tauranga.govt.nz 
END:VEVENT
BEGIN:VEVENT
DTSTART;TZID=Pacific/Auckland:20260706T100000
DTEND;TZID=Pacific/Auckland:20260706T170000
DTSTAMP:20260420T225452
CREATED:20250130T162319Z
LAST-MODIFIED:20250130T163056Z
UID:10028140-1783332000-1783357200@letslearn.nz
SUMMARY:What's On at Your Library
DESCRIPTION:From Knitting & Knattering to Chess\, from Rummikub to Genealogy plus a host of activities in between\, libraries are true community hubs. Check out what is on the programme and geared for adults in your area.\nhttps://library.tauranga.govt.nz/whats-on/adult-events
URL:https://letslearn.nz/event/whats-on-at-your-library/2026-07-06/
CATEGORIES:Book Clubs,Card Games,Chess,Free,Free IT Courses,Genealogy,Knitting,Legal,Reading,Rummicub,Scrabble,Seniors
ATTACH;FMTTYPE=image/jpeg:https://letslearn.nz/wp-content/uploads/2025/01/Library-logos.jpg
ORGANIZER;CN="Tauranga Libraries - Te Ao M%C4%81rama":MAILTO:library@tauranga.govt.nz 
END:VEVENT
BEGIN:VEVENT
DTSTART;TZID=Pacific/Auckland:20260720T100000
DTEND;TZID=Pacific/Auckland:20260720T170000
DTSTAMP:20260420T225452
CREATED:20250130T162319Z
LAST-MODIFIED:20250130T163056Z
UID:10028212-1784541600-1784566800@letslearn.nz
SUMMARY:What's On at Your Library
DESCRIPTION:From Knitting & Knattering to Chess\, from Rummikub to Genealogy plus a host of activities in between\, libraries are true community hubs. Check out what is on the programme and geared for adults in your area.\nhttps://library.tauranga.govt.nz/whats-on/adult-events
URL:https://letslearn.nz/event/whats-on-at-your-library/2026-07-20/
CATEGORIES:Book Clubs,Card Games,Chess,Free,Free IT Courses,Genealogy,Knitting,Legal,Reading,Rummicub,Scrabble,Seniors
ATTACH;FMTTYPE=image/jpeg:https://letslearn.nz/wp-content/uploads/2025/01/Library-logos.jpg
ORGANIZER;CN="Tauranga Libraries - Te Ao M%C4%81rama":MAILTO:library@tauranga.govt.nz 
END:VEVENT
BEGIN:VEVENT
DTSTART;TZID=Pacific/Auckland:20260803T100000
DTEND;TZID=Pacific/Auckland:20260803T170000
DTSTAMP:20260420T225452
CREATED:20250130T162319Z
LAST-MODIFIED:20250130T163056Z
UID:10028141-1785751200-1785776400@letslearn.nz
SUMMARY:What's On at Your Library
DESCRIPTION:From Knitting & Knattering to Chess\, from Rummikub to Genealogy plus a host of activities in between\, libraries are true community hubs. Check out what is on the programme and geared for adults in your area.\nhttps://library.tauranga.govt.nz/whats-on/adult-events
URL:https://letslearn.nz/event/whats-on-at-your-library/2026-08-03/
CATEGORIES:Book Clubs,Card Games,Chess,Free,Free IT Courses,Genealogy,Knitting,Legal,Reading,Rummicub,Scrabble,Seniors
ATTACH;FMTTYPE=image/jpeg:https://letslearn.nz/wp-content/uploads/2025/01/Library-logos.jpg
ORGANIZER;CN="Tauranga Libraries - Te Ao M%C4%81rama":MAILTO:library@tauranga.govt.nz 
END:VEVENT
BEGIN:VEVENT
DTSTART;TZID=Pacific/Auckland:20260817T100000
DTEND;TZID=Pacific/Auckland:20260817T170000
DTSTAMP:20260420T225452
CREATED:20250130T162319Z
LAST-MODIFIED:20250130T163056Z
UID:10028213-1786960800-1786986000@letslearn.nz
SUMMARY:What's On at Your Library
DESCRIPTION:From Knitting & Knattering to Chess\, from Rummikub to Genealogy plus a host of activities in between\, libraries are true community hubs. Check out what is on the programme and geared for adults in your area.\nhttps://library.tauranga.govt.nz/whats-on/adult-events
URL:https://letslearn.nz/event/whats-on-at-your-library/2026-08-17/
CATEGORIES:Book Clubs,Card Games,Chess,Free,Free IT Courses,Genealogy,Knitting,Legal,Reading,Rummicub,Scrabble,Seniors
ATTACH;FMTTYPE=image/jpeg:https://letslearn.nz/wp-content/uploads/2025/01/Library-logos.jpg
ORGANIZER;CN="Tauranga Libraries - Te Ao M%C4%81rama":MAILTO:library@tauranga.govt.nz 
END:VEVENT
BEGIN:VEVENT
DTSTART;TZID=Pacific/Auckland:20260831T100000
DTEND;TZID=Pacific/Auckland:20260831T170000
DTSTAMP:20260420T225452
CREATED:20250130T162319Z
LAST-MODIFIED:20250130T163056Z
UID:10028214-1788170400-1788195600@letslearn.nz
SUMMARY:What's On at Your Library
DESCRIPTION:From Knitting & Knattering to Chess\, from Rummikub to Genealogy plus a host of activities in between\, libraries are true community hubs. Check out what is on the programme and geared for adults in your area.\nhttps://library.tauranga.govt.nz/whats-on/adult-events
URL:https://letslearn.nz/event/whats-on-at-your-library/2026-08-31/
CATEGORIES:Book Clubs,Card Games,Chess,Free,Free IT Courses,Genealogy,Knitting,Legal,Reading,Rummicub,Scrabble,Seniors
ATTACH;FMTTYPE=image/jpeg:https://letslearn.nz/wp-content/uploads/2025/01/Library-logos.jpg
ORGANIZER;CN="Tauranga Libraries - Te Ao M%C4%81rama":MAILTO:library@tauranga.govt.nz 
END:VEVENT
BEGIN:VEVENT
DTSTART;TZID=Pacific/Auckland:20260914T100000
DTEND;TZID=Pacific/Auckland:20260914T170000
DTSTAMP:20260420T225452
CREATED:20250130T162319Z
LAST-MODIFIED:20250130T163056Z
UID:10028215-1789380000-1789405200@letslearn.nz
SUMMARY:What's On at Your Library
DESCRIPTION:From Knitting & Knattering to Chess\, from Rummikub to Genealogy plus a host of activities in between\, libraries are true community hubs. Check out what is on the programme and geared for adults in your area.\nhttps://library.tauranga.govt.nz/whats-on/adult-events
URL:https://letslearn.nz/event/whats-on-at-your-library/2026-09-14/
CATEGORIES:Book Clubs,Card Games,Chess,Free,Free IT Courses,Genealogy,Knitting,Legal,Reading,Rummicub,Scrabble,Seniors
ATTACH;FMTTYPE=image/jpeg:https://letslearn.nz/wp-content/uploads/2025/01/Library-logos.jpg
ORGANIZER;CN="Tauranga Libraries - Te Ao M%C4%81rama":MAILTO:library@tauranga.govt.nz 
END:VEVENT
BEGIN:VEVENT
DTSTART;TZID=Pacific/Auckland:20260928T100000
DTEND;TZID=Pacific/Auckland:20260928T170000
DTSTAMP:20260420T225452
CREATED:20250130T162319Z
LAST-MODIFIED:20250130T163056Z
UID:10028216-1790589600-1790614800@letslearn.nz
SUMMARY:What's On at Your Library
DESCRIPTION:From Knitting & Knattering to Chess\, from Rummikub to Genealogy plus a host of activities in between\, libraries are true community hubs. Check out what is on the programme and geared for adults in your area.\nhttps://library.tauranga.govt.nz/whats-on/adult-events
URL:https://letslearn.nz/event/whats-on-at-your-library/2026-09-28/
CATEGORIES:Book Clubs,Card Games,Chess,Free,Free IT Courses,Genealogy,Knitting,Legal,Reading,Rummicub,Scrabble,Seniors
ATTACH;FMTTYPE=image/jpeg:https://letslearn.nz/wp-content/uploads/2025/01/Library-logos.jpg
ORGANIZER;CN="Tauranga Libraries - Te Ao M%C4%81rama":MAILTO:library@tauranga.govt.nz 
END:VEVENT
BEGIN:VEVENT
DTSTART;TZID=Pacific/Auckland:20261012T100000
DTEND;TZID=Pacific/Auckland:20261012T170000
DTSTAMP:20260420T225452
CREATED:20250130T162319Z
LAST-MODIFIED:20250130T163056Z
UID:10028217-1791799200-1791824400@letslearn.nz
SUMMARY:What's On at Your Library
DESCRIPTION:From Knitting & Knattering to Chess\, from Rummikub to Genealogy plus a host of activities in between\, libraries are true community hubs. Check out what is on the programme and geared for adults in your area.\nhttps://library.tauranga.govt.nz/whats-on/adult-events
URL:https://letslearn.nz/event/whats-on-at-your-library/2026-10-12/
CATEGORIES:Book Clubs,Card Games,Chess,Free,Free IT Courses,Genealogy,Knitting,Legal,Reading,Rummicub,Scrabble,Seniors
ATTACH;FMTTYPE=image/jpeg:https://letslearn.nz/wp-content/uploads/2025/01/Library-logos.jpg
ORGANIZER;CN="Tauranga Libraries - Te Ao M%C4%81rama":MAILTO:library@tauranga.govt.nz 
END:VEVENT
BEGIN:VEVENT
DTSTART;TZID=Pacific/Auckland:20261026T100000
DTEND;TZID=Pacific/Auckland:20261026T170000
DTSTAMP:20260420T225452
CREATED:20250130T162319Z
LAST-MODIFIED:20250130T163056Z
UID:10028218-1793008800-1793034000@letslearn.nz
SUMMARY:What's On at Your Library
DESCRIPTION:From Knitting & Knattering to Chess\, from Rummikub to Genealogy plus a host of activities in between\, libraries are true community hubs. Check out what is on the programme and geared for adults in your area.\nhttps://library.tauranga.govt.nz/whats-on/adult-events
URL:https://letslearn.nz/event/whats-on-at-your-library/2026-10-26/
CATEGORIES:Book Clubs,Card Games,Chess,Free,Free IT Courses,Genealogy,Knitting,Legal,Reading,Rummicub,Scrabble,Seniors
ATTACH;FMTTYPE=image/jpeg:https://letslearn.nz/wp-content/uploads/2025/01/Library-logos.jpg
ORGANIZER;CN="Tauranga Libraries - Te Ao M%C4%81rama":MAILTO:library@tauranga.govt.nz 
END:VEVENT
BEGIN:VEVENT
DTSTART;TZID=Pacific/Auckland:20261109T100000
DTEND;TZID=Pacific/Auckland:20261109T170000
DTSTAMP:20260420T225452
CREATED:20250130T162319Z
LAST-MODIFIED:20250130T163056Z
UID:10028219-1794218400-1794243600@letslearn.nz
SUMMARY:What's On at Your Library
DESCRIPTION:From Knitting & Knattering to Chess\, from Rummikub to Genealogy plus a host of activities in between\, libraries are true community hubs. Check out what is on the programme and geared for adults in your area.\nhttps://library.tauranga.govt.nz/whats-on/adult-events
URL:https://letslearn.nz/event/whats-on-at-your-library/2026-11-09/
CATEGORIES:Book Clubs,Card Games,Chess,Free,Free IT Courses,Genealogy,Knitting,Legal,Reading,Rummicub,Scrabble,Seniors
ATTACH;FMTTYPE=image/jpeg:https://letslearn.nz/wp-content/uploads/2025/01/Library-logos.jpg
ORGANIZER;CN="Tauranga Libraries - Te Ao M%C4%81rama":MAILTO:library@tauranga.govt.nz 
END:VEVENT
BEGIN:VEVENT
DTSTART;TZID=Pacific/Auckland:20261123T100000
DTEND;TZID=Pacific/Auckland:20261123T170000
DTSTAMP:20260420T225452
CREATED:20250130T162319Z
LAST-MODIFIED:20250130T163056Z
UID:10028220-1795428000-1795453200@letslearn.nz
SUMMARY:What's On at Your Library
DESCRIPTION:From Knitting & Knattering to Chess\, from Rummikub to Genealogy plus a host of activities in between\, libraries are true community hubs. Check out what is on the programme and geared for adults in your area.\nhttps://library.tauranga.govt.nz/whats-on/adult-events
URL:https://letslearn.nz/event/whats-on-at-your-library/2026-11-23/
CATEGORIES:Book Clubs,Card Games,Chess,Free,Free IT Courses,Genealogy,Knitting,Legal,Reading,Rummicub,Scrabble,Seniors
ATTACH;FMTTYPE=image/jpeg:https://letslearn.nz/wp-content/uploads/2025/01/Library-logos.jpg
ORGANIZER;CN="Tauranga Libraries - Te Ao M%C4%81rama":MAILTO:library@tauranga.govt.nz 
END:VEVENT
BEGIN:VEVENT
DTSTART;TZID=Pacific/Auckland:20261207T100000
DTEND;TZID=Pacific/Auckland:20261207T170000
DTSTAMP:20260420T225452
CREATED:20250130T162319Z
LAST-MODIFIED:20250130T163056Z
UID:10028145-1796637600-1796662800@letslearn.nz
SUMMARY:What's On at Your Library
DESCRIPTION:From Knitting & Knattering to Chess\, from Rummikub to Genealogy plus a host of activities in between\, libraries are true community hubs. Check out what is on the programme and geared for adults in your area.\nhttps://library.tauranga.govt.nz/whats-on/adult-events
URL:https://letslearn.nz/event/whats-on-at-your-library/2026-12-07/
CATEGORIES:Book Clubs,Card Games,Chess,Free,Free IT Courses,Genealogy,Knitting,Legal,Reading,Rummicub,Scrabble,Seniors
ATTACH;FMTTYPE=image/jpeg:https://letslearn.nz/wp-content/uploads/2025/01/Library-logos.jpg
ORGANIZER;CN="Tauranga Libraries - Te Ao M%C4%81rama":MAILTO:library@tauranga.govt.nz 
END:VEVENT
BEGIN:VEVENT
DTSTART;TZID=Pacific/Auckland:20261221T100000
DTEND;TZID=Pacific/Auckland:20261221T170000
DTSTAMP:20260420T225452
CREATED:20250130T162319Z
LAST-MODIFIED:20250130T163056Z
UID:10028221-1797847200-1797872400@letslearn.nz
SUMMARY:What's On at Your Library
DESCRIPTION:From Knitting & Knattering to Chess\, from Rummikub to Genealogy plus a host of activities in between\, libraries are true community hubs. Check out what is on the programme and geared for adults in your area.\nhttps://library.tauranga.govt.nz/whats-on/adult-events
URL:https://letslearn.nz/event/whats-on-at-your-library/2026-12-21/
CATEGORIES:Book Clubs,Card Games,Chess,Free,Free IT Courses,Genealogy,Knitting,Legal,Reading,Rummicub,Scrabble,Seniors
ATTACH;FMTTYPE=image/jpeg:https://letslearn.nz/wp-content/uploads/2025/01/Library-logos.jpg
ORGANIZER;CN="Tauranga Libraries - Te Ao M%C4%81rama":MAILTO:library@tauranga.govt.nz 
END:VEVENT
BEGIN:VEVENT
DTSTART;TZID=Pacific/Auckland:20270104T100000
DTEND;TZID=Pacific/Auckland:20270104T170000
DTSTAMP:20260420T225452
CREATED:20250130T162319Z
LAST-MODIFIED:20250130T163056Z
UID:10028146-1799056800-1799082000@letslearn.nz
SUMMARY:What's On at Your Library
DESCRIPTION:From Knitting & Knattering to Chess\, from Rummikub to Genealogy plus a host of activities in between\, libraries are true community hubs. Check out what is on the programme and geared for adults in your area.\nhttps://library.tauranga.govt.nz/whats-on/adult-events
URL:https://letslearn.nz/event/whats-on-at-your-library/2027-01-04/
CATEGORIES:Book Clubs,Card Games,Chess,Free,Free IT Courses,Genealogy,Knitting,Legal,Reading,Rummicub,Scrabble,Seniors
ATTACH;FMTTYPE=image/jpeg:https://letslearn.nz/wp-content/uploads/2025/01/Library-logos.jpg
ORGANIZER;CN="Tauranga Libraries - Te Ao M%C4%81rama":MAILTO:library@tauranga.govt.nz 
END:VEVENT
BEGIN:VEVENT
DTSTART;TZID=Pacific/Auckland:20270118T100000
DTEND;TZID=Pacific/Auckland:20270118T170000
DTSTAMP:20260420T225452
CREATED:20250130T162319Z
LAST-MODIFIED:20250130T163056Z
UID:10028222-1800266400-1800291600@letslearn.nz
SUMMARY:What's On at Your Library
DESCRIPTION:From Knitting & Knattering to Chess\, from Rummikub to Genealogy plus a host of activities in between\, libraries are true community hubs. Check out what is on the programme and geared for adults in your area.\nhttps://library.tauranga.govt.nz/whats-on/adult-events
URL:https://letslearn.nz/event/whats-on-at-your-library/2027-01-18/
CATEGORIES:Book Clubs,Card Games,Chess,Free,Free IT Courses,Genealogy,Knitting,Legal,Reading,Rummicub,Scrabble,Seniors
ATTACH;FMTTYPE=image/jpeg:https://letslearn.nz/wp-content/uploads/2025/01/Library-logos.jpg
ORGANIZER;CN="Tauranga Libraries - Te Ao M%C4%81rama":MAILTO:library@tauranga.govt.nz 
END:VEVENT
BEGIN:VEVENT
DTSTART;TZID=Pacific/Auckland:20270201T100000
DTEND;TZID=Pacific/Auckland:20270201T170000
DTSTAMP:20260420T225452
CREATED:20250130T162319Z
LAST-MODIFIED:20250130T163056Z
UID:10028147-1801476000-1801501200@letslearn.nz
SUMMARY:What's On at Your Library
DESCRIPTION:From Knitting & Knattering to Chess\, from Rummikub to Genealogy plus a host of activities in between\, libraries are true community hubs. Check out what is on the programme and geared for adults in your area.\nhttps://library.tauranga.govt.nz/whats-on/adult-events
URL:https://letslearn.nz/event/whats-on-at-your-library/2027-02-01/
CATEGORIES:Book Clubs,Card Games,Chess,Free,Free IT Courses,Genealogy,Knitting,Legal,Reading,Rummicub,Scrabble,Seniors
ATTACH;FMTTYPE=image/jpeg:https://letslearn.nz/wp-content/uploads/2025/01/Library-logos.jpg
ORGANIZER;CN="Tauranga Libraries - Te Ao M%C4%81rama":MAILTO:library@tauranga.govt.nz 
END:VEVENT
BEGIN:VEVENT
DTSTART;TZID=Pacific/Auckland:20270215T100000
DTEND;TZID=Pacific/Auckland:20270215T170000
DTSTAMP:20260420T225452
CREATED:20250130T162319Z
LAST-MODIFIED:20250130T163056Z
UID:10028223-1802685600-1802710800@letslearn.nz
SUMMARY:What's On at Your Library
DESCRIPTION:From Knitting & Knattering to Chess\, from Rummikub to Genealogy plus a host of activities in between\, libraries are true community hubs. Check out what is on the programme and geared for adults in your area.\nhttps://library.tauranga.govt.nz/whats-on/adult-events
URL:https://letslearn.nz/event/whats-on-at-your-library/2027-02-15/
CATEGORIES:Book Clubs,Card Games,Chess,Free,Free IT Courses,Genealogy,Knitting,Legal,Reading,Rummicub,Scrabble,Seniors
ATTACH;FMTTYPE=image/jpeg:https://letslearn.nz/wp-content/uploads/2025/01/Library-logos.jpg
ORGANIZER;CN="Tauranga Libraries - Te Ao M%C4%81rama":MAILTO:library@tauranga.govt.nz 
END:VEVENT
BEGIN:VEVENT
DTSTART;TZID=Pacific/Auckland:20270301T100000
DTEND;TZID=Pacific/Auckland:20270301T170000
DTSTAMP:20260420T225452
CREATED:20250130T162319Z
LAST-MODIFIED:20250130T163056Z
UID:10028148-1803895200-1803920400@letslearn.nz
SUMMARY:What's On at Your Library
DESCRIPTION:From Knitting & Knattering to Chess\, from Rummikub to Genealogy plus a host of activities in between\, libraries are true community hubs. Check out what is on the programme and geared for adults in your area.\nhttps://library.tauranga.govt.nz/whats-on/adult-events
URL:https://letslearn.nz/event/whats-on-at-your-library/2027-03-01/
CATEGORIES:Book Clubs,Card Games,Chess,Free,Free IT Courses,Genealogy,Knitting,Legal,Reading,Rummicub,Scrabble,Seniors
ATTACH;FMTTYPE=image/jpeg:https://letslearn.nz/wp-content/uploads/2025/01/Library-logos.jpg
ORGANIZER;CN="Tauranga Libraries - Te Ao M%C4%81rama":MAILTO:library@tauranga.govt.nz 
END:VEVENT
BEGIN:VEVENT
DTSTART;TZID=Pacific/Auckland:20270315T100000
DTEND;TZID=Pacific/Auckland:20270315T170000
DTSTAMP:20260420T225452
CREATED:20250130T162319Z
LAST-MODIFIED:20250130T163056Z
UID:10028224-1805104800-1805130000@letslearn.nz
SUMMARY:What's On at Your Library
DESCRIPTION:From Knitting & Knattering to Chess\, from Rummikub to Genealogy plus a host of activities in between\, libraries are true community hubs. Check out what is on the programme and geared for adults in your area.\nhttps://library.tauranga.govt.nz/whats-on/adult-events
URL:https://letslearn.nz/event/whats-on-at-your-library/2027-03-15/
CATEGORIES:Book Clubs,Card Games,Chess,Free,Free IT Courses,Genealogy,Knitting,Legal,Reading,Rummicub,Scrabble,Seniors
ATTACH;FMTTYPE=image/jpeg:https://letslearn.nz/wp-content/uploads/2025/01/Library-logos.jpg
ORGANIZER;CN="Tauranga Libraries - Te Ao M%C4%81rama":MAILTO:library@tauranga.govt.nz 
END:VEVENT
BEGIN:VEVENT
DTSTART;TZID=Pacific/Auckland:20270329T100000
DTEND;TZID=Pacific/Auckland:20270329T170000
DTSTAMP:20260420T225452
CREATED:20250130T162319Z
LAST-MODIFIED:20250130T163056Z
UID:10028225-1806314400-1806339600@letslearn.nz
SUMMARY:What's On at Your Library
DESCRIPTION:From Knitting & Knattering to Chess\, from Rummikub to Genealogy plus a host of activities in between\, libraries are true community hubs. Check out what is on the programme and geared for adults in your area.\nhttps://library.tauranga.govt.nz/whats-on/adult-events
URL:https://letslearn.nz/event/whats-on-at-your-library/2027-03-29/
CATEGORIES:Book Clubs,Card Games,Chess,Free,Free IT Courses,Genealogy,Knitting,Legal,Reading,Rummicub,Scrabble,Seniors
ATTACH;FMTTYPE=image/jpeg:https://letslearn.nz/wp-content/uploads/2025/01/Library-logos.jpg
ORGANIZER;CN="Tauranga Libraries - Te Ao M%C4%81rama":MAILTO:library@tauranga.govt.nz 
END:VEVENT
BEGIN:VEVENT
DTSTART;TZID=Pacific/Auckland:20270412T100000
DTEND;TZID=Pacific/Auckland:20270412T170000
DTSTAMP:20260420T225452
CREATED:20250130T162319Z
LAST-MODIFIED:20250130T163056Z
UID:10028226-1807524000-1807549200@letslearn.nz
SUMMARY:What's On at Your Library
DESCRIPTION:From Knitting & Knattering to Chess\, from Rummikub to Genealogy plus a host of activities in between\, libraries are true community hubs. Check out what is on the programme and geared for adults in your area.\nhttps://library.tauranga.govt.nz/whats-on/adult-events
URL:https://letslearn.nz/event/whats-on-at-your-library/2027-04-12/
CATEGORIES:Book Clubs,Card Games,Chess,Free,Free IT Courses,Genealogy,Knitting,Legal,Reading,Rummicub,Scrabble,Seniors
ATTACH;FMTTYPE=image/jpeg:https://letslearn.nz/wp-content/uploads/2025/01/Library-logos.jpg
ORGANIZER;CN="Tauranga Libraries - Te Ao M%C4%81rama":MAILTO:library@tauranga.govt.nz 
END:VEVENT
BEGIN:VEVENT
DTSTART;TZID=Pacific/Auckland:20270426T100000
DTEND;TZID=Pacific/Auckland:20270426T170000
DTSTAMP:20260420T225452
CREATED:20250130T162319Z
LAST-MODIFIED:20250130T163056Z
UID:10028227-1808733600-1808758800@letslearn.nz
SUMMARY:What's On at Your Library
DESCRIPTION:From Knitting & Knattering to Chess\, from Rummikub to Genealogy plus a host of activities in between\, libraries are true community hubs. Check out what is on the programme and geared for adults in your area.\nhttps://library.tauranga.govt.nz/whats-on/adult-events
URL:https://letslearn.nz/event/whats-on-at-your-library/2027-04-26/
CATEGORIES:Book Clubs,Card Games,Chess,Free,Free IT Courses,Genealogy,Knitting,Legal,Reading,Rummicub,Scrabble,Seniors
ATTACH;FMTTYPE=image/jpeg:https://letslearn.nz/wp-content/uploads/2025/01/Library-logos.jpg
ORGANIZER;CN="Tauranga Libraries - Te Ao M%C4%81rama":MAILTO:library@tauranga.govt.nz 
END:VEVENT
BEGIN:VEVENT
DTSTART;TZID=Pacific/Auckland:20270510T100000
DTEND;TZID=Pacific/Auckland:20270510T170000
DTSTAMP:20260420T225452
CREATED:20250130T162319Z
LAST-MODIFIED:20250130T163056Z
UID:10028228-1809943200-1809968400@letslearn.nz
SUMMARY:What's On at Your Library
DESCRIPTION:From Knitting & Knattering to Chess\, from Rummikub to Genealogy plus a host of activities in between\, libraries are true community hubs. Check out what is on the programme and geared for adults in your area.\nhttps://library.tauranga.govt.nz/whats-on/adult-events
URL:https://letslearn.nz/event/whats-on-at-your-library/2027-05-10/
CATEGORIES:Book Clubs,Card Games,Chess,Free,Free IT Courses,Genealogy,Knitting,Legal,Reading,Rummicub,Scrabble,Seniors
ATTACH;FMTTYPE=image/jpeg:https://letslearn.nz/wp-content/uploads/2025/01/Library-logos.jpg
ORGANIZER;CN="Tauranga Libraries - Te Ao M%C4%81rama":MAILTO:library@tauranga.govt.nz 
END:VEVENT
BEGIN:VEVENT
DTSTART;TZID=Pacific/Auckland:20270524T100000
DTEND;TZID=Pacific/Auckland:20270524T170000
DTSTAMP:20260420T225452
CREATED:20250130T162319Z
LAST-MODIFIED:20250130T163056Z
UID:10028229-1811152800-1811178000@letslearn.nz
SUMMARY:What's On at Your Library
DESCRIPTION:From Knitting & Knattering to Chess\, from Rummikub to Genealogy plus a host of activities in between\, libraries are true community hubs. Check out what is on the programme and geared for adults in your area.\nhttps://library.tauranga.govt.nz/whats-on/adult-events
URL:https://letslearn.nz/event/whats-on-at-your-library/2027-05-24/
CATEGORIES:Book Clubs,Card Games,Chess,Free,Free IT Courses,Genealogy,Knitting,Legal,Reading,Rummicub,Scrabble,Seniors
ATTACH;FMTTYPE=image/jpeg:https://letslearn.nz/wp-content/uploads/2025/01/Library-logos.jpg
ORGANIZER;CN="Tauranga Libraries - Te Ao M%C4%81rama":MAILTO:library@tauranga.govt.nz 
END:VEVENT
BEGIN:VEVENT
DTSTART;TZID=Pacific/Auckland:20270607T100000
DTEND;TZID=Pacific/Auckland:20270607T170000
DTSTAMP:20260420T225452
CREATED:20250130T162319Z
LAST-MODIFIED:20250130T163056Z
UID:10028151-1812362400-1812387600@letslearn.nz
SUMMARY:What's On at Your Library
DESCRIPTION:From Knitting & Knattering to Chess\, from Rummikub to Genealogy plus a host of activities in between\, libraries are true community hubs. Check out what is on the programme and geared for adults in your area.\nhttps://library.tauranga.govt.nz/whats-on/adult-events
URL:https://letslearn.nz/event/whats-on-at-your-library/2027-06-07/
CATEGORIES:Book Clubs,Card Games,Chess,Free,Free IT Courses,Genealogy,Knitting,Legal,Reading,Rummicub,Scrabble,Seniors
ATTACH;FMTTYPE=image/jpeg:https://letslearn.nz/wp-content/uploads/2025/01/Library-logos.jpg
ORGANIZER;CN="Tauranga Libraries - Te Ao M%C4%81rama":MAILTO:library@tauranga.govt.nz 
END:VEVENT
END:VCALENDAR