BEGIN:VCALENDAR
VERSION:2.0
PRODID:-//Let&#039;s Learn - ECPv6.15.14//NONSGML v1.0//EN
CALSCALE:GREGORIAN
METHOD:PUBLISH
X-ORIGINAL-URL:https://letslearn.nz
X-WR-CALDESC:Events for Let&#039;s Learn
REFRESH-INTERVAL;VALUE=DURATION:PT1H
X-Robots-Tag:noindex
X-PUBLISHED-TTL:PT1H
BEGIN:VTIMEZONE
TZID:Pacific/Auckland
BEGIN:STANDARD
TZOFFSETFROM:+1300
TZOFFSETTO:+1200
TZNAME:NZST
DTSTART:20200404T140000
END:STANDARD
BEGIN:DAYLIGHT
TZOFFSETFROM:+1200
TZOFFSETTO:+1300
TZNAME:NZDT
DTSTART:20200926T140000
END:DAYLIGHT
BEGIN:STANDARD
TZOFFSETFROM:+1300
TZOFFSETTO:+1200
TZNAME:NZST
DTSTART:20210403T140000
END:STANDARD
BEGIN:DAYLIGHT
TZOFFSETFROM:+1200
TZOFFSETTO:+1300
TZNAME:NZDT
DTSTART:20210925T140000
END:DAYLIGHT
BEGIN:STANDARD
TZOFFSETFROM:+1300
TZOFFSETTO:+1200
TZNAME:NZST
DTSTART:20220402T140000
END:STANDARD
BEGIN:DAYLIGHT
TZOFFSETFROM:+1200
TZOFFSETTO:+1300
TZNAME:NZDT
DTSTART:20220924T140000
END:DAYLIGHT
END:VTIMEZONE
BEGIN:VEVENT
DTSTART;TZID=Pacific/Auckland:20211218T180000
DTEND;TZID=Pacific/Auckland:20211218T193000
DTSTAMP:20260422T231459
CREATED:20211002T024336Z
LAST-MODIFIED:20211031T225925Z
UID:10004935-1639850400-1639855800@letslearn.nz
SUMMARY:Kirtan Music Meditation Evening
DESCRIPTION:Keen to feel more relaxed and peaceful in your life? \nCome and relax with us and experience a blend of chill and upbeat Music Meditation. \nThere are no hard or fast rules to Mantra Meditation\, you can just listen\, sing loudly\, lie down or stand up and dance. \nIf you haven’t experienced this type of Meditation before you can watch this video of an event we had recently. \nhttps://www.facebook.com/patrick.christopher.18/videos/5170766069662707 \nWhen: Every Saturday 6pm to 7.30pm\nWhere: Mount Maunganui Scout Hall\, 13 May Street\, Mount Maunganui\nCost: Free event\, koha appreciated. \nAll welcome.\nPlease sign in at the door and you only have to wear a mask if you wish.
URL:https://letslearn.nz/event/kirtan-music-meditation-evening/2021-12-18/
LOCATION:Mount Meditation\, 13 May St\, Mt Maunganui
CATEGORIES:Free,Meditation - Healing
ATTACH;FMTTYPE=image/jpeg:https://letslearn.nz/wp-content/uploads/2021/10/Meditation-Mount.jpg
ORGANIZER;CN="Mount Meditation":MAILTO:mountmeditation108@gmail.com
END:VEVENT
BEGIN:VEVENT
DTSTART;TZID=Pacific/Auckland:20211211T180000
DTEND;TZID=Pacific/Auckland:20211211T193000
DTSTAMP:20260422T231459
CREATED:20211002T024336Z
LAST-MODIFIED:20211031T225925Z
UID:10004934-1639245600-1639251000@letslearn.nz
SUMMARY:Kirtan Music Meditation Evening
DESCRIPTION:Keen to feel more relaxed and peaceful in your life? \nCome and relax with us and experience a blend of chill and upbeat Music Meditation. \nThere are no hard or fast rules to Mantra Meditation\, you can just listen\, sing loudly\, lie down or stand up and dance. \nIf you haven’t experienced this type of Meditation before you can watch this video of an event we had recently. \nhttps://www.facebook.com/patrick.christopher.18/videos/5170766069662707 \nWhen: Every Saturday 6pm to 7.30pm\nWhere: Mount Maunganui Scout Hall\, 13 May Street\, Mount Maunganui\nCost: Free event\, koha appreciated. \nAll welcome.\nPlease sign in at the door and you only have to wear a mask if you wish.
URL:https://letslearn.nz/event/kirtan-music-meditation-evening/2021-12-11/
LOCATION:Mount Meditation\, 13 May St\, Mt Maunganui
CATEGORIES:Free,Meditation - Healing
ATTACH;FMTTYPE=image/jpeg:https://letslearn.nz/wp-content/uploads/2021/10/Meditation-Mount.jpg
ORGANIZER;CN="Mount Meditation":MAILTO:mountmeditation108@gmail.com
END:VEVENT
BEGIN:VEVENT
DTSTART;TZID=Pacific/Auckland:20211204T180000
DTEND;TZID=Pacific/Auckland:20211204T193000
DTSTAMP:20260422T231459
CREATED:20211002T024336Z
LAST-MODIFIED:20211031T225925Z
UID:10004933-1638640800-1638646200@letslearn.nz
SUMMARY:Kirtan Music Meditation Evening
DESCRIPTION:Keen to feel more relaxed and peaceful in your life? \nCome and relax with us and experience a blend of chill and upbeat Music Meditation. \nThere are no hard or fast rules to Mantra Meditation\, you can just listen\, sing loudly\, lie down or stand up and dance. \nIf you haven’t experienced this type of Meditation before you can watch this video of an event we had recently. \nhttps://www.facebook.com/patrick.christopher.18/videos/5170766069662707 \nWhen: Every Saturday 6pm to 7.30pm\nWhere: Mount Maunganui Scout Hall\, 13 May Street\, Mount Maunganui\nCost: Free event\, koha appreciated. \nAll welcome.\nPlease sign in at the door and you only have to wear a mask if you wish.
URL:https://letslearn.nz/event/kirtan-music-meditation-evening/2021-12-04/
LOCATION:Mount Meditation\, 13 May St\, Mt Maunganui
CATEGORIES:Free,Meditation - Healing
ATTACH;FMTTYPE=image/jpeg:https://letslearn.nz/wp-content/uploads/2021/10/Meditation-Mount.jpg
ORGANIZER;CN="Mount Meditation":MAILTO:mountmeditation108@gmail.com
END:VEVENT
BEGIN:VEVENT
DTSTART;TZID=Pacific/Auckland:20211127T180000
DTEND;TZID=Pacific/Auckland:20211127T193000
DTSTAMP:20260422T231459
CREATED:20211002T024336Z
LAST-MODIFIED:20211031T225925Z
UID:10004932-1638036000-1638041400@letslearn.nz
SUMMARY:Kirtan Music Meditation Evening
DESCRIPTION:Keen to feel more relaxed and peaceful in your life? \nCome and relax with us and experience a blend of chill and upbeat Music Meditation. \nThere are no hard or fast rules to Mantra Meditation\, you can just listen\, sing loudly\, lie down or stand up and dance. \nIf you haven’t experienced this type of Meditation before you can watch this video of an event we had recently. \nhttps://www.facebook.com/patrick.christopher.18/videos/5170766069662707 \nWhen: Every Saturday 6pm to 7.30pm\nWhere: Mount Maunganui Scout Hall\, 13 May Street\, Mount Maunganui\nCost: Free event\, koha appreciated. \nAll welcome.\nPlease sign in at the door and you only have to wear a mask if you wish.
URL:https://letslearn.nz/event/kirtan-music-meditation-evening/2021-11-27/
LOCATION:Mount Meditation\, 13 May St\, Mt Maunganui
CATEGORIES:Free,Meditation - Healing
ATTACH;FMTTYPE=image/jpeg:https://letslearn.nz/wp-content/uploads/2021/10/Meditation-Mount.jpg
ORGANIZER;CN="Mount Meditation":MAILTO:mountmeditation108@gmail.com
END:VEVENT
BEGIN:VEVENT
DTSTART;TZID=Pacific/Auckland:20211120T180000
DTEND;TZID=Pacific/Auckland:20211120T193000
DTSTAMP:20260422T231459
CREATED:20211002T024336Z
LAST-MODIFIED:20211031T225925Z
UID:10004931-1637431200-1637436600@letslearn.nz
SUMMARY:Kirtan Music Meditation Evening
DESCRIPTION:Keen to feel more relaxed and peaceful in your life? \nCome and relax with us and experience a blend of chill and upbeat Music Meditation. \nThere are no hard or fast rules to Mantra Meditation\, you can just listen\, sing loudly\, lie down or stand up and dance. \nIf you haven’t experienced this type of Meditation before you can watch this video of an event we had recently. \nhttps://www.facebook.com/patrick.christopher.18/videos/5170766069662707 \nWhen: Every Saturday 6pm to 7.30pm\nWhere: Mount Maunganui Scout Hall\, 13 May Street\, Mount Maunganui\nCost: Free event\, koha appreciated. \nAll welcome.\nPlease sign in at the door and you only have to wear a mask if you wish.
URL:https://letslearn.nz/event/kirtan-music-meditation-evening/2021-11-20/
LOCATION:Mount Meditation\, 13 May St\, Mt Maunganui
CATEGORIES:Free,Meditation - Healing
ATTACH;FMTTYPE=image/jpeg:https://letslearn.nz/wp-content/uploads/2021/10/Meditation-Mount.jpg
ORGANIZER;CN="Mount Meditation":MAILTO:mountmeditation108@gmail.com
END:VEVENT
BEGIN:VEVENT
DTSTART;TZID=Pacific/Auckland:20211113T180000
DTEND;TZID=Pacific/Auckland:20211113T193000
DTSTAMP:20260422T231459
CREATED:20211002T024336Z
LAST-MODIFIED:20211031T225925Z
UID:10004930-1636826400-1636831800@letslearn.nz
SUMMARY:Kirtan Music Meditation Evening
DESCRIPTION:Keen to feel more relaxed and peaceful in your life? \nCome and relax with us and experience a blend of chill and upbeat Music Meditation. \nThere are no hard or fast rules to Mantra Meditation\, you can just listen\, sing loudly\, lie down or stand up and dance. \nIf you haven’t experienced this type of Meditation before you can watch this video of an event we had recently. \nhttps://www.facebook.com/patrick.christopher.18/videos/5170766069662707 \nWhen: Every Saturday 6pm to 7.30pm\nWhere: Mount Maunganui Scout Hall\, 13 May Street\, Mount Maunganui\nCost: Free event\, koha appreciated. \nAll welcome.\nPlease sign in at the door and you only have to wear a mask if you wish.
URL:https://letslearn.nz/event/kirtan-music-meditation-evening/2021-11-13/
LOCATION:Mount Meditation\, 13 May St\, Mt Maunganui
CATEGORIES:Free,Meditation - Healing
ATTACH;FMTTYPE=image/jpeg:https://letslearn.nz/wp-content/uploads/2021/10/Meditation-Mount.jpg
ORGANIZER;CN="Mount Meditation":MAILTO:mountmeditation108@gmail.com
END:VEVENT
BEGIN:VEVENT
DTSTART;TZID=Pacific/Auckland:20211106T180000
DTEND;TZID=Pacific/Auckland:20211106T193000
DTSTAMP:20260422T231459
CREATED:20211002T024336Z
LAST-MODIFIED:20211031T225925Z
UID:10004929-1636221600-1636227000@letslearn.nz
SUMMARY:Kirtan Music Meditation Evening
DESCRIPTION:Keen to feel more relaxed and peaceful in your life? \nCome and relax with us and experience a blend of chill and upbeat Music Meditation. \nThere are no hard or fast rules to Mantra Meditation\, you can just listen\, sing loudly\, lie down or stand up and dance. \nIf you haven’t experienced this type of Meditation before you can watch this video of an event we had recently. \nhttps://www.facebook.com/patrick.christopher.18/videos/5170766069662707 \nWhen: Every Saturday 6pm to 7.30pm\nWhere: Mount Maunganui Scout Hall\, 13 May Street\, Mount Maunganui\nCost: Free event\, koha appreciated. \nAll welcome.\nPlease sign in at the door and you only have to wear a mask if you wish.
URL:https://letslearn.nz/event/kirtan-music-meditation-evening/2021-11-06/
LOCATION:Mount Meditation\, 13 May St\, Mt Maunganui
CATEGORIES:Free,Meditation - Healing
ATTACH;FMTTYPE=image/jpeg:https://letslearn.nz/wp-content/uploads/2021/10/Meditation-Mount.jpg
ORGANIZER;CN="Mount Meditation":MAILTO:mountmeditation108@gmail.com
END:VEVENT
END:VCALENDAR