BEGIN:VCALENDAR
VERSION:2.0
PRODID:-//Let&#039;s Learn - ECPv6.15.14//NONSGML v1.0//EN
CALSCALE:GREGORIAN
METHOD:PUBLISH
X-WR-CALNAME:Let&#039;s Learn
X-ORIGINAL-URL:https://letslearn.nz
X-WR-CALDESC:Events for Let&#039;s Learn
REFRESH-INTERVAL;VALUE=DURATION:PT1H
X-Robots-Tag:noindex
X-PUBLISHED-TTL:PT1H
BEGIN:VTIMEZONE
TZID:Pacific/Auckland
BEGIN:STANDARD
TZOFFSETFROM:+1300
TZOFFSETTO:+1200
TZNAME:NZST
DTSTART:20220402T140000
END:STANDARD
BEGIN:DAYLIGHT
TZOFFSETFROM:+1200
TZOFFSETTO:+1300
TZNAME:NZDT
DTSTART:20220924T140000
END:DAYLIGHT
BEGIN:STANDARD
TZOFFSETFROM:+1300
TZOFFSETTO:+1200
TZNAME:NZST
DTSTART:20230401T140000
END:STANDARD
BEGIN:DAYLIGHT
TZOFFSETFROM:+1200
TZOFFSETTO:+1300
TZNAME:NZDT
DTSTART:20230923T140000
END:DAYLIGHT
BEGIN:STANDARD
TZOFFSETFROM:+1300
TZOFFSETTO:+1200
TZNAME:NZST
DTSTART:20240406T140000
END:STANDARD
BEGIN:DAYLIGHT
TZOFFSETFROM:+1200
TZOFFSETTO:+1300
TZNAME:NZDT
DTSTART:20240928T140000
END:DAYLIGHT
END:VTIMEZONE
BEGIN:VEVENT
DTSTART;TZID=Pacific/Auckland:20230528T123000
DTEND;TZID=Pacific/Auckland:20230528T160000
DTSTAMP:20260423T185634
CREATED:20230512T233817Z
LAST-MODIFIED:20230519T003634Z
UID:10007082-1685277000-1685289600@letslearn.nz
SUMMARY:Women's Gathering
DESCRIPTION:Mandala Creativity\nHave fun drawing Mandalas and also creating a Nature Mandala together. \nCrystal Sound Session\nRelax deeply with nourishing and healing sounds with Ruby Grace and her Sound Bowls. \nWhen: Sunday 28th May 2023 at 12.30pm – 4pm\nWhere:  Welcome Bay\nCost:  $40 per person or\, if required\, discuss with Carina. \nRSVP and payment to Carina\nPhone: 021 064 9814\nEmail: thesunshinehub@protonmail.com
URL:https://letslearn.nz/event/mandala-creativity-gatherings/
CATEGORIES:Meditation - Healing,Women's Health
ATTACH;FMTTYPE=image/png:https://letslearn.nz/wp-content/uploads/2023/05/Sunshine-Hub-1.png
ORGANIZER;CN="The Sunshine Hub":MAILTO:thesunshinehub@protonmail.com
END:VEVENT
END:VCALENDAR