BEGIN:VCALENDAR
VERSION:2.0
PRODID:-//Let&#039;s Learn - ECPv6.15.14//NONSGML v1.0//EN
CALSCALE:GREGORIAN
METHOD:PUBLISH
X-ORIGINAL-URL:https://letslearn.nz
X-WR-CALDESC:Events for Let&#039;s Learn
REFRESH-INTERVAL;VALUE=DURATION:PT1H
X-Robots-Tag:noindex
X-PUBLISHED-TTL:PT1H
BEGIN:VTIMEZONE
TZID:Pacific/Auckland
BEGIN:STANDARD
TZOFFSETFROM:+1300
TZOFFSETTO:+1200
TZNAME:NZST
DTSTART:20250405T140000
END:STANDARD
BEGIN:DAYLIGHT
TZOFFSETFROM:+1200
TZOFFSETTO:+1300
TZNAME:NZDT
DTSTART:20250927T140000
END:DAYLIGHT
BEGIN:STANDARD
TZOFFSETFROM:+1300
TZOFFSETTO:+1200
TZNAME:NZST
DTSTART:20260404T140000
END:STANDARD
BEGIN:DAYLIGHT
TZOFFSETFROM:+1200
TZOFFSETTO:+1300
TZNAME:NZDT
DTSTART:20260926T140000
END:DAYLIGHT
BEGIN:STANDARD
TZOFFSETFROM:+1300
TZOFFSETTO:+1200
TZNAME:NZST
DTSTART:20270403T140000
END:STANDARD
BEGIN:DAYLIGHT
TZOFFSETFROM:+1200
TZOFFSETTO:+1300
TZNAME:NZDT
DTSTART:20270925T140000
END:DAYLIGHT
END:VTIMEZONE
BEGIN:VEVENT
DTSTART;TZID=Pacific/Auckland:20260223T190000
DTEND;TZID=Pacific/Auckland:20260223T210000
DTSTAMP:20260420T144912
CREATED:20240206T180541Z
LAST-MODIFIED:20260218T200831Z
UID:10007766-1771873200-1771880400@letslearn.nz
SUMMARY:Café Scientifique: Warren Banks- Primary Industry Research
DESCRIPTION:Warren and Julia have been involved in Café Scientifique Tauranga for 15 years now and you often ask what we do in our working lives.  Well\, here’s your chance to find out about Warren’s life in science. \nWarren Banks MNZM studied Chemistry and for 50 years has worked in Research and Industry in technical and management roles.  He will share some of his experiences in wool research\, and several Primary industry sectors including\, dairy\, cheese\, fertilizer\, chemicals logistics and timber treatment. \nHe has developed new technologies\, some which have been patented and sold internationally. \nWarren is motivated by the principal of reusing materials for a different purpose.  Taking a waste material from one source to solve another long-standing problem just makes sense.  He’s a kiwi innovator and due to our geographic isolation\, often has to think outside the box to make overseas technologies perform functions they were never intended to do and to find better ways to solve a problem rather than throwing more money at it again makes sense. \nCome along get an insight into a few original developments in Milk clotting enzyme manufacture\, remediation of contaminated ponds\, dairy clean-in-place technology\, remediation of pasture after chemical contamination and biological control of grass grubs. \nWhen: Mon\, 23rd February 2026   7:00 pm – 9:00 pm\nWhere: Tauranga Yacht & Powerboat Club\, 90 Keith Allen Drive\, Tauranga\nTime: Doors open at 6:30pm for a 7pm start.\nCost: $10 door fee covers venue hire and nibbles.  Eftpos available. \n\nRegister by emailing  julia.banks60@gmail.com \nand by including the number attending \n\n\n\nCafé Scientifique Tauranga dates for 2026\n\n\n·        23 February\n·        23 March\n·        20 April\n\n\n·        18 May\n·        22 June\n·        20 July\n\n\n·        17 August\n·        21 September\n·        19 October
URL:https://letslearn.nz/event/cafe-scientifique-2/
LOCATION:Tauranga Yacht & Powerboat Club\, 90 Keith Allen Drive\,Tauranga
CATEGORIES:Café Scientifique,Eco-Friendly
ATTACH;FMTTYPE=image/jpeg:https://letslearn.nz/wp-content/uploads/2024/02/science-cafe-tga-logo-2.jpg
ORGANIZER;CN="Cafe Scientifique Tauranga":MAILTO:julia.banks@saffronconsulting.co.nz
END:VEVENT
END:VCALENDAR