BEGIN:VCALENDAR
VERSION:2.0
PRODID:-//Let&#039;s Learn - ECPv6.15.14//NONSGML v1.0//EN
CALSCALE:GREGORIAN
METHOD:PUBLISH
X-WR-CALNAME:Let&#039;s Learn
X-ORIGINAL-URL:https://letslearn.nz
X-WR-CALDESC:Events for Let&#039;s Learn
REFRESH-INTERVAL;VALUE=DURATION:PT1H
X-Robots-Tag:noindex
X-PUBLISHED-TTL:PT1H
BEGIN:VTIMEZONE
TZID:Pacific/Auckland
BEGIN:STANDARD
TZOFFSETFROM:+1300
TZOFFSETTO:+1200
TZNAME:NZST
DTSTART:20250405T140000
END:STANDARD
BEGIN:DAYLIGHT
TZOFFSETFROM:+1200
TZOFFSETTO:+1300
TZNAME:NZDT
DTSTART:20250927T140000
END:DAYLIGHT
BEGIN:STANDARD
TZOFFSETFROM:+1300
TZOFFSETTO:+1200
TZNAME:NZST
DTSTART:20260404T140000
END:STANDARD
BEGIN:DAYLIGHT
TZOFFSETFROM:+1200
TZOFFSETTO:+1300
TZNAME:NZDT
DTSTART:20260926T140000
END:DAYLIGHT
BEGIN:STANDARD
TZOFFSETFROM:+1300
TZOFFSETTO:+1200
TZNAME:NZST
DTSTART:20270403T140000
END:STANDARD
BEGIN:DAYLIGHT
TZOFFSETFROM:+1200
TZOFFSETTO:+1300
TZNAME:NZDT
DTSTART:20270925T140000
END:DAYLIGHT
END:VTIMEZONE
BEGIN:VEVENT
DTSTART;TZID=Pacific/Auckland:20260106T093000
DTEND;TZID=Pacific/Auckland:20260106T123000
DTSTAMP:20260424T045023
CREATED:20221217T011409Z
LAST-MODIFIED:20240808T232737Z
UID:10019143-1767691800-1767702600@letslearn.nz
SUMMARY:Model Railways
DESCRIPTION:Come down to the Model Railway Club for a look and a play.\nYou’ll find them upstairs on the corner of Cross Road and Mirrelies Road at Sulphur Point. All welcome. \nClub times are:\nTuesday mornings 9.30am to 12.30pm\nThursday evenings 7.15pm to 9.30pm \nEmail: tmrcsecretary@gmail.com\nFacebook: https://www.facebook.com/TaurangaModelRailway/ \n 
URL:https://letslearn.nz/event/model-railways-duplicate-1-2/2026-01-06/
LOCATION:Cnr Cross Rd & Mirrelies Rd\, Sulphur Point\, Tauranga
CATEGORIES:Model vehicles & craft,Radio Controlled Models
ATTACH;FMTTYPE=image/jpeg:https://letslearn.nz/wp-content/uploads/2022/12/Blokes-Model-Trains-2021-1.jpg
ORGANIZER;CN="Tauranga Model Railway Club":MAILTO:tmrcsecretary@gmail.com
END:VEVENT
BEGIN:VEVENT
DTSTART;TZID=Pacific/Auckland:20260113T093000
DTEND;TZID=Pacific/Auckland:20260113T123000
DTSTAMP:20260424T045023
CREATED:20221217T011409Z
LAST-MODIFIED:20240808T232737Z
UID:10019144-1768296600-1768307400@letslearn.nz
SUMMARY:Model Railways
DESCRIPTION:Come down to the Model Railway Club for a look and a play.\nYou’ll find them upstairs on the corner of Cross Road and Mirrelies Road at Sulphur Point. All welcome. \nClub times are:\nTuesday mornings 9.30am to 12.30pm\nThursday evenings 7.15pm to 9.30pm \nEmail: tmrcsecretary@gmail.com\nFacebook: https://www.facebook.com/TaurangaModelRailway/ \n 
URL:https://letslearn.nz/event/model-railways-duplicate-1-2/2026-01-13/
LOCATION:Cnr Cross Rd & Mirrelies Rd\, Sulphur Point\, Tauranga
CATEGORIES:Model vehicles & craft,Radio Controlled Models
ATTACH;FMTTYPE=image/jpeg:https://letslearn.nz/wp-content/uploads/2022/12/Blokes-Model-Trains-2021-1.jpg
ORGANIZER;CN="Tauranga Model Railway Club":MAILTO:tmrcsecretary@gmail.com
END:VEVENT
BEGIN:VEVENT
DTSTART;TZID=Pacific/Auckland:20260117T100000
DTEND;TZID=Pacific/Auckland:20260117T160000
DTSTAMP:20260424T045023
CREATED:20201222T121836Z
LAST-MODIFIED:20260116T122140Z
UID:10037916-1768644000-1768665600@letslearn.nz
SUMMARY:2026 Summer Model Train Show
DESCRIPTION:The Tauranga Model Railway Club will be holding its 34th Model Train Show in January 2026. \nThere will be different layouts covering  NZ\, English\, European and American layouts.\nFor the children there will be a Thomas the Tank Engine layout and free hands-on activities. \nDates: Saturday January 17th &  Sunday January 18 2026.\nTimes: Opening times are 10:00am to 4:00pm both days.\nVenue: Tauranga Boys College (Main entry is off Devonport Road)\nCost: Adults $10\, Children 12 & Under $5 \nFacebook: https://www.facebook.com/TaurangaModelRailway/
URL:https://letslearn.nz/event/2021-summer-model-train-show/2026-01-17/
LOCATION:Tauranga Boys College Gymnasium\, 644 Cameron Rd\, Tauranga
CATEGORIES:Bloke Stuff,Clubs,Model vehicles & craft
ATTACH;FMTTYPE=image/jpeg:https://letslearn.nz/wp-content/uploads/2020/12/Blokes-Model-Trains-2021-1.jpg
ORGANIZER;CN="Tauranga Model Railway Club":MAILTO:tmrcsecretary@gmail.com
END:VEVENT
BEGIN:VEVENT
DTSTART;TZID=Pacific/Auckland:20260118T100000
DTEND;TZID=Pacific/Auckland:20260118T160000
DTSTAMP:20260424T045023
CREATED:20201222T121836Z
LAST-MODIFIED:20260116T122140Z
UID:10037917-1768730400-1768752000@letslearn.nz
SUMMARY:2026 Summer Model Train Show
DESCRIPTION:The Tauranga Model Railway Club will be holding its 34th Model Train Show in January 2026. \nThere will be different layouts covering  NZ\, English\, European and American layouts.\nFor the children there will be a Thomas the Tank Engine layout and free hands-on activities. \nDates: Saturday January 17th &  Sunday January 18 2026.\nTimes: Opening times are 10:00am to 4:00pm both days.\nVenue: Tauranga Boys College (Main entry is off Devonport Road)\nCost: Adults $10\, Children 12 & Under $5 \nFacebook: https://www.facebook.com/TaurangaModelRailway/
URL:https://letslearn.nz/event/2021-summer-model-train-show/2026-01-18/
LOCATION:Tauranga Boys College Gymnasium\, 644 Cameron Rd\, Tauranga
CATEGORIES:Bloke Stuff,Clubs,Model vehicles & craft
ATTACH;FMTTYPE=image/jpeg:https://letslearn.nz/wp-content/uploads/2020/12/Blokes-Model-Trains-2021-1.jpg
ORGANIZER;CN="Tauranga Model Railway Club":MAILTO:tmrcsecretary@gmail.com
END:VEVENT
BEGIN:VEVENT
DTSTART;TZID=Pacific/Auckland:20260120T093000
DTEND;TZID=Pacific/Auckland:20260120T123000
DTSTAMP:20260424T045023
CREATED:20221217T011409Z
LAST-MODIFIED:20240808T232737Z
UID:10019145-1768901400-1768912200@letslearn.nz
SUMMARY:Model Railways
DESCRIPTION:Come down to the Model Railway Club for a look and a play.\nYou’ll find them upstairs on the corner of Cross Road and Mirrelies Road at Sulphur Point. All welcome. \nClub times are:\nTuesday mornings 9.30am to 12.30pm\nThursday evenings 7.15pm to 9.30pm \nEmail: tmrcsecretary@gmail.com\nFacebook: https://www.facebook.com/TaurangaModelRailway/ \n 
URL:https://letslearn.nz/event/model-railways-duplicate-1-2/2026-01-20/
LOCATION:Cnr Cross Rd & Mirrelies Rd\, Sulphur Point\, Tauranga
CATEGORIES:Model vehicles & craft,Radio Controlled Models
ATTACH;FMTTYPE=image/jpeg:https://letslearn.nz/wp-content/uploads/2022/12/Blokes-Model-Trains-2021-1.jpg
ORGANIZER;CN="Tauranga Model Railway Club":MAILTO:tmrcsecretary@gmail.com
END:VEVENT
BEGIN:VEVENT
DTSTART;TZID=Pacific/Auckland:20260127T093000
DTEND;TZID=Pacific/Auckland:20260127T123000
DTSTAMP:20260424T045023
CREATED:20221217T011409Z
LAST-MODIFIED:20240808T232737Z
UID:10019146-1769506200-1769517000@letslearn.nz
SUMMARY:Model Railways
DESCRIPTION:Come down to the Model Railway Club for a look and a play.\nYou’ll find them upstairs on the corner of Cross Road and Mirrelies Road at Sulphur Point. All welcome. \nClub times are:\nTuesday mornings 9.30am to 12.30pm\nThursday evenings 7.15pm to 9.30pm \nEmail: tmrcsecretary@gmail.com\nFacebook: https://www.facebook.com/TaurangaModelRailway/ \n 
URL:https://letslearn.nz/event/model-railways-duplicate-1-2/2026-01-27/
LOCATION:Cnr Cross Rd & Mirrelies Rd\, Sulphur Point\, Tauranga
CATEGORIES:Model vehicles & craft,Radio Controlled Models
ATTACH;FMTTYPE=image/jpeg:https://letslearn.nz/wp-content/uploads/2022/12/Blokes-Model-Trains-2021-1.jpg
ORGANIZER;CN="Tauranga Model Railway Club":MAILTO:tmrcsecretary@gmail.com
END:VEVENT
END:VCALENDAR