BEGIN:VCALENDAR
VERSION:2.0
PRODID:-//Let&#039;s Learn - ECPv6.15.14//NONSGML v1.0//EN
CALSCALE:GREGORIAN
METHOD:PUBLISH
X-ORIGINAL-URL:https://letslearn.nz
X-WR-CALDESC:Events for Let&#039;s Learn
REFRESH-INTERVAL;VALUE=DURATION:PT1H
X-Robots-Tag:noindex
X-PUBLISHED-TTL:PT1H
BEGIN:VTIMEZONE
TZID:Pacific/Auckland
BEGIN:STANDARD
TZOFFSETFROM:+1300
TZOFFSETTO:+1200
TZNAME:NZST
DTSTART:20240406T140000
END:STANDARD
BEGIN:DAYLIGHT
TZOFFSETFROM:+1200
TZOFFSETTO:+1300
TZNAME:NZDT
DTSTART:20240928T140000
END:DAYLIGHT
BEGIN:STANDARD
TZOFFSETFROM:+1300
TZOFFSETTO:+1200
TZNAME:NZST
DTSTART:20250405T140000
END:STANDARD
BEGIN:DAYLIGHT
TZOFFSETFROM:+1200
TZOFFSETTO:+1300
TZNAME:NZDT
DTSTART:20250927T140000
END:DAYLIGHT
BEGIN:STANDARD
TZOFFSETFROM:+1300
TZOFFSETTO:+1200
TZNAME:NZST
DTSTART:20260404T140000
END:STANDARD
BEGIN:DAYLIGHT
TZOFFSETFROM:+1200
TZOFFSETTO:+1300
TZNAME:NZDT
DTSTART:20260926T140000
END:DAYLIGHT
END:VTIMEZONE
BEGIN:VEVENT
DTSTART;TZID=Pacific/Auckland:20251201T190000
DTEND;TZID=Pacific/Auckland:20251201T213000
DTSTAMP:20260415T152453
CREATED:20241120T023641Z
LAST-MODIFIED:20241120T023641Z
UID:10023056-1764615600-1764624600@letslearn.nz
SUMMARY:Harmony a Plenty Barbershop Chorus
DESCRIPTION:Singing in 4 part harmony\n\n\n\n\n\n\nCome and Sing with Us\n\nHave you always wanted to sing in a group but didn’t know where to start? We welcome potential members to come along and watch and listen as we go through our weekly rehearsal. If you already know some of the songs you can even join in! It’s great fun and not too scary\, so why not pay us a visit ? \nYou are welcome to attend our chorus practice. \n\nDay: Monday evenings \nTime: Starting at 19:00 until about 21:30 \nVenue:  Bethlehem Community Church\, 183 Moffat Road\, Bethlehem\, Tauranga \n– enjoy free voice training \n– meet really nice guys who love to sing \n– feel free to come and be part of the harmony \n– you’ll recognize us by our smiles and good humour. \nWe are always looking for men of all ages who love to sing !!
URL:https://letslearn.nz/event/harmony-a-plenty-barbershop-chorus-3/2025-12-01/
LOCATION:Community Church\, 183 Moffat Road in Bethlehem.
CATEGORIES:Singing
ATTACH;FMTTYPE=image/jpeg:https://letslearn.nz/wp-content/uploads/2017/01/Harmony-a-Plenty-Barbershop-Chorus.jpg
ORGANIZER;CN="Harmony a Plenty Barbershop":MAILTO:presidenthap@harmonyaplenty.harmonysite.com
END:VEVENT
BEGIN:VEVENT
DTSTART;TZID=Pacific/Auckland:20251202T190000
DTEND;TZID=Pacific/Auckland:20251202T210000
DTSTAMP:20260415T152453
CREATED:20241120T021344Z
LAST-MODIFIED:20250310T094617Z
UID:10022533-1764702000-1764709200@letslearn.nz
SUMMARY:Inachord Chorus
DESCRIPTION:Do you like to sing in the shower\, entertain a crowd singing with friends or enjoy the challenge of some moves to accompany your singing ? \nThen come and join us.\nWe are a fun loving group of women of all ages\, who enjoy entertaining.  Our musical director is Dan Ireremia. \nWe meet every Tuesday night at 7pm-9pm at the Community Church\, 183 Moffat Road in Bethlehem. \nFor more info: contact Julie\nPhone: 0210 252 6805
URL:https://letslearn.nz/event/inachord-chorus/2025-12-02/
LOCATION:Community Church\, 183 Moffat Road in Bethlehem.
CATEGORIES:Singing
ATTACH;FMTTYPE=image/jpeg:https://letslearn.nz/wp-content/uploads/2019/11/Inachord-Chorus2.jpg
END:VEVENT
BEGIN:VEVENT
DTSTART;TZID=Pacific/Auckland:20251202T190000
DTEND;TZID=Pacific/Auckland:20251202T213000
DTSTAMP:20260415T152453
CREATED:20230211T091136Z
LAST-MODIFIED:20251028T200246Z
UID:10035642-1764702000-1764711000@letslearn.nz
SUMMARY:Tauranga Acoustic Music Club
DESCRIPTION:Tauranga Acoustic Music Club is a group of people who enjoy making music.\nWe grew out of the folk music club tradition: music of the people\, by the people for the people – so pretty much anything goes!\nNewbies are welcomed & encouraged!\nFriendly get-together\, all instruments\, all levels of ability.\n\nBlackboard Concert\nEvery 2nd and 4th Tuesday of the month we have a blackboard concert\, where we set up a PA system\, and  you put your name(s) on the board\, then take it in turns to get up and do a couple of songs. On the other Tuesdays we sit around a table and have a jam session.\n\nWhen:  Tuesdays 7pm\nWhere: Greerton Social Club  1334 Cameron Rd\, Greerton\nContact Brin Dellow for details:\nPhone: 027 485 8267\nEmail: tamusicclub@gmail.com
URL:https://letslearn.nz/event/tauranga-acoustic-music-club-2/2025-12-02/
LOCATION:Greerton Social Club  1334 Cameron Rd\, Greerton
CATEGORIES:Acoustic
ATTACH;FMTTYPE=image/jpeg:https://letslearn.nz/wp-content/uploads/2021/07/Music-Acoustic-Club-1.jpg
ORGANIZER;CN="Tauranga Acoustic Music Club":MAILTO:tamusicclub@gmail.com
END:VEVENT
BEGIN:VEVENT
DTSTART;TZID=Pacific/Auckland:20251204T190000
DTEND;TZID=Pacific/Auckland:20251204T213000
DTSTAMP:20260415T152453
CREATED:20241120T022711Z
LAST-MODIFIED:20241120T023801Z
UID:10022795-1764874800-1764883800@letslearn.nz
SUMMARY:Keynotes Inc - Women’s Barbershop Chorus
DESCRIPTION:Learn to sing four part harmony in Acapella style. \nEnjoy fun and fellowship with an amazing group of ladies. \nKeynotes  Women’s Chorus meets: \nDay:  Thursdays\nTime: 7pm- 9.30pm\nVenue: Wesley Church\, 100 13th Ave\, Tauranga \nFor more info:\nPhone Bernice  576 4848 or 027 442 4642\nEmail: keynotesbarbershop@gmail.com \nSinging brings joy to many people – but did you know that your passion for singing can lead to incredible benefits in your physical\, emotional\, and social health ? \nCome along and join us.
URL:https://letslearn.nz/event/ketnotes-inc-womens-barbershop-chorus/2025-12-04/
LOCATION:Wesley Church\, 100 13th Ave\, Tauranga
CATEGORIES:Singing
ATTACH;FMTTYPE=image/jpeg:https://letslearn.nz/wp-content/uploads/2019/10/Keynotes-Womens-Barbershop.jpg
ORGANIZER;CN="Keynotes":MAILTO:keynotesbarbershop@gmail.com
END:VEVENT
BEGIN:VEVENT
DTSTART;TZID=Pacific/Auckland:20251208T190000
DTEND;TZID=Pacific/Auckland:20251208T213000
DTSTAMP:20260415T152453
CREATED:20241120T023641Z
LAST-MODIFIED:20241120T023641Z
UID:10023057-1765220400-1765229400@letslearn.nz
SUMMARY:Harmony a Plenty Barbershop Chorus
DESCRIPTION:Singing in 4 part harmony\n\n\n\n\n\n\nCome and Sing with Us\n\nHave you always wanted to sing in a group but didn’t know where to start? We welcome potential members to come along and watch and listen as we go through our weekly rehearsal. If you already know some of the songs you can even join in! It’s great fun and not too scary\, so why not pay us a visit ? \nYou are welcome to attend our chorus practice. \n\nDay: Monday evenings \nTime: Starting at 19:00 until about 21:30 \nVenue:  Bethlehem Community Church\, 183 Moffat Road\, Bethlehem\, Tauranga \n– enjoy free voice training \n– meet really nice guys who love to sing \n– feel free to come and be part of the harmony \n– you’ll recognize us by our smiles and good humour. \nWe are always looking for men of all ages who love to sing !!
URL:https://letslearn.nz/event/harmony-a-plenty-barbershop-chorus-3/2025-12-08/
LOCATION:Community Church\, 183 Moffat Road in Bethlehem.
CATEGORIES:Singing
ATTACH;FMTTYPE=image/jpeg:https://letslearn.nz/wp-content/uploads/2017/01/Harmony-a-Plenty-Barbershop-Chorus.jpg
ORGANIZER;CN="Harmony a Plenty Barbershop":MAILTO:presidenthap@harmonyaplenty.harmonysite.com
END:VEVENT
BEGIN:VEVENT
DTSTART;TZID=Pacific/Auckland:20251209T190000
DTEND;TZID=Pacific/Auckland:20251209T210000
DTSTAMP:20260415T152453
CREATED:20241120T021344Z
LAST-MODIFIED:20250310T094617Z
UID:10022534-1765306800-1765314000@letslearn.nz
SUMMARY:Inachord Chorus
DESCRIPTION:Do you like to sing in the shower\, entertain a crowd singing with friends or enjoy the challenge of some moves to accompany your singing ? \nThen come and join us.\nWe are a fun loving group of women of all ages\, who enjoy entertaining.  Our musical director is Dan Ireremia. \nWe meet every Tuesday night at 7pm-9pm at the Community Church\, 183 Moffat Road in Bethlehem. \nFor more info: contact Julie\nPhone: 0210 252 6805
URL:https://letslearn.nz/event/inachord-chorus/2025-12-09/
LOCATION:Community Church\, 183 Moffat Road in Bethlehem.
CATEGORIES:Singing
ATTACH;FMTTYPE=image/jpeg:https://letslearn.nz/wp-content/uploads/2019/11/Inachord-Chorus2.jpg
END:VEVENT
BEGIN:VEVENT
DTSTART;TZID=Pacific/Auckland:20251209T190000
DTEND;TZID=Pacific/Auckland:20251209T213000
DTSTAMP:20260415T152453
CREATED:20230211T091136Z
LAST-MODIFIED:20251028T200246Z
UID:10035643-1765306800-1765315800@letslearn.nz
SUMMARY:Tauranga Acoustic Music Club
DESCRIPTION:Tauranga Acoustic Music Club is a group of people who enjoy making music.\nWe grew out of the folk music club tradition: music of the people\, by the people for the people – so pretty much anything goes!\nNewbies are welcomed & encouraged!\nFriendly get-together\, all instruments\, all levels of ability.\n\nBlackboard Concert\nEvery 2nd and 4th Tuesday of the month we have a blackboard concert\, where we set up a PA system\, and  you put your name(s) on the board\, then take it in turns to get up and do a couple of songs. On the other Tuesdays we sit around a table and have a jam session.\n\nWhen:  Tuesdays 7pm\nWhere: Greerton Social Club  1334 Cameron Rd\, Greerton\nContact Brin Dellow for details:\nPhone: 027 485 8267\nEmail: tamusicclub@gmail.com
URL:https://letslearn.nz/event/tauranga-acoustic-music-club-2/2025-12-09/
LOCATION:Greerton Social Club  1334 Cameron Rd\, Greerton
CATEGORIES:Acoustic
ATTACH;FMTTYPE=image/jpeg:https://letslearn.nz/wp-content/uploads/2021/07/Music-Acoustic-Club-1.jpg
ORGANIZER;CN="Tauranga Acoustic Music Club":MAILTO:tamusicclub@gmail.com
END:VEVENT
BEGIN:VEVENT
DTSTART;TZID=Pacific/Auckland:20251211T190000
DTEND;TZID=Pacific/Auckland:20251211T213000
DTSTAMP:20260415T152453
CREATED:20241120T022711Z
LAST-MODIFIED:20241120T023801Z
UID:10022796-1765479600-1765488600@letslearn.nz
SUMMARY:Keynotes Inc - Women’s Barbershop Chorus
DESCRIPTION:Learn to sing four part harmony in Acapella style. \nEnjoy fun and fellowship with an amazing group of ladies. \nKeynotes  Women’s Chorus meets: \nDay:  Thursdays\nTime: 7pm- 9.30pm\nVenue: Wesley Church\, 100 13th Ave\, Tauranga \nFor more info:\nPhone Bernice  576 4848 or 027 442 4642\nEmail: keynotesbarbershop@gmail.com \nSinging brings joy to many people – but did you know that your passion for singing can lead to incredible benefits in your physical\, emotional\, and social health ? \nCome along and join us.
URL:https://letslearn.nz/event/ketnotes-inc-womens-barbershop-chorus/2025-12-11/
LOCATION:Wesley Church\, 100 13th Ave\, Tauranga
CATEGORIES:Singing
ATTACH;FMTTYPE=image/jpeg:https://letslearn.nz/wp-content/uploads/2019/10/Keynotes-Womens-Barbershop.jpg
ORGANIZER;CN="Keynotes":MAILTO:keynotesbarbershop@gmail.com
END:VEVENT
BEGIN:VEVENT
DTSTART;TZID=Pacific/Auckland:20251215T190000
DTEND;TZID=Pacific/Auckland:20251215T213000
DTSTAMP:20260415T152453
CREATED:20241120T023641Z
LAST-MODIFIED:20241120T023641Z
UID:10023058-1765825200-1765834200@letslearn.nz
SUMMARY:Harmony a Plenty Barbershop Chorus
DESCRIPTION:Singing in 4 part harmony\n\n\n\n\n\n\nCome and Sing with Us\n\nHave you always wanted to sing in a group but didn’t know where to start? We welcome potential members to come along and watch and listen as we go through our weekly rehearsal. If you already know some of the songs you can even join in! It’s great fun and not too scary\, so why not pay us a visit ? \nYou are welcome to attend our chorus practice. \n\nDay: Monday evenings \nTime: Starting at 19:00 until about 21:30 \nVenue:  Bethlehem Community Church\, 183 Moffat Road\, Bethlehem\, Tauranga \n– enjoy free voice training \n– meet really nice guys who love to sing \n– feel free to come and be part of the harmony \n– you’ll recognize us by our smiles and good humour. \nWe are always looking for men of all ages who love to sing !!
URL:https://letslearn.nz/event/harmony-a-plenty-barbershop-chorus-3/2025-12-15/
LOCATION:Community Church\, 183 Moffat Road in Bethlehem.
CATEGORIES:Singing
ATTACH;FMTTYPE=image/jpeg:https://letslearn.nz/wp-content/uploads/2017/01/Harmony-a-Plenty-Barbershop-Chorus.jpg
ORGANIZER;CN="Harmony a Plenty Barbershop":MAILTO:presidenthap@harmonyaplenty.harmonysite.com
END:VEVENT
BEGIN:VEVENT
DTSTART;TZID=Pacific/Auckland:20251216T190000
DTEND;TZID=Pacific/Auckland:20251216T210000
DTSTAMP:20260415T152453
CREATED:20241120T021344Z
LAST-MODIFIED:20250310T094617Z
UID:10022535-1765911600-1765918800@letslearn.nz
SUMMARY:Inachord Chorus
DESCRIPTION:Do you like to sing in the shower\, entertain a crowd singing with friends or enjoy the challenge of some moves to accompany your singing ? \nThen come and join us.\nWe are a fun loving group of women of all ages\, who enjoy entertaining.  Our musical director is Dan Ireremia. \nWe meet every Tuesday night at 7pm-9pm at the Community Church\, 183 Moffat Road in Bethlehem. \nFor more info: contact Julie\nPhone: 0210 252 6805
URL:https://letslearn.nz/event/inachord-chorus/2025-12-16/
LOCATION:Community Church\, 183 Moffat Road in Bethlehem.
CATEGORIES:Singing
ATTACH;FMTTYPE=image/jpeg:https://letslearn.nz/wp-content/uploads/2019/11/Inachord-Chorus2.jpg
END:VEVENT
BEGIN:VEVENT
DTSTART;TZID=Pacific/Auckland:20251216T190000
DTEND;TZID=Pacific/Auckland:20251216T213000
DTSTAMP:20260415T152453
CREATED:20230211T091136Z
LAST-MODIFIED:20251028T200246Z
UID:10035644-1765911600-1765920600@letslearn.nz
SUMMARY:Tauranga Acoustic Music Club
DESCRIPTION:Tauranga Acoustic Music Club is a group of people who enjoy making music.\nWe grew out of the folk music club tradition: music of the people\, by the people for the people – so pretty much anything goes!\nNewbies are welcomed & encouraged!\nFriendly get-together\, all instruments\, all levels of ability.\n\nBlackboard Concert\nEvery 2nd and 4th Tuesday of the month we have a blackboard concert\, where we set up a PA system\, and  you put your name(s) on the board\, then take it in turns to get up and do a couple of songs. On the other Tuesdays we sit around a table and have a jam session.\n\nWhen:  Tuesdays 7pm\nWhere: Greerton Social Club  1334 Cameron Rd\, Greerton\nContact Brin Dellow for details:\nPhone: 027 485 8267\nEmail: tamusicclub@gmail.com
URL:https://letslearn.nz/event/tauranga-acoustic-music-club-2/2025-12-16/
LOCATION:Greerton Social Club  1334 Cameron Rd\, Greerton
CATEGORIES:Acoustic
ATTACH;FMTTYPE=image/jpeg:https://letslearn.nz/wp-content/uploads/2021/07/Music-Acoustic-Club-1.jpg
ORGANIZER;CN="Tauranga Acoustic Music Club":MAILTO:tamusicclub@gmail.com
END:VEVENT
BEGIN:VEVENT
DTSTART;TZID=Pacific/Auckland:20251218T190000
DTEND;TZID=Pacific/Auckland:20251218T213000
DTSTAMP:20260415T152453
CREATED:20241120T022711Z
LAST-MODIFIED:20241120T023801Z
UID:10022797-1766084400-1766093400@letslearn.nz
SUMMARY:Keynotes Inc - Women’s Barbershop Chorus
DESCRIPTION:Learn to sing four part harmony in Acapella style. \nEnjoy fun and fellowship with an amazing group of ladies. \nKeynotes  Women’s Chorus meets: \nDay:  Thursdays\nTime: 7pm- 9.30pm\nVenue: Wesley Church\, 100 13th Ave\, Tauranga \nFor more info:\nPhone Bernice  576 4848 or 027 442 4642\nEmail: keynotesbarbershop@gmail.com \nSinging brings joy to many people – but did you know that your passion for singing can lead to incredible benefits in your physical\, emotional\, and social health ? \nCome along and join us.
URL:https://letslearn.nz/event/ketnotes-inc-womens-barbershop-chorus/2025-12-18/
LOCATION:Wesley Church\, 100 13th Ave\, Tauranga
CATEGORIES:Singing
ATTACH;FMTTYPE=image/jpeg:https://letslearn.nz/wp-content/uploads/2019/10/Keynotes-Womens-Barbershop.jpg
ORGANIZER;CN="Keynotes":MAILTO:keynotesbarbershop@gmail.com
END:VEVENT
BEGIN:VEVENT
DTSTART;TZID=Pacific/Auckland:20251222T190000
DTEND;TZID=Pacific/Auckland:20251222T213000
DTSTAMP:20260415T152453
CREATED:20241120T023641Z
LAST-MODIFIED:20241120T023641Z
UID:10023059-1766430000-1766439000@letslearn.nz
SUMMARY:Harmony a Plenty Barbershop Chorus
DESCRIPTION:Singing in 4 part harmony\n\n\n\n\n\n\nCome and Sing with Us\n\nHave you always wanted to sing in a group but didn’t know where to start? We welcome potential members to come along and watch and listen as we go through our weekly rehearsal. If you already know some of the songs you can even join in! It’s great fun and not too scary\, so why not pay us a visit ? \nYou are welcome to attend our chorus practice. \n\nDay: Monday evenings \nTime: Starting at 19:00 until about 21:30 \nVenue:  Bethlehem Community Church\, 183 Moffat Road\, Bethlehem\, Tauranga \n– enjoy free voice training \n– meet really nice guys who love to sing \n– feel free to come and be part of the harmony \n– you’ll recognize us by our smiles and good humour. \nWe are always looking for men of all ages who love to sing !!
URL:https://letslearn.nz/event/harmony-a-plenty-barbershop-chorus-3/2025-12-22/
LOCATION:Community Church\, 183 Moffat Road in Bethlehem.
CATEGORIES:Singing
ATTACH;FMTTYPE=image/jpeg:https://letslearn.nz/wp-content/uploads/2017/01/Harmony-a-Plenty-Barbershop-Chorus.jpg
ORGANIZER;CN="Harmony a Plenty Barbershop":MAILTO:presidenthap@harmonyaplenty.harmonysite.com
END:VEVENT
BEGIN:VEVENT
DTSTART;TZID=Pacific/Auckland:20251223T190000
DTEND;TZID=Pacific/Auckland:20251223T210000
DTSTAMP:20260415T152453
CREATED:20241120T021344Z
LAST-MODIFIED:20250310T094617Z
UID:10022536-1766516400-1766523600@letslearn.nz
SUMMARY:Inachord Chorus
DESCRIPTION:Do you like to sing in the shower\, entertain a crowd singing with friends or enjoy the challenge of some moves to accompany your singing ? \nThen come and join us.\nWe are a fun loving group of women of all ages\, who enjoy entertaining.  Our musical director is Dan Ireremia. \nWe meet every Tuesday night at 7pm-9pm at the Community Church\, 183 Moffat Road in Bethlehem. \nFor more info: contact Julie\nPhone: 0210 252 6805
URL:https://letslearn.nz/event/inachord-chorus/2025-12-23/
LOCATION:Community Church\, 183 Moffat Road in Bethlehem.
CATEGORIES:Singing
ATTACH;FMTTYPE=image/jpeg:https://letslearn.nz/wp-content/uploads/2019/11/Inachord-Chorus2.jpg
END:VEVENT
BEGIN:VEVENT
DTSTART;TZID=Pacific/Auckland:20251223T190000
DTEND;TZID=Pacific/Auckland:20251223T213000
DTSTAMP:20260415T152453
CREATED:20230211T091136Z
LAST-MODIFIED:20251028T200246Z
UID:10035645-1766516400-1766525400@letslearn.nz
SUMMARY:Tauranga Acoustic Music Club
DESCRIPTION:Tauranga Acoustic Music Club is a group of people who enjoy making music.\nWe grew out of the folk music club tradition: music of the people\, by the people for the people – so pretty much anything goes!\nNewbies are welcomed & encouraged!\nFriendly get-together\, all instruments\, all levels of ability.\n\nBlackboard Concert\nEvery 2nd and 4th Tuesday of the month we have a blackboard concert\, where we set up a PA system\, and  you put your name(s) on the board\, then take it in turns to get up and do a couple of songs. On the other Tuesdays we sit around a table and have a jam session.\n\nWhen:  Tuesdays 7pm\nWhere: Greerton Social Club  1334 Cameron Rd\, Greerton\nContact Brin Dellow for details:\nPhone: 027 485 8267\nEmail: tamusicclub@gmail.com
URL:https://letslearn.nz/event/tauranga-acoustic-music-club-2/2025-12-23/
LOCATION:Greerton Social Club  1334 Cameron Rd\, Greerton
CATEGORIES:Acoustic
ATTACH;FMTTYPE=image/jpeg:https://letslearn.nz/wp-content/uploads/2021/07/Music-Acoustic-Club-1.jpg
ORGANIZER;CN="Tauranga Acoustic Music Club":MAILTO:tamusicclub@gmail.com
END:VEVENT
BEGIN:VEVENT
DTSTART;TZID=Pacific/Auckland:20251225T190000
DTEND;TZID=Pacific/Auckland:20251225T213000
DTSTAMP:20260415T152453
CREATED:20241120T022711Z
LAST-MODIFIED:20241120T023801Z
UID:10022798-1766689200-1766698200@letslearn.nz
SUMMARY:Keynotes Inc - Women’s Barbershop Chorus
DESCRIPTION:Learn to sing four part harmony in Acapella style. \nEnjoy fun and fellowship with an amazing group of ladies. \nKeynotes  Women’s Chorus meets: \nDay:  Thursdays\nTime: 7pm- 9.30pm\nVenue: Wesley Church\, 100 13th Ave\, Tauranga \nFor more info:\nPhone Bernice  576 4848 or 027 442 4642\nEmail: keynotesbarbershop@gmail.com \nSinging brings joy to many people – but did you know that your passion for singing can lead to incredible benefits in your physical\, emotional\, and social health ? \nCome along and join us.
URL:https://letslearn.nz/event/ketnotes-inc-womens-barbershop-chorus/2025-12-25/
LOCATION:Wesley Church\, 100 13th Ave\, Tauranga
CATEGORIES:Singing
ATTACH;FMTTYPE=image/jpeg:https://letslearn.nz/wp-content/uploads/2019/10/Keynotes-Womens-Barbershop.jpg
ORGANIZER;CN="Keynotes":MAILTO:keynotesbarbershop@gmail.com
END:VEVENT
BEGIN:VEVENT
DTSTART;TZID=Pacific/Auckland:20251228T120000
DTEND;TZID=Pacific/Auckland:20251228T150000
DTSTAMP:20260415T152453
CREATED:20230311T051049Z
LAST-MODIFIED:20260206T050335Z
UID:10037031-1766923200-1766934000@letslearn.nz
SUMMARY:Papamoa Country Music Club
DESCRIPTION:A Warm Welcome to All\nA wonderful club full of warm friendly people\, high quality singers and a first rate band.\nThe club meets monthly on the 4th Sunday of the month at the Sports Centre\, Gordon Spratt Domain at 1pm.  Includes afternoon tea. \nWhen: 4th Sunday of the month 12pm – 3pm\nWhere: Sports Centre\, Gordon Spratt Domain\, Parton Rd\, Papamoa\nCost: $5 per adult (includes afternoon tea) \nContact: Mike 0274 597 505 \nFacebook: https://www.facebook.com/Papamoa-Country-Music-Club-Inc-200543270457465/
URL:https://letslearn.nz/event/papamoa-country-music-club-2/2025-12-28/
LOCATION:Pāpāmoa Sport & Rec Centre\, 80 Alice Lane\,  Pāpāmoa\, Spratt Reserve\, Off Parton Rd\, Papamoa
CATEGORIES:Clubs,Country Music,Social
ATTACH;FMTTYPE=image/jpeg:https://letslearn.nz/wp-content/uploads/2019/08/Papamoa-Country-Music-Club-1.jpg
ORGANIZER;CN="Mike Feisst":MAILTO:mikefeisst@xtra.co.nz
END:VEVENT
BEGIN:VEVENT
DTSTART;TZID=Pacific/Auckland:20251229T190000
DTEND;TZID=Pacific/Auckland:20251229T213000
DTSTAMP:20260415T152453
CREATED:20241120T023641Z
LAST-MODIFIED:20241120T023641Z
UID:10023060-1767034800-1767043800@letslearn.nz
SUMMARY:Harmony a Plenty Barbershop Chorus
DESCRIPTION:Singing in 4 part harmony\n\n\n\n\n\n\nCome and Sing with Us\n\nHave you always wanted to sing in a group but didn’t know where to start? We welcome potential members to come along and watch and listen as we go through our weekly rehearsal. If you already know some of the songs you can even join in! It’s great fun and not too scary\, so why not pay us a visit ? \nYou are welcome to attend our chorus practice. \n\nDay: Monday evenings \nTime: Starting at 19:00 until about 21:30 \nVenue:  Bethlehem Community Church\, 183 Moffat Road\, Bethlehem\, Tauranga \n– enjoy free voice training \n– meet really nice guys who love to sing \n– feel free to come and be part of the harmony \n– you’ll recognize us by our smiles and good humour. \nWe are always looking for men of all ages who love to sing !!
URL:https://letslearn.nz/event/harmony-a-plenty-barbershop-chorus-3/2025-12-29/
LOCATION:Community Church\, 183 Moffat Road in Bethlehem.
CATEGORIES:Singing
ATTACH;FMTTYPE=image/jpeg:https://letslearn.nz/wp-content/uploads/2017/01/Harmony-a-Plenty-Barbershop-Chorus.jpg
ORGANIZER;CN="Harmony a Plenty Barbershop":MAILTO:presidenthap@harmonyaplenty.harmonysite.com
END:VEVENT
BEGIN:VEVENT
DTSTART;TZID=Pacific/Auckland:20251230T190000
DTEND;TZID=Pacific/Auckland:20251230T210000
DTSTAMP:20260415T152453
CREATED:20241120T021344Z
LAST-MODIFIED:20250310T094617Z
UID:10022537-1767121200-1767128400@letslearn.nz
SUMMARY:Inachord Chorus
DESCRIPTION:Do you like to sing in the shower\, entertain a crowd singing with friends or enjoy the challenge of some moves to accompany your singing ? \nThen come and join us.\nWe are a fun loving group of women of all ages\, who enjoy entertaining.  Our musical director is Dan Ireremia. \nWe meet every Tuesday night at 7pm-9pm at the Community Church\, 183 Moffat Road in Bethlehem. \nFor more info: contact Julie\nPhone: 0210 252 6805
URL:https://letslearn.nz/event/inachord-chorus/2025-12-30/
LOCATION:Community Church\, 183 Moffat Road in Bethlehem.
CATEGORIES:Singing
ATTACH;FMTTYPE=image/jpeg:https://letslearn.nz/wp-content/uploads/2019/11/Inachord-Chorus2.jpg
END:VEVENT
BEGIN:VEVENT
DTSTART;TZID=Pacific/Auckland:20251230T190000
DTEND;TZID=Pacific/Auckland:20251230T213000
DTSTAMP:20260415T152453
CREATED:20230211T091136Z
LAST-MODIFIED:20251028T200246Z
UID:10035646-1767121200-1767130200@letslearn.nz
SUMMARY:Tauranga Acoustic Music Club
DESCRIPTION:Tauranga Acoustic Music Club is a group of people who enjoy making music.\nWe grew out of the folk music club tradition: music of the people\, by the people for the people – so pretty much anything goes!\nNewbies are welcomed & encouraged!\nFriendly get-together\, all instruments\, all levels of ability.\n\nBlackboard Concert\nEvery 2nd and 4th Tuesday of the month we have a blackboard concert\, where we set up a PA system\, and  you put your name(s) on the board\, then take it in turns to get up and do a couple of songs. On the other Tuesdays we sit around a table and have a jam session.\n\nWhen:  Tuesdays 7pm\nWhere: Greerton Social Club  1334 Cameron Rd\, Greerton\nContact Brin Dellow for details:\nPhone: 027 485 8267\nEmail: tamusicclub@gmail.com
URL:https://letslearn.nz/event/tauranga-acoustic-music-club-2/2025-12-30/
LOCATION:Greerton Social Club  1334 Cameron Rd\, Greerton
CATEGORIES:Acoustic
ATTACH;FMTTYPE=image/jpeg:https://letslearn.nz/wp-content/uploads/2021/07/Music-Acoustic-Club-1.jpg
ORGANIZER;CN="Tauranga Acoustic Music Club":MAILTO:tamusicclub@gmail.com
END:VEVENT
END:VCALENDAR