BEGIN:VCALENDAR
VERSION:2.0
PRODID:-//Let&#039;s Learn - ECPv6.15.14//NONSGML v1.0//EN
CALSCALE:GREGORIAN
METHOD:PUBLISH
X-ORIGINAL-URL:https://letslearn.nz
X-WR-CALDESC:Events for Let&#039;s Learn
REFRESH-INTERVAL;VALUE=DURATION:PT1H
X-Robots-Tag:noindex
X-PUBLISHED-TTL:PT1H
BEGIN:VTIMEZONE
TZID:Pacific/Auckland
BEGIN:STANDARD
TZOFFSETFROM:+1300
TZOFFSETTO:+1200
TZNAME:NZST
DTSTART:20240406T140000
END:STANDARD
BEGIN:DAYLIGHT
TZOFFSETFROM:+1200
TZOFFSETTO:+1300
TZNAME:NZDT
DTSTART:20240928T140000
END:DAYLIGHT
BEGIN:STANDARD
TZOFFSETFROM:+1300
TZOFFSETTO:+1200
TZNAME:NZST
DTSTART:20250405T140000
END:STANDARD
BEGIN:DAYLIGHT
TZOFFSETFROM:+1200
TZOFFSETTO:+1300
TZNAME:NZDT
DTSTART:20250927T140000
END:DAYLIGHT
BEGIN:STANDARD
TZOFFSETFROM:+1300
TZOFFSETTO:+1200
TZNAME:NZST
DTSTART:20260404T140000
END:STANDARD
BEGIN:DAYLIGHT
TZOFFSETFROM:+1200
TZOFFSETTO:+1300
TZNAME:NZDT
DTSTART:20260926T140000
END:DAYLIGHT
END:VTIMEZONE
BEGIN:VEVENT
DTSTART;TZID=Pacific/Auckland:20250804T190000
DTEND;TZID=Pacific/Auckland:20250804T213000
DTSTAMP:20260426T024426
CREATED:20241120T023641Z
LAST-MODIFIED:20241120T023641Z
UID:10023039-1754334000-1754343000@letslearn.nz
SUMMARY:Harmony a Plenty Barbershop Chorus
DESCRIPTION:Singing in 4 part harmony\n\n\n\n\n\n\nCome and Sing with Us\n\nHave you always wanted to sing in a group but didn’t know where to start? We welcome potential members to come along and watch and listen as we go through our weekly rehearsal. If you already know some of the songs you can even join in! It’s great fun and not too scary\, so why not pay us a visit ? \nYou are welcome to attend our chorus practice. \n\nDay: Monday evenings \nTime: Starting at 19:00 until about 21:30 \nVenue:  Bethlehem Community Church\, 183 Moffat Road\, Bethlehem\, Tauranga \n– enjoy free voice training \n– meet really nice guys who love to sing \n– feel free to come and be part of the harmony \n– you’ll recognize us by our smiles and good humour. \nWe are always looking for men of all ages who love to sing !!
URL:https://letslearn.nz/event/harmony-a-plenty-barbershop-chorus-3/2025-08-04/
LOCATION:Community Church\, 183 Moffat Road in Bethlehem.
CATEGORIES:Singing
ATTACH;FMTTYPE=image/jpeg:https://letslearn.nz/wp-content/uploads/2017/01/Harmony-a-Plenty-Barbershop-Chorus.jpg
ORGANIZER;CN="Harmony a Plenty Barbershop":MAILTO:presidenthap@harmonyaplenty.harmonysite.com
END:VEVENT
BEGIN:VEVENT
DTSTART;TZID=Pacific/Auckland:20250805T190000
DTEND;TZID=Pacific/Auckland:20250805T210000
DTSTAMP:20260426T024426
CREATED:20241120T021344Z
LAST-MODIFIED:20250310T094617Z
UID:10022516-1754420400-1754427600@letslearn.nz
SUMMARY:Inachord Chorus
DESCRIPTION:Do you like to sing in the shower\, entertain a crowd singing with friends or enjoy the challenge of some moves to accompany your singing ? \nThen come and join us.\nWe are a fun loving group of women of all ages\, who enjoy entertaining.  Our musical director is Dan Ireremia. \nWe meet every Tuesday night at 7pm-9pm at the Community Church\, 183 Moffat Road in Bethlehem. \nFor more info: contact Julie\nPhone: 0210 252 6805
URL:https://letslearn.nz/event/inachord-chorus/2025-08-05/
LOCATION:Community Church\, 183 Moffat Road in Bethlehem.
CATEGORIES:Singing
ATTACH;FMTTYPE=image/jpeg:https://letslearn.nz/wp-content/uploads/2019/11/Inachord-Chorus2.jpg
END:VEVENT
BEGIN:VEVENT
DTSTART;TZID=Pacific/Auckland:20250807T190000
DTEND;TZID=Pacific/Auckland:20250807T213000
DTSTAMP:20260426T024426
CREATED:20241120T022711Z
LAST-MODIFIED:20241120T023801Z
UID:10022778-1754593200-1754602200@letslearn.nz
SUMMARY:Keynotes Inc - Women’s Barbershop Chorus
DESCRIPTION:Learn to sing four part harmony in Acapella style. \nEnjoy fun and fellowship with an amazing group of ladies. \nKeynotes  Women’s Chorus meets: \nDay:  Thursdays\nTime: 7pm- 9.30pm\nVenue: Wesley Church\, 100 13th Ave\, Tauranga \nFor more info:\nPhone Bernice  576 4848 or 027 442 4642\nEmail: keynotesbarbershop@gmail.com \nSinging brings joy to many people – but did you know that your passion for singing can lead to incredible benefits in your physical\, emotional\, and social health ? \nCome along and join us.
URL:https://letslearn.nz/event/ketnotes-inc-womens-barbershop-chorus/2025-08-07/
LOCATION:Wesley Church\, 100 13th Ave\, Tauranga
CATEGORIES:Singing
ATTACH;FMTTYPE=image/jpeg:https://letslearn.nz/wp-content/uploads/2019/10/Keynotes-Womens-Barbershop.jpg
ORGANIZER;CN="Keynotes":MAILTO:keynotesbarbershop@gmail.com
END:VEVENT
BEGIN:VEVENT
DTSTART;TZID=Pacific/Auckland:20250811T190000
DTEND;TZID=Pacific/Auckland:20250811T213000
DTSTAMP:20260426T024426
CREATED:20241120T023641Z
LAST-MODIFIED:20241120T023641Z
UID:10023040-1754938800-1754947800@letslearn.nz
SUMMARY:Harmony a Plenty Barbershop Chorus
DESCRIPTION:Singing in 4 part harmony\n\n\n\n\n\n\nCome and Sing with Us\n\nHave you always wanted to sing in a group but didn’t know where to start? We welcome potential members to come along and watch and listen as we go through our weekly rehearsal. If you already know some of the songs you can even join in! It’s great fun and not too scary\, so why not pay us a visit ? \nYou are welcome to attend our chorus practice. \n\nDay: Monday evenings \nTime: Starting at 19:00 until about 21:30 \nVenue:  Bethlehem Community Church\, 183 Moffat Road\, Bethlehem\, Tauranga \n– enjoy free voice training \n– meet really nice guys who love to sing \n– feel free to come and be part of the harmony \n– you’ll recognize us by our smiles and good humour. \nWe are always looking for men of all ages who love to sing !!
URL:https://letslearn.nz/event/harmony-a-plenty-barbershop-chorus-3/2025-08-11/
LOCATION:Community Church\, 183 Moffat Road in Bethlehem.
CATEGORIES:Singing
ATTACH;FMTTYPE=image/jpeg:https://letslearn.nz/wp-content/uploads/2017/01/Harmony-a-Plenty-Barbershop-Chorus.jpg
ORGANIZER;CN="Harmony a Plenty Barbershop":MAILTO:presidenthap@harmonyaplenty.harmonysite.com
END:VEVENT
BEGIN:VEVENT
DTSTART;TZID=Pacific/Auckland:20250812T190000
DTEND;TZID=Pacific/Auckland:20250812T210000
DTSTAMP:20260426T024426
CREATED:20241120T021344Z
LAST-MODIFIED:20250310T094617Z
UID:10022517-1755025200-1755032400@letslearn.nz
SUMMARY:Inachord Chorus
DESCRIPTION:Do you like to sing in the shower\, entertain a crowd singing with friends or enjoy the challenge of some moves to accompany your singing ? \nThen come and join us.\nWe are a fun loving group of women of all ages\, who enjoy entertaining.  Our musical director is Dan Ireremia. \nWe meet every Tuesday night at 7pm-9pm at the Community Church\, 183 Moffat Road in Bethlehem. \nFor more info: contact Julie\nPhone: 0210 252 6805
URL:https://letslearn.nz/event/inachord-chorus/2025-08-12/
LOCATION:Community Church\, 183 Moffat Road in Bethlehem.
CATEGORIES:Singing
ATTACH;FMTTYPE=image/jpeg:https://letslearn.nz/wp-content/uploads/2019/11/Inachord-Chorus2.jpg
END:VEVENT
BEGIN:VEVENT
DTSTART;TZID=Pacific/Auckland:20250814T190000
DTEND;TZID=Pacific/Auckland:20250814T213000
DTSTAMP:20260426T024426
CREATED:20241120T022711Z
LAST-MODIFIED:20241120T023801Z
UID:10022779-1755198000-1755207000@letslearn.nz
SUMMARY:Keynotes Inc - Women’s Barbershop Chorus
DESCRIPTION:Learn to sing four part harmony in Acapella style. \nEnjoy fun and fellowship with an amazing group of ladies. \nKeynotes  Women’s Chorus meets: \nDay:  Thursdays\nTime: 7pm- 9.30pm\nVenue: Wesley Church\, 100 13th Ave\, Tauranga \nFor more info:\nPhone Bernice  576 4848 or 027 442 4642\nEmail: keynotesbarbershop@gmail.com \nSinging brings joy to many people – but did you know that your passion for singing can lead to incredible benefits in your physical\, emotional\, and social health ? \nCome along and join us.
URL:https://letslearn.nz/event/ketnotes-inc-womens-barbershop-chorus/2025-08-14/
LOCATION:Wesley Church\, 100 13th Ave\, Tauranga
CATEGORIES:Singing
ATTACH;FMTTYPE=image/jpeg:https://letslearn.nz/wp-content/uploads/2019/10/Keynotes-Womens-Barbershop.jpg
ORGANIZER;CN="Keynotes":MAILTO:keynotesbarbershop@gmail.com
END:VEVENT
BEGIN:VEVENT
DTSTART;TZID=Pacific/Auckland:20250818T190000
DTEND;TZID=Pacific/Auckland:20250818T213000
DTSTAMP:20260426T024426
CREATED:20241120T023641Z
LAST-MODIFIED:20241120T023641Z
UID:10023041-1755543600-1755552600@letslearn.nz
SUMMARY:Harmony a Plenty Barbershop Chorus
DESCRIPTION:Singing in 4 part harmony\n\n\n\n\n\n\nCome and Sing with Us\n\nHave you always wanted to sing in a group but didn’t know where to start? We welcome potential members to come along and watch and listen as we go through our weekly rehearsal. If you already know some of the songs you can even join in! It’s great fun and not too scary\, so why not pay us a visit ? \nYou are welcome to attend our chorus practice. \n\nDay: Monday evenings \nTime: Starting at 19:00 until about 21:30 \nVenue:  Bethlehem Community Church\, 183 Moffat Road\, Bethlehem\, Tauranga \n– enjoy free voice training \n– meet really nice guys who love to sing \n– feel free to come and be part of the harmony \n– you’ll recognize us by our smiles and good humour. \nWe are always looking for men of all ages who love to sing !!
URL:https://letslearn.nz/event/harmony-a-plenty-barbershop-chorus-3/2025-08-18/
LOCATION:Community Church\, 183 Moffat Road in Bethlehem.
CATEGORIES:Singing
ATTACH;FMTTYPE=image/jpeg:https://letslearn.nz/wp-content/uploads/2017/01/Harmony-a-Plenty-Barbershop-Chorus.jpg
ORGANIZER;CN="Harmony a Plenty Barbershop":MAILTO:presidenthap@harmonyaplenty.harmonysite.com
END:VEVENT
BEGIN:VEVENT
DTSTART;TZID=Pacific/Auckland:20250819T190000
DTEND;TZID=Pacific/Auckland:20250819T210000
DTSTAMP:20260426T024426
CREATED:20241120T021344Z
LAST-MODIFIED:20250310T094617Z
UID:10022518-1755630000-1755637200@letslearn.nz
SUMMARY:Inachord Chorus
DESCRIPTION:Do you like to sing in the shower\, entertain a crowd singing with friends or enjoy the challenge of some moves to accompany your singing ? \nThen come and join us.\nWe are a fun loving group of women of all ages\, who enjoy entertaining.  Our musical director is Dan Ireremia. \nWe meet every Tuesday night at 7pm-9pm at the Community Church\, 183 Moffat Road in Bethlehem. \nFor more info: contact Julie\nPhone: 0210 252 6805
URL:https://letslearn.nz/event/inachord-chorus/2025-08-19/
LOCATION:Community Church\, 183 Moffat Road in Bethlehem.
CATEGORIES:Singing
ATTACH;FMTTYPE=image/jpeg:https://letslearn.nz/wp-content/uploads/2019/11/Inachord-Chorus2.jpg
END:VEVENT
BEGIN:VEVENT
DTSTART;TZID=Pacific/Auckland:20250821T190000
DTEND;TZID=Pacific/Auckland:20250821T213000
DTSTAMP:20260426T024426
CREATED:20241120T022711Z
LAST-MODIFIED:20241120T023801Z
UID:10022780-1755802800-1755811800@letslearn.nz
SUMMARY:Keynotes Inc - Women’s Barbershop Chorus
DESCRIPTION:Learn to sing four part harmony in Acapella style. \nEnjoy fun and fellowship with an amazing group of ladies. \nKeynotes  Women’s Chorus meets: \nDay:  Thursdays\nTime: 7pm- 9.30pm\nVenue: Wesley Church\, 100 13th Ave\, Tauranga \nFor more info:\nPhone Bernice  576 4848 or 027 442 4642\nEmail: keynotesbarbershop@gmail.com \nSinging brings joy to many people – but did you know that your passion for singing can lead to incredible benefits in your physical\, emotional\, and social health ? \nCome along and join us.
URL:https://letslearn.nz/event/ketnotes-inc-womens-barbershop-chorus/2025-08-21/
LOCATION:Wesley Church\, 100 13th Ave\, Tauranga
CATEGORIES:Singing
ATTACH;FMTTYPE=image/jpeg:https://letslearn.nz/wp-content/uploads/2019/10/Keynotes-Womens-Barbershop.jpg
ORGANIZER;CN="Keynotes":MAILTO:keynotesbarbershop@gmail.com
END:VEVENT
BEGIN:VEVENT
DTSTART;TZID=Pacific/Auckland:20250825T190000
DTEND;TZID=Pacific/Auckland:20250825T213000
DTSTAMP:20260426T024426
CREATED:20241120T023641Z
LAST-MODIFIED:20241120T023641Z
UID:10023042-1756148400-1756157400@letslearn.nz
SUMMARY:Harmony a Plenty Barbershop Chorus
DESCRIPTION:Singing in 4 part harmony\n\n\n\n\n\n\nCome and Sing with Us\n\nHave you always wanted to sing in a group but didn’t know where to start? We welcome potential members to come along and watch and listen as we go through our weekly rehearsal. If you already know some of the songs you can even join in! It’s great fun and not too scary\, so why not pay us a visit ? \nYou are welcome to attend our chorus practice. \n\nDay: Monday evenings \nTime: Starting at 19:00 until about 21:30 \nVenue:  Bethlehem Community Church\, 183 Moffat Road\, Bethlehem\, Tauranga \n– enjoy free voice training \n– meet really nice guys who love to sing \n– feel free to come and be part of the harmony \n– you’ll recognize us by our smiles and good humour. \nWe are always looking for men of all ages who love to sing !!
URL:https://letslearn.nz/event/harmony-a-plenty-barbershop-chorus-3/2025-08-25/
LOCATION:Community Church\, 183 Moffat Road in Bethlehem.
CATEGORIES:Singing
ATTACH;FMTTYPE=image/jpeg:https://letslearn.nz/wp-content/uploads/2017/01/Harmony-a-Plenty-Barbershop-Chorus.jpg
ORGANIZER;CN="Harmony a Plenty Barbershop":MAILTO:presidenthap@harmonyaplenty.harmonysite.com
END:VEVENT
BEGIN:VEVENT
DTSTART;TZID=Pacific/Auckland:20250826T190000
DTEND;TZID=Pacific/Auckland:20250826T210000
DTSTAMP:20260426T024426
CREATED:20241120T021344Z
LAST-MODIFIED:20250310T094617Z
UID:10022519-1756234800-1756242000@letslearn.nz
SUMMARY:Inachord Chorus
DESCRIPTION:Do you like to sing in the shower\, entertain a crowd singing with friends or enjoy the challenge of some moves to accompany your singing ? \nThen come and join us.\nWe are a fun loving group of women of all ages\, who enjoy entertaining.  Our musical director is Dan Ireremia. \nWe meet every Tuesday night at 7pm-9pm at the Community Church\, 183 Moffat Road in Bethlehem. \nFor more info: contact Julie\nPhone: 0210 252 6805
URL:https://letslearn.nz/event/inachord-chorus/2025-08-26/
LOCATION:Community Church\, 183 Moffat Road in Bethlehem.
CATEGORIES:Singing
ATTACH;FMTTYPE=image/jpeg:https://letslearn.nz/wp-content/uploads/2019/11/Inachord-Chorus2.jpg
END:VEVENT
BEGIN:VEVENT
DTSTART;TZID=Pacific/Auckland:20250828T190000
DTEND;TZID=Pacific/Auckland:20250828T213000
DTSTAMP:20260426T024426
CREATED:20241120T022711Z
LAST-MODIFIED:20241120T023801Z
UID:10022781-1756407600-1756416600@letslearn.nz
SUMMARY:Keynotes Inc - Women’s Barbershop Chorus
DESCRIPTION:Learn to sing four part harmony in Acapella style. \nEnjoy fun and fellowship with an amazing group of ladies. \nKeynotes  Women’s Chorus meets: \nDay:  Thursdays\nTime: 7pm- 9.30pm\nVenue: Wesley Church\, 100 13th Ave\, Tauranga \nFor more info:\nPhone Bernice  576 4848 or 027 442 4642\nEmail: keynotesbarbershop@gmail.com \nSinging brings joy to many people – but did you know that your passion for singing can lead to incredible benefits in your physical\, emotional\, and social health ? \nCome along and join us.
URL:https://letslearn.nz/event/ketnotes-inc-womens-barbershop-chorus/2025-08-28/
LOCATION:Wesley Church\, 100 13th Ave\, Tauranga
CATEGORIES:Singing
ATTACH;FMTTYPE=image/jpeg:https://letslearn.nz/wp-content/uploads/2019/10/Keynotes-Womens-Barbershop.jpg
ORGANIZER;CN="Keynotes":MAILTO:keynotesbarbershop@gmail.com
END:VEVENT
END:VCALENDAR