BEGIN:VCALENDAR
VERSION:2.0
PRODID:-//Let&#039;s Learn - ECPv6.15.14//NONSGML v1.0//EN
CALSCALE:GREGORIAN
METHOD:PUBLISH
X-ORIGINAL-URL:https://letslearn.nz
X-WR-CALDESC:Events for Let&#039;s Learn
REFRESH-INTERVAL;VALUE=DURATION:PT1H
X-Robots-Tag:noindex
X-PUBLISHED-TTL:PT1H
BEGIN:VTIMEZONE
TZID:Pacific/Auckland
BEGIN:STANDARD
TZOFFSETFROM:+1300
TZOFFSETTO:+1200
TZNAME:NZST
DTSTART:20250405T140000
END:STANDARD
BEGIN:DAYLIGHT
TZOFFSETFROM:+1200
TZOFFSETTO:+1300
TZNAME:NZDT
DTSTART:20250927T140000
END:DAYLIGHT
BEGIN:STANDARD
TZOFFSETFROM:+1300
TZOFFSETTO:+1200
TZNAME:NZST
DTSTART:20260404T140000
END:STANDARD
BEGIN:DAYLIGHT
TZOFFSETFROM:+1200
TZOFFSETTO:+1300
TZNAME:NZDT
DTSTART:20260926T140000
END:DAYLIGHT
BEGIN:STANDARD
TZOFFSETFROM:+1300
TZOFFSETTO:+1200
TZNAME:NZST
DTSTART:20270403T140000
END:STANDARD
BEGIN:DAYLIGHT
TZOFFSETFROM:+1200
TZOFFSETTO:+1300
TZNAME:NZDT
DTSTART:20270925T140000
END:DAYLIGHT
END:VTIMEZONE
BEGIN:VEVENT
DTSTART;TZID=Pacific/Auckland:20260901T190000
DTEND;TZID=Pacific/Auckland:20260901T210000
DTSTAMP:20260424T004537
CREATED:20241120T021344Z
LAST-MODIFIED:20250310T094617Z
UID:10022572-1788289200-1788296400@letslearn.nz
SUMMARY:Inachord Chorus
DESCRIPTION:Do you like to sing in the shower\, entertain a crowd singing with friends or enjoy the challenge of some moves to accompany your singing ? \nThen come and join us.\nWe are a fun loving group of women of all ages\, who enjoy entertaining.  Our musical director is Dan Ireremia. \nWe meet every Tuesday night at 7pm-9pm at the Community Church\, 183 Moffat Road in Bethlehem. \nFor more info: contact Julie\nPhone: 0210 252 6805
URL:https://letslearn.nz/event/inachord-chorus/2026-09-01/
LOCATION:Community Church\, 183 Moffat Road in Bethlehem.
CATEGORIES:Singing
ATTACH;FMTTYPE=image/jpeg:https://letslearn.nz/wp-content/uploads/2019/11/Inachord-Chorus2.jpg
END:VEVENT
BEGIN:VEVENT
DTSTART;TZID=Pacific/Auckland:20260903T190000
DTEND;TZID=Pacific/Auckland:20260903T213000
DTSTAMP:20260424T004537
CREATED:20241120T022711Z
LAST-MODIFIED:20241120T023801Z
UID:10022834-1788462000-1788471000@letslearn.nz
SUMMARY:Keynotes Inc - Women’s Barbershop Chorus
DESCRIPTION:Learn to sing four part harmony in Acapella style. \nEnjoy fun and fellowship with an amazing group of ladies. \nKeynotes  Women’s Chorus meets: \nDay:  Thursdays\nTime: 7pm- 9.30pm\nVenue: Wesley Church\, 100 13th Ave\, Tauranga \nFor more info:\nPhone Bernice  576 4848 or 027 442 4642\nEmail: keynotesbarbershop@gmail.com \nSinging brings joy to many people – but did you know that your passion for singing can lead to incredible benefits in your physical\, emotional\, and social health ? \nCome along and join us.
URL:https://letslearn.nz/event/ketnotes-inc-womens-barbershop-chorus/2026-09-03/
LOCATION:Wesley Church\, 100 13th Ave\, Tauranga
CATEGORIES:Singing
ATTACH;FMTTYPE=image/jpeg:https://letslearn.nz/wp-content/uploads/2019/10/Keynotes-Womens-Barbershop.jpg
ORGANIZER;CN="Keynotes":MAILTO:keynotesbarbershop@gmail.com
END:VEVENT
BEGIN:VEVENT
DTSTART;TZID=Pacific/Auckland:20260906T120000
DTEND;TZID=Pacific/Auckland:20260906T170000
DTSTAMP:20260424T004537
CREATED:20260127T205020Z
LAST-MODIFIED:20260127T211609Z
UID:10039801-1788696000-1788714000@letslearn.nz
SUMMARY:U3A Groups 2026
DESCRIPTION:The 2026 U3A handbook is on their website now \nHave a look.  You won’t believe the number of interest groups of all kinds that meet regularly in the wider Tauranga and Katikati area.\nThere are more than 70 ! so too many to individually list here. \nGo to the Handbook. Join U3A and join a group.
URL:https://letslearn.nz/event/u3a-groups-2026/2026-09-06/
CATEGORIES:Arts,Community Groups,Film,Garden,History,Languages,Lifestyles,Music,Outdoor Recreation,Singing,Theatre,Writing
ATTACH;FMTTYPE=image/jpeg:https://letslearn.nz/wp-content/uploads/2016/10/U3A-e1475943433640.jpg
END:VEVENT
BEGIN:VEVENT
DTSTART;TZID=Pacific/Auckland:20260907T190000
DTEND;TZID=Pacific/Auckland:20260907T213000
DTSTAMP:20260424T004537
CREATED:20241120T023641Z
LAST-MODIFIED:20241120T023641Z
UID:10023096-1788807600-1788816600@letslearn.nz
SUMMARY:Harmony a Plenty Barbershop Chorus
DESCRIPTION:Singing in 4 part harmony\n\n\n\n\n\n\nCome and Sing with Us\n\nHave you always wanted to sing in a group but didn’t know where to start? We welcome potential members to come along and watch and listen as we go through our weekly rehearsal. If you already know some of the songs you can even join in! It’s great fun and not too scary\, so why not pay us a visit ? \nYou are welcome to attend our chorus practice. \n\nDay: Monday evenings \nTime: Starting at 19:00 until about 21:30 \nVenue:  Bethlehem Community Church\, 183 Moffat Road\, Bethlehem\, Tauranga \n– enjoy free voice training \n– meet really nice guys who love to sing \n– feel free to come and be part of the harmony \n– you’ll recognize us by our smiles and good humour. \nWe are always looking for men of all ages who love to sing !!
URL:https://letslearn.nz/event/harmony-a-plenty-barbershop-chorus-3/2026-09-07/
LOCATION:Community Church\, 183 Moffat Road in Bethlehem.
CATEGORIES:Singing
ATTACH;FMTTYPE=image/jpeg:https://letslearn.nz/wp-content/uploads/2017/01/Harmony-a-Plenty-Barbershop-Chorus.jpg
ORGANIZER;CN="Harmony a Plenty Barbershop":MAILTO:presidenthap@harmonyaplenty.harmonysite.com
END:VEVENT
BEGIN:VEVENT
DTSTART;TZID=Pacific/Auckland:20260908T190000
DTEND;TZID=Pacific/Auckland:20260908T210000
DTSTAMP:20260424T004537
CREATED:20241120T021344Z
LAST-MODIFIED:20250310T094617Z
UID:10022573-1788894000-1788901200@letslearn.nz
SUMMARY:Inachord Chorus
DESCRIPTION:Do you like to sing in the shower\, entertain a crowd singing with friends or enjoy the challenge of some moves to accompany your singing ? \nThen come and join us.\nWe are a fun loving group of women of all ages\, who enjoy entertaining.  Our musical director is Dan Ireremia. \nWe meet every Tuesday night at 7pm-9pm at the Community Church\, 183 Moffat Road in Bethlehem. \nFor more info: contact Julie\nPhone: 0210 252 6805
URL:https://letslearn.nz/event/inachord-chorus/2026-09-08/
LOCATION:Community Church\, 183 Moffat Road in Bethlehem.
CATEGORIES:Singing
ATTACH;FMTTYPE=image/jpeg:https://letslearn.nz/wp-content/uploads/2019/11/Inachord-Chorus2.jpg
END:VEVENT
BEGIN:VEVENT
DTSTART;TZID=Pacific/Auckland:20260910T190000
DTEND;TZID=Pacific/Auckland:20260910T213000
DTSTAMP:20260424T004537
CREATED:20241120T022711Z
LAST-MODIFIED:20241120T023801Z
UID:10022835-1789066800-1789075800@letslearn.nz
SUMMARY:Keynotes Inc - Women’s Barbershop Chorus
DESCRIPTION:Learn to sing four part harmony in Acapella style. \nEnjoy fun and fellowship with an amazing group of ladies. \nKeynotes  Women’s Chorus meets: \nDay:  Thursdays\nTime: 7pm- 9.30pm\nVenue: Wesley Church\, 100 13th Ave\, Tauranga \nFor more info:\nPhone Bernice  576 4848 or 027 442 4642\nEmail: keynotesbarbershop@gmail.com \nSinging brings joy to many people – but did you know that your passion for singing can lead to incredible benefits in your physical\, emotional\, and social health ? \nCome along and join us.
URL:https://letslearn.nz/event/ketnotes-inc-womens-barbershop-chorus/2026-09-10/
LOCATION:Wesley Church\, 100 13th Ave\, Tauranga
CATEGORIES:Singing
ATTACH;FMTTYPE=image/jpeg:https://letslearn.nz/wp-content/uploads/2019/10/Keynotes-Womens-Barbershop.jpg
ORGANIZER;CN="Keynotes":MAILTO:keynotesbarbershop@gmail.com
END:VEVENT
BEGIN:VEVENT
DTSTART;TZID=Pacific/Auckland:20260913T120000
DTEND;TZID=Pacific/Auckland:20260913T170000
DTSTAMP:20260424T004537
CREATED:20260127T205020Z
LAST-MODIFIED:20260127T211609Z
UID:10039802-1789300800-1789318800@letslearn.nz
SUMMARY:U3A Groups 2026
DESCRIPTION:The 2026 U3A handbook is on their website now \nHave a look.  You won’t believe the number of interest groups of all kinds that meet regularly in the wider Tauranga and Katikati area.\nThere are more than 70 ! so too many to individually list here. \nGo to the Handbook. Join U3A and join a group.
URL:https://letslearn.nz/event/u3a-groups-2026/2026-09-13/
CATEGORIES:Arts,Community Groups,Film,Garden,History,Languages,Lifestyles,Music,Outdoor Recreation,Singing,Theatre,Writing
ATTACH;FMTTYPE=image/jpeg:https://letslearn.nz/wp-content/uploads/2016/10/U3A-e1475943433640.jpg
END:VEVENT
BEGIN:VEVENT
DTSTART;TZID=Pacific/Auckland:20260914T190000
DTEND;TZID=Pacific/Auckland:20260914T213000
DTSTAMP:20260424T004537
CREATED:20241120T023641Z
LAST-MODIFIED:20241120T023641Z
UID:10023097-1789412400-1789421400@letslearn.nz
SUMMARY:Harmony a Plenty Barbershop Chorus
DESCRIPTION:Singing in 4 part harmony\n\n\n\n\n\n\nCome and Sing with Us\n\nHave you always wanted to sing in a group but didn’t know where to start? We welcome potential members to come along and watch and listen as we go through our weekly rehearsal. If you already know some of the songs you can even join in! It’s great fun and not too scary\, so why not pay us a visit ? \nYou are welcome to attend our chorus practice. \n\nDay: Monday evenings \nTime: Starting at 19:00 until about 21:30 \nVenue:  Bethlehem Community Church\, 183 Moffat Road\, Bethlehem\, Tauranga \n– enjoy free voice training \n– meet really nice guys who love to sing \n– feel free to come and be part of the harmony \n– you’ll recognize us by our smiles and good humour. \nWe are always looking for men of all ages who love to sing !!
URL:https://letslearn.nz/event/harmony-a-plenty-barbershop-chorus-3/2026-09-14/
LOCATION:Community Church\, 183 Moffat Road in Bethlehem.
CATEGORIES:Singing
ATTACH;FMTTYPE=image/jpeg:https://letslearn.nz/wp-content/uploads/2017/01/Harmony-a-Plenty-Barbershop-Chorus.jpg
ORGANIZER;CN="Harmony a Plenty Barbershop":MAILTO:presidenthap@harmonyaplenty.harmonysite.com
END:VEVENT
BEGIN:VEVENT
DTSTART;TZID=Pacific/Auckland:20260915T190000
DTEND;TZID=Pacific/Auckland:20260915T210000
DTSTAMP:20260424T004537
CREATED:20241120T021344Z
LAST-MODIFIED:20250310T094617Z
UID:10022574-1789498800-1789506000@letslearn.nz
SUMMARY:Inachord Chorus
DESCRIPTION:Do you like to sing in the shower\, entertain a crowd singing with friends or enjoy the challenge of some moves to accompany your singing ? \nThen come and join us.\nWe are a fun loving group of women of all ages\, who enjoy entertaining.  Our musical director is Dan Ireremia. \nWe meet every Tuesday night at 7pm-9pm at the Community Church\, 183 Moffat Road in Bethlehem. \nFor more info: contact Julie\nPhone: 0210 252 6805
URL:https://letslearn.nz/event/inachord-chorus/2026-09-15/
LOCATION:Community Church\, 183 Moffat Road in Bethlehem.
CATEGORIES:Singing
ATTACH;FMTTYPE=image/jpeg:https://letslearn.nz/wp-content/uploads/2019/11/Inachord-Chorus2.jpg
END:VEVENT
BEGIN:VEVENT
DTSTART;TZID=Pacific/Auckland:20260917T190000
DTEND;TZID=Pacific/Auckland:20260917T213000
DTSTAMP:20260424T004537
CREATED:20241120T022711Z
LAST-MODIFIED:20241120T023801Z
UID:10022836-1789671600-1789680600@letslearn.nz
SUMMARY:Keynotes Inc - Women’s Barbershop Chorus
DESCRIPTION:Learn to sing four part harmony in Acapella style. \nEnjoy fun and fellowship with an amazing group of ladies. \nKeynotes  Women’s Chorus meets: \nDay:  Thursdays\nTime: 7pm- 9.30pm\nVenue: Wesley Church\, 100 13th Ave\, Tauranga \nFor more info:\nPhone Bernice  576 4848 or 027 442 4642\nEmail: keynotesbarbershop@gmail.com \nSinging brings joy to many people – but did you know that your passion for singing can lead to incredible benefits in your physical\, emotional\, and social health ? \nCome along and join us.
URL:https://letslearn.nz/event/ketnotes-inc-womens-barbershop-chorus/2026-09-17/
LOCATION:Wesley Church\, 100 13th Ave\, Tauranga
CATEGORIES:Singing
ATTACH;FMTTYPE=image/jpeg:https://letslearn.nz/wp-content/uploads/2019/10/Keynotes-Womens-Barbershop.jpg
ORGANIZER;CN="Keynotes":MAILTO:keynotesbarbershop@gmail.com
END:VEVENT
BEGIN:VEVENT
DTSTART;TZID=Pacific/Auckland:20260920T120000
DTEND;TZID=Pacific/Auckland:20260920T170000
DTSTAMP:20260424T004537
CREATED:20260127T205020Z
LAST-MODIFIED:20260127T211609Z
UID:10039803-1789905600-1789923600@letslearn.nz
SUMMARY:U3A Groups 2026
DESCRIPTION:The 2026 U3A handbook is on their website now \nHave a look.  You won’t believe the number of interest groups of all kinds that meet regularly in the wider Tauranga and Katikati area.\nThere are more than 70 ! so too many to individually list here. \nGo to the Handbook. Join U3A and join a group.
URL:https://letslearn.nz/event/u3a-groups-2026/2026-09-20/
CATEGORIES:Arts,Community Groups,Film,Garden,History,Languages,Lifestyles,Music,Outdoor Recreation,Singing,Theatre,Writing
ATTACH;FMTTYPE=image/jpeg:https://letslearn.nz/wp-content/uploads/2016/10/U3A-e1475943433640.jpg
END:VEVENT
BEGIN:VEVENT
DTSTART;TZID=Pacific/Auckland:20260921T190000
DTEND;TZID=Pacific/Auckland:20260921T213000
DTSTAMP:20260424T004537
CREATED:20241120T023641Z
LAST-MODIFIED:20241120T023641Z
UID:10023098-1790017200-1790026200@letslearn.nz
SUMMARY:Harmony a Plenty Barbershop Chorus
DESCRIPTION:Singing in 4 part harmony\n\n\n\n\n\n\nCome and Sing with Us\n\nHave you always wanted to sing in a group but didn’t know where to start? We welcome potential members to come along and watch and listen as we go through our weekly rehearsal. If you already know some of the songs you can even join in! It’s great fun and not too scary\, so why not pay us a visit ? \nYou are welcome to attend our chorus practice. \n\nDay: Monday evenings \nTime: Starting at 19:00 until about 21:30 \nVenue:  Bethlehem Community Church\, 183 Moffat Road\, Bethlehem\, Tauranga \n– enjoy free voice training \n– meet really nice guys who love to sing \n– feel free to come and be part of the harmony \n– you’ll recognize us by our smiles and good humour. \nWe are always looking for men of all ages who love to sing !!
URL:https://letslearn.nz/event/harmony-a-plenty-barbershop-chorus-3/2026-09-21/
LOCATION:Community Church\, 183 Moffat Road in Bethlehem.
CATEGORIES:Singing
ATTACH;FMTTYPE=image/jpeg:https://letslearn.nz/wp-content/uploads/2017/01/Harmony-a-Plenty-Barbershop-Chorus.jpg
ORGANIZER;CN="Harmony a Plenty Barbershop":MAILTO:presidenthap@harmonyaplenty.harmonysite.com
END:VEVENT
BEGIN:VEVENT
DTSTART;TZID=Pacific/Auckland:20260922T190000
DTEND;TZID=Pacific/Auckland:20260922T210000
DTSTAMP:20260424T004537
CREATED:20241120T021344Z
LAST-MODIFIED:20250310T094617Z
UID:10022575-1790103600-1790110800@letslearn.nz
SUMMARY:Inachord Chorus
DESCRIPTION:Do you like to sing in the shower\, entertain a crowd singing with friends or enjoy the challenge of some moves to accompany your singing ? \nThen come and join us.\nWe are a fun loving group of women of all ages\, who enjoy entertaining.  Our musical director is Dan Ireremia. \nWe meet every Tuesday night at 7pm-9pm at the Community Church\, 183 Moffat Road in Bethlehem. \nFor more info: contact Julie\nPhone: 0210 252 6805
URL:https://letslearn.nz/event/inachord-chorus/2026-09-22/
LOCATION:Community Church\, 183 Moffat Road in Bethlehem.
CATEGORIES:Singing
ATTACH;FMTTYPE=image/jpeg:https://letslearn.nz/wp-content/uploads/2019/11/Inachord-Chorus2.jpg
END:VEVENT
BEGIN:VEVENT
DTSTART;TZID=Pacific/Auckland:20260924T190000
DTEND;TZID=Pacific/Auckland:20260924T213000
DTSTAMP:20260424T004537
CREATED:20241120T022711Z
LAST-MODIFIED:20241120T023801Z
UID:10022837-1790276400-1790285400@letslearn.nz
SUMMARY:Keynotes Inc - Women’s Barbershop Chorus
DESCRIPTION:Learn to sing four part harmony in Acapella style. \nEnjoy fun and fellowship with an amazing group of ladies. \nKeynotes  Women’s Chorus meets: \nDay:  Thursdays\nTime: 7pm- 9.30pm\nVenue: Wesley Church\, 100 13th Ave\, Tauranga \nFor more info:\nPhone Bernice  576 4848 or 027 442 4642\nEmail: keynotesbarbershop@gmail.com \nSinging brings joy to many people – but did you know that your passion for singing can lead to incredible benefits in your physical\, emotional\, and social health ? \nCome along and join us.
URL:https://letslearn.nz/event/ketnotes-inc-womens-barbershop-chorus/2026-09-24/
LOCATION:Wesley Church\, 100 13th Ave\, Tauranga
CATEGORIES:Singing
ATTACH;FMTTYPE=image/jpeg:https://letslearn.nz/wp-content/uploads/2019/10/Keynotes-Womens-Barbershop.jpg
ORGANIZER;CN="Keynotes":MAILTO:keynotesbarbershop@gmail.com
END:VEVENT
BEGIN:VEVENT
DTSTART;TZID=Pacific/Auckland:20260927T120000
DTEND;TZID=Pacific/Auckland:20260927T170000
DTSTAMP:20260424T004537
CREATED:20260127T205020Z
LAST-MODIFIED:20260127T211609Z
UID:10039804-1790510400-1790528400@letslearn.nz
SUMMARY:U3A Groups 2026
DESCRIPTION:The 2026 U3A handbook is on their website now \nHave a look.  You won’t believe the number of interest groups of all kinds that meet regularly in the wider Tauranga and Katikati area.\nThere are more than 70 ! so too many to individually list here. \nGo to the Handbook. Join U3A and join a group.
URL:https://letslearn.nz/event/u3a-groups-2026/2026-09-27/
CATEGORIES:Arts,Community Groups,Film,Garden,History,Languages,Lifestyles,Music,Outdoor Recreation,Singing,Theatre,Writing
ATTACH;FMTTYPE=image/jpeg:https://letslearn.nz/wp-content/uploads/2016/10/U3A-e1475943433640.jpg
END:VEVENT
BEGIN:VEVENT
DTSTART;TZID=Pacific/Auckland:20260928T190000
DTEND;TZID=Pacific/Auckland:20260928T213000
DTSTAMP:20260424T004537
CREATED:20241120T023641Z
LAST-MODIFIED:20241120T023641Z
UID:10023099-1790622000-1790631000@letslearn.nz
SUMMARY:Harmony a Plenty Barbershop Chorus
DESCRIPTION:Singing in 4 part harmony\n\n\n\n\n\n\nCome and Sing with Us\n\nHave you always wanted to sing in a group but didn’t know where to start? We welcome potential members to come along and watch and listen as we go through our weekly rehearsal. If you already know some of the songs you can even join in! It’s great fun and not too scary\, so why not pay us a visit ? \nYou are welcome to attend our chorus practice. \n\nDay: Monday evenings \nTime: Starting at 19:00 until about 21:30 \nVenue:  Bethlehem Community Church\, 183 Moffat Road\, Bethlehem\, Tauranga \n– enjoy free voice training \n– meet really nice guys who love to sing \n– feel free to come and be part of the harmony \n– you’ll recognize us by our smiles and good humour. \nWe are always looking for men of all ages who love to sing !!
URL:https://letslearn.nz/event/harmony-a-plenty-barbershop-chorus-3/2026-09-28/
LOCATION:Community Church\, 183 Moffat Road in Bethlehem.
CATEGORIES:Singing
ATTACH;FMTTYPE=image/jpeg:https://letslearn.nz/wp-content/uploads/2017/01/Harmony-a-Plenty-Barbershop-Chorus.jpg
ORGANIZER;CN="Harmony a Plenty Barbershop":MAILTO:presidenthap@harmonyaplenty.harmonysite.com
END:VEVENT
BEGIN:VEVENT
DTSTART;TZID=Pacific/Auckland:20260929T190000
DTEND;TZID=Pacific/Auckland:20260929T210000
DTSTAMP:20260424T004537
CREATED:20241120T021344Z
LAST-MODIFIED:20250310T094617Z
UID:10022576-1790708400-1790715600@letslearn.nz
SUMMARY:Inachord Chorus
DESCRIPTION:Do you like to sing in the shower\, entertain a crowd singing with friends or enjoy the challenge of some moves to accompany your singing ? \nThen come and join us.\nWe are a fun loving group of women of all ages\, who enjoy entertaining.  Our musical director is Dan Ireremia. \nWe meet every Tuesday night at 7pm-9pm at the Community Church\, 183 Moffat Road in Bethlehem. \nFor more info: contact Julie\nPhone: 0210 252 6805
URL:https://letslearn.nz/event/inachord-chorus/2026-09-29/
LOCATION:Community Church\, 183 Moffat Road in Bethlehem.
CATEGORIES:Singing
ATTACH;FMTTYPE=image/jpeg:https://letslearn.nz/wp-content/uploads/2019/11/Inachord-Chorus2.jpg
END:VEVENT
END:VCALENDAR