BEGIN:VCALENDAR
VERSION:2.0
PRODID:-//Let&#039;s Learn - ECPv6.15.14//NONSGML v1.0//EN
CALSCALE:GREGORIAN
METHOD:PUBLISH
X-WR-CALNAME:Let&#039;s Learn
X-ORIGINAL-URL:https://letslearn.nz
X-WR-CALDESC:Events for Let&#039;s Learn
REFRESH-INTERVAL;VALUE=DURATION:PT1H
X-Robots-Tag:noindex
X-PUBLISHED-TTL:PT1H
BEGIN:VTIMEZONE
TZID:Pacific/Auckland
BEGIN:STANDARD
TZOFFSETFROM:+1300
TZOFFSETTO:+1200
TZNAME:NZST
DTSTART:20240406T140000
END:STANDARD
BEGIN:DAYLIGHT
TZOFFSETFROM:+1200
TZOFFSETTO:+1300
TZNAME:NZDT
DTSTART:20240928T140000
END:DAYLIGHT
BEGIN:STANDARD
TZOFFSETFROM:+1300
TZOFFSETTO:+1200
TZNAME:NZST
DTSTART:20250405T140000
END:STANDARD
BEGIN:DAYLIGHT
TZOFFSETFROM:+1200
TZOFFSETTO:+1300
TZNAME:NZDT
DTSTART:20250927T140000
END:DAYLIGHT
BEGIN:STANDARD
TZOFFSETFROM:+1300
TZOFFSETTO:+1200
TZNAME:NZST
DTSTART:20260404T140000
END:STANDARD
BEGIN:DAYLIGHT
TZOFFSETFROM:+1200
TZOFFSETTO:+1300
TZNAME:NZDT
DTSTART:20260926T140000
END:DAYLIGHT
END:VTIMEZONE
BEGIN:VEVENT
DTSTART;TZID=Pacific/Auckland:20250804T173000
DTEND;TZID=Pacific/Auckland:20250804T183000
DTSTAMP:20260425T035033
CREATED:20240127T014948Z
LAST-MODIFIED:20240127T014948Z
UID:10015081-1754328600-1754332200@letslearn.nz
SUMMARY:Simple Hatha Yoga Te Puke
DESCRIPTION:Yoga For All\nCome and find your place in our friendly class.\nWhen: Mondays 5.30pm\nWhere: Lyceum Hall\, Te Puke \nContact:\nPhone: 027 726 2358\nEmail:  bekkimonger@gmail.com\nFacebook: https://www.facebook.com/bekkimongerfitness \nWebsite : https://www.bekkimongerfitness.com
URL:https://letslearn.nz/event/simple-hatha-yoga-te-puke/2025-08-04/
LOCATION:Lyceum Club\, 8 Palmer Court\, Te Puke
CATEGORIES:Yoga
ATTACH;FMTTYPE=image/jpeg:https://letslearn.nz/wp-content/uploads/2024/01/Yoga-simple-Te-Puke.jpg
ORGANIZER;CN="Bekki Monger Fitness":MAILTO:bekkimonger@gmail.com
END:VEVENT
BEGIN:VEVENT
DTSTART;TZID=Pacific/Auckland:20250804T190000
DTEND;TZID=Pacific/Auckland:20250804T200000
DTSTAMP:20260425T035033
CREATED:20240126T011502Z
LAST-MODIFIED:20240126T014439Z
UID:10012326-1754334000-1754337600@letslearn.nz
SUMMARY:Mindful Life Yoga Omokoroa Monday
DESCRIPTION:Yoga Classes resume from January 29th!\nSign up for a free trial at Omokoroa or Te Puna\n\n\n\n\nMonday 7:00 pm Omokoroa Pavilion \nWednesday 9:00 am Omokoroa Pavilion \n\n\n\n\nClasses are open to all adults (beginners or experienced)\, whatever their level of physical fitness\, age or gender. \nThe proposed approach is designed to be balanced and adaptable to each individual. \nPlease wear comfortable\, supple clothing. Equipment supplied. \nCosts:\nCasual $20\n10 Pack $150\nQuarter Pass $175\nYearly Pass 450$ \nJust email or text me before. See you on the mat! \nStefan 022 477 3809 \nstefan@mlyoga.co.nz \nwww.mlyoga.co.nz \nwww.facebook.com/mindfullifeyoganz \n \nAlso. class on a Tuesday in Te Puna.
URL:https://letslearn.nz/event/mindful-life-yoga-omokoroa/2025-08-04/
LOCATION:Ōmokoroa Pavillion\, Social Space\, 28 Western Avenue\, Ōmokoroa
CATEGORIES:Yoga
ATTACH;FMTTYPE=image/jpeg:https://letslearn.nz/wp-content/uploads/2024/01/Yoga-Mindful-Life-Stefan-2.jpg
ORGANIZER;CN="Mindful Life Yoga":MAILTO:stefan@mlyoga.co.nz
END:VEVENT
BEGIN:VEVENT
DTSTART;TZID=Pacific/Auckland:20250805T093000
DTEND;TZID=Pacific/Auckland:20250805T103000
DTSTAMP:20260425T035033
CREATED:20250408T131009Z
LAST-MODIFIED:20250408T131031Z
UID:10032743-1754386200-1754389800@letslearn.nz
SUMMARY:Yoga for Seniors
DESCRIPTION:We are a U3A group so are all active seniors. Our tutor has developed a program that is geared for all levels of fitness. Jess does not make judgements around what poses look like but rather encourages us to connect with our physical body through the use of breath and being present. \nDay: Tuesday mornings \nTime: 9.30 am to 10.30 am. \nTutor: Jess MacMillan\, teaching Hatha Yoga \nCo-conveners: Catherine Geeves\, 021 415 660 Jan Morrison\, 027 242 1869 \nVenue: Baden Powell Centre\, 46 Harrisfield Drive\, Hairini \nCost: $7 per session for venue hire & tutor \nThese classes are organized through U3A \nIt is mandatory for attendees to join U3A after trying the class for 3 times\, the cost being $25/year\, plus a once only fee of $10 for a name badge in the first year of joining.\nClick here for more info regarding the wide variety of U3A groups.
URL:https://letslearn.nz/event/yoga-for-seniors/2025-08-05/
LOCATION:Baden Powell Centre\, 46 Harrisfield Drive\, Hairini
CATEGORIES:Ageing Well,Yoga
ATTACH;FMTTYPE=image/jpeg:https://letslearn.nz/wp-content/uploads/2016/12/Yoga-U3A-e1482132942847.jpg
END:VEVENT
BEGIN:VEVENT
DTSTART;TZID=Pacific/Auckland:20250806T090000
DTEND;TZID=Pacific/Auckland:20250806T100000
DTSTAMP:20260425T035033
CREATED:20240126T013920Z
LAST-MODIFIED:20240126T014035Z
UID:10012848-1754470800-1754474400@letslearn.nz
SUMMARY:Mindful Life Yoga Omokoroa Wednesday
DESCRIPTION:Yoga Classes resume from January 29th!\nSign up for a free trial at Omokoroa or Te Puna\n\n\n\n\nMonday 7:00 pm Omokoroa Pavilion \nWednesday 9:00 am Omokoroa Pavilion \n\n\n\n\nClasses are open to all adults (beginners or experienced)\, whatever their level of physical fitness\, age or gender. \nThe proposed approach is designed to be balanced and adaptable to each individual. \nPlease wear comfortable\, supple clothing. Equipment supplied. \nCosts:\nCasual $20\n10 Pack $150\nQuarter Pass $175\nYearly Pass 450$ \nJust email or text me before. See you on the mat! \nStefan 022 477 3809 \nstefan@mlyoga.co.nz \nwww.mlyoga.co.nz \nwww.facebook.com/mindfullifeyoganz \n \nAlso. class on a Tuesday in Te Puna.
URL:https://letslearn.nz/event/mindful-life-yoga-omokoroa-2/2025-08-06/
LOCATION:Ōmokoroa Pavillion\, Social Space\, 28 Western Avenue\, Ōmokoroa
CATEGORIES:Yoga
ATTACH;FMTTYPE=image/jpeg:https://letslearn.nz/wp-content/uploads/2024/01/Yoga-Mindful-Life-Stefan-2.jpg
ORGANIZER;CN="Mindful Life Yoga":MAILTO:stefan@mlyoga.co.nz
END:VEVENT
BEGIN:VEVENT
DTSTART;TZID=Pacific/Auckland:20250811T173000
DTEND;TZID=Pacific/Auckland:20250811T183000
DTSTAMP:20260425T035033
CREATED:20240127T014948Z
LAST-MODIFIED:20240127T014948Z
UID:10015082-1754933400-1754937000@letslearn.nz
SUMMARY:Simple Hatha Yoga Te Puke
DESCRIPTION:Yoga For All\nCome and find your place in our friendly class.\nWhen: Mondays 5.30pm\nWhere: Lyceum Hall\, Te Puke \nContact:\nPhone: 027 726 2358\nEmail:  bekkimonger@gmail.com\nFacebook: https://www.facebook.com/bekkimongerfitness \nWebsite : https://www.bekkimongerfitness.com
URL:https://letslearn.nz/event/simple-hatha-yoga-te-puke/2025-08-11/
LOCATION:Lyceum Club\, 8 Palmer Court\, Te Puke
CATEGORIES:Yoga
ATTACH;FMTTYPE=image/jpeg:https://letslearn.nz/wp-content/uploads/2024/01/Yoga-simple-Te-Puke.jpg
ORGANIZER;CN="Bekki Monger Fitness":MAILTO:bekkimonger@gmail.com
END:VEVENT
BEGIN:VEVENT
DTSTART;TZID=Pacific/Auckland:20250811T190000
DTEND;TZID=Pacific/Auckland:20250811T200000
DTSTAMP:20260425T035033
CREATED:20240126T011502Z
LAST-MODIFIED:20240126T014439Z
UID:10012327-1754938800-1754942400@letslearn.nz
SUMMARY:Mindful Life Yoga Omokoroa Monday
DESCRIPTION:Yoga Classes resume from January 29th!\nSign up for a free trial at Omokoroa or Te Puna\n\n\n\n\nMonday 7:00 pm Omokoroa Pavilion \nWednesday 9:00 am Omokoroa Pavilion \n\n\n\n\nClasses are open to all adults (beginners or experienced)\, whatever their level of physical fitness\, age or gender. \nThe proposed approach is designed to be balanced and adaptable to each individual. \nPlease wear comfortable\, supple clothing. Equipment supplied. \nCosts:\nCasual $20\n10 Pack $150\nQuarter Pass $175\nYearly Pass 450$ \nJust email or text me before. See you on the mat! \nStefan 022 477 3809 \nstefan@mlyoga.co.nz \nwww.mlyoga.co.nz \nwww.facebook.com/mindfullifeyoganz \n \nAlso. class on a Tuesday in Te Puna.
URL:https://letslearn.nz/event/mindful-life-yoga-omokoroa/2025-08-11/
LOCATION:Ōmokoroa Pavillion\, Social Space\, 28 Western Avenue\, Ōmokoroa
CATEGORIES:Yoga
ATTACH;FMTTYPE=image/jpeg:https://letslearn.nz/wp-content/uploads/2024/01/Yoga-Mindful-Life-Stefan-2.jpg
ORGANIZER;CN="Mindful Life Yoga":MAILTO:stefan@mlyoga.co.nz
END:VEVENT
BEGIN:VEVENT
DTSTART;TZID=Pacific/Auckland:20250812T093000
DTEND;TZID=Pacific/Auckland:20250812T103000
DTSTAMP:20260425T035033
CREATED:20250408T131009Z
LAST-MODIFIED:20250408T131031Z
UID:10032744-1754991000-1754994600@letslearn.nz
SUMMARY:Yoga for Seniors
DESCRIPTION:We are a U3A group so are all active seniors. Our tutor has developed a program that is geared for all levels of fitness. Jess does not make judgements around what poses look like but rather encourages us to connect with our physical body through the use of breath and being present. \nDay: Tuesday mornings \nTime: 9.30 am to 10.30 am. \nTutor: Jess MacMillan\, teaching Hatha Yoga \nCo-conveners: Catherine Geeves\, 021 415 660 Jan Morrison\, 027 242 1869 \nVenue: Baden Powell Centre\, 46 Harrisfield Drive\, Hairini \nCost: $7 per session for venue hire & tutor \nThese classes are organized through U3A \nIt is mandatory for attendees to join U3A after trying the class for 3 times\, the cost being $25/year\, plus a once only fee of $10 for a name badge in the first year of joining.\nClick here for more info regarding the wide variety of U3A groups.
URL:https://letslearn.nz/event/yoga-for-seniors/2025-08-12/
LOCATION:Baden Powell Centre\, 46 Harrisfield Drive\, Hairini
CATEGORIES:Ageing Well,Yoga
ATTACH;FMTTYPE=image/jpeg:https://letslearn.nz/wp-content/uploads/2016/12/Yoga-U3A-e1482132942847.jpg
END:VEVENT
BEGIN:VEVENT
DTSTART;TZID=Pacific/Auckland:20250813T090000
DTEND;TZID=Pacific/Auckland:20250813T100000
DTSTAMP:20260425T035033
CREATED:20240126T013920Z
LAST-MODIFIED:20240126T014035Z
UID:10012849-1755075600-1755079200@letslearn.nz
SUMMARY:Mindful Life Yoga Omokoroa Wednesday
DESCRIPTION:Yoga Classes resume from January 29th!\nSign up for a free trial at Omokoroa or Te Puna\n\n\n\n\nMonday 7:00 pm Omokoroa Pavilion \nWednesday 9:00 am Omokoroa Pavilion \n\n\n\n\nClasses are open to all adults (beginners or experienced)\, whatever their level of physical fitness\, age or gender. \nThe proposed approach is designed to be balanced and adaptable to each individual. \nPlease wear comfortable\, supple clothing. Equipment supplied. \nCosts:\nCasual $20\n10 Pack $150\nQuarter Pass $175\nYearly Pass 450$ \nJust email or text me before. See you on the mat! \nStefan 022 477 3809 \nstefan@mlyoga.co.nz \nwww.mlyoga.co.nz \nwww.facebook.com/mindfullifeyoganz \n \nAlso. class on a Tuesday in Te Puna.
URL:https://letslearn.nz/event/mindful-life-yoga-omokoroa-2/2025-08-13/
LOCATION:Ōmokoroa Pavillion\, Social Space\, 28 Western Avenue\, Ōmokoroa
CATEGORIES:Yoga
ATTACH;FMTTYPE=image/jpeg:https://letslearn.nz/wp-content/uploads/2024/01/Yoga-Mindful-Life-Stefan-2.jpg
ORGANIZER;CN="Mindful Life Yoga":MAILTO:stefan@mlyoga.co.nz
END:VEVENT
BEGIN:VEVENT
DTSTART;TZID=Pacific/Auckland:20250818T173000
DTEND;TZID=Pacific/Auckland:20250818T183000
DTSTAMP:20260425T035033
CREATED:20240127T014948Z
LAST-MODIFIED:20240127T014948Z
UID:10015083-1755538200-1755541800@letslearn.nz
SUMMARY:Simple Hatha Yoga Te Puke
DESCRIPTION:Yoga For All\nCome and find your place in our friendly class.\nWhen: Mondays 5.30pm\nWhere: Lyceum Hall\, Te Puke \nContact:\nPhone: 027 726 2358\nEmail:  bekkimonger@gmail.com\nFacebook: https://www.facebook.com/bekkimongerfitness \nWebsite : https://www.bekkimongerfitness.com
URL:https://letslearn.nz/event/simple-hatha-yoga-te-puke/2025-08-18/
LOCATION:Lyceum Club\, 8 Palmer Court\, Te Puke
CATEGORIES:Yoga
ATTACH;FMTTYPE=image/jpeg:https://letslearn.nz/wp-content/uploads/2024/01/Yoga-simple-Te-Puke.jpg
ORGANIZER;CN="Bekki Monger Fitness":MAILTO:bekkimonger@gmail.com
END:VEVENT
BEGIN:VEVENT
DTSTART;TZID=Pacific/Auckland:20250818T190000
DTEND;TZID=Pacific/Auckland:20250818T200000
DTSTAMP:20260425T035033
CREATED:20240126T011502Z
LAST-MODIFIED:20240126T014439Z
UID:10012328-1755543600-1755547200@letslearn.nz
SUMMARY:Mindful Life Yoga Omokoroa Monday
DESCRIPTION:Yoga Classes resume from January 29th!\nSign up for a free trial at Omokoroa or Te Puna\n\n\n\n\nMonday 7:00 pm Omokoroa Pavilion \nWednesday 9:00 am Omokoroa Pavilion \n\n\n\n\nClasses are open to all adults (beginners or experienced)\, whatever their level of physical fitness\, age or gender. \nThe proposed approach is designed to be balanced and adaptable to each individual. \nPlease wear comfortable\, supple clothing. Equipment supplied. \nCosts:\nCasual $20\n10 Pack $150\nQuarter Pass $175\nYearly Pass 450$ \nJust email or text me before. See you on the mat! \nStefan 022 477 3809 \nstefan@mlyoga.co.nz \nwww.mlyoga.co.nz \nwww.facebook.com/mindfullifeyoganz \n \nAlso. class on a Tuesday in Te Puna.
URL:https://letslearn.nz/event/mindful-life-yoga-omokoroa/2025-08-18/
LOCATION:Ōmokoroa Pavillion\, Social Space\, 28 Western Avenue\, Ōmokoroa
CATEGORIES:Yoga
ATTACH;FMTTYPE=image/jpeg:https://letslearn.nz/wp-content/uploads/2024/01/Yoga-Mindful-Life-Stefan-2.jpg
ORGANIZER;CN="Mindful Life Yoga":MAILTO:stefan@mlyoga.co.nz
END:VEVENT
BEGIN:VEVENT
DTSTART;TZID=Pacific/Auckland:20250819T093000
DTEND;TZID=Pacific/Auckland:20250819T103000
DTSTAMP:20260425T035033
CREATED:20250408T131009Z
LAST-MODIFIED:20250408T131031Z
UID:10032745-1755595800-1755599400@letslearn.nz
SUMMARY:Yoga for Seniors
DESCRIPTION:We are a U3A group so are all active seniors. Our tutor has developed a program that is geared for all levels of fitness. Jess does not make judgements around what poses look like but rather encourages us to connect with our physical body through the use of breath and being present. \nDay: Tuesday mornings \nTime: 9.30 am to 10.30 am. \nTutor: Jess MacMillan\, teaching Hatha Yoga \nCo-conveners: Catherine Geeves\, 021 415 660 Jan Morrison\, 027 242 1869 \nVenue: Baden Powell Centre\, 46 Harrisfield Drive\, Hairini \nCost: $7 per session for venue hire & tutor \nThese classes are organized through U3A \nIt is mandatory for attendees to join U3A after trying the class for 3 times\, the cost being $25/year\, plus a once only fee of $10 for a name badge in the first year of joining.\nClick here for more info regarding the wide variety of U3A groups.
URL:https://letslearn.nz/event/yoga-for-seniors/2025-08-19/
LOCATION:Baden Powell Centre\, 46 Harrisfield Drive\, Hairini
CATEGORIES:Ageing Well,Yoga
ATTACH;FMTTYPE=image/jpeg:https://letslearn.nz/wp-content/uploads/2016/12/Yoga-U3A-e1482132942847.jpg
END:VEVENT
BEGIN:VEVENT
DTSTART;TZID=Pacific/Auckland:20250820T090000
DTEND;TZID=Pacific/Auckland:20250820T100000
DTSTAMP:20260425T035033
CREATED:20240126T013920Z
LAST-MODIFIED:20240126T014035Z
UID:10012850-1755680400-1755684000@letslearn.nz
SUMMARY:Mindful Life Yoga Omokoroa Wednesday
DESCRIPTION:Yoga Classes resume from January 29th!\nSign up for a free trial at Omokoroa or Te Puna\n\n\n\n\nMonday 7:00 pm Omokoroa Pavilion \nWednesday 9:00 am Omokoroa Pavilion \n\n\n\n\nClasses are open to all adults (beginners or experienced)\, whatever their level of physical fitness\, age or gender. \nThe proposed approach is designed to be balanced and adaptable to each individual. \nPlease wear comfortable\, supple clothing. Equipment supplied. \nCosts:\nCasual $20\n10 Pack $150\nQuarter Pass $175\nYearly Pass 450$ \nJust email or text me before. See you on the mat! \nStefan 022 477 3809 \nstefan@mlyoga.co.nz \nwww.mlyoga.co.nz \nwww.facebook.com/mindfullifeyoganz \n \nAlso. class on a Tuesday in Te Puna.
URL:https://letslearn.nz/event/mindful-life-yoga-omokoroa-2/2025-08-20/
LOCATION:Ōmokoroa Pavillion\, Social Space\, 28 Western Avenue\, Ōmokoroa
CATEGORIES:Yoga
ATTACH;FMTTYPE=image/jpeg:https://letslearn.nz/wp-content/uploads/2024/01/Yoga-Mindful-Life-Stefan-2.jpg
ORGANIZER;CN="Mindful Life Yoga":MAILTO:stefan@mlyoga.co.nz
END:VEVENT
BEGIN:VEVENT
DTSTART;TZID=Pacific/Auckland:20250825T173000
DTEND;TZID=Pacific/Auckland:20250825T183000
DTSTAMP:20260425T035033
CREATED:20240127T014948Z
LAST-MODIFIED:20240127T014948Z
UID:10015084-1756143000-1756146600@letslearn.nz
SUMMARY:Simple Hatha Yoga Te Puke
DESCRIPTION:Yoga For All\nCome and find your place in our friendly class.\nWhen: Mondays 5.30pm\nWhere: Lyceum Hall\, Te Puke \nContact:\nPhone: 027 726 2358\nEmail:  bekkimonger@gmail.com\nFacebook: https://www.facebook.com/bekkimongerfitness \nWebsite : https://www.bekkimongerfitness.com
URL:https://letslearn.nz/event/simple-hatha-yoga-te-puke/2025-08-25/
LOCATION:Lyceum Club\, 8 Palmer Court\, Te Puke
CATEGORIES:Yoga
ATTACH;FMTTYPE=image/jpeg:https://letslearn.nz/wp-content/uploads/2024/01/Yoga-simple-Te-Puke.jpg
ORGANIZER;CN="Bekki Monger Fitness":MAILTO:bekkimonger@gmail.com
END:VEVENT
BEGIN:VEVENT
DTSTART;TZID=Pacific/Auckland:20250825T190000
DTEND;TZID=Pacific/Auckland:20250825T200000
DTSTAMP:20260425T035033
CREATED:20240126T011502Z
LAST-MODIFIED:20240126T014439Z
UID:10012329-1756148400-1756152000@letslearn.nz
SUMMARY:Mindful Life Yoga Omokoroa Monday
DESCRIPTION:Yoga Classes resume from January 29th!\nSign up for a free trial at Omokoroa or Te Puna\n\n\n\n\nMonday 7:00 pm Omokoroa Pavilion \nWednesday 9:00 am Omokoroa Pavilion \n\n\n\n\nClasses are open to all adults (beginners or experienced)\, whatever their level of physical fitness\, age or gender. \nThe proposed approach is designed to be balanced and adaptable to each individual. \nPlease wear comfortable\, supple clothing. Equipment supplied. \nCosts:\nCasual $20\n10 Pack $150\nQuarter Pass $175\nYearly Pass 450$ \nJust email or text me before. See you on the mat! \nStefan 022 477 3809 \nstefan@mlyoga.co.nz \nwww.mlyoga.co.nz \nwww.facebook.com/mindfullifeyoganz \n \nAlso. class on a Tuesday in Te Puna.
URL:https://letslearn.nz/event/mindful-life-yoga-omokoroa/2025-08-25/
LOCATION:Ōmokoroa Pavillion\, Social Space\, 28 Western Avenue\, Ōmokoroa
CATEGORIES:Yoga
ATTACH;FMTTYPE=image/jpeg:https://letslearn.nz/wp-content/uploads/2024/01/Yoga-Mindful-Life-Stefan-2.jpg
ORGANIZER;CN="Mindful Life Yoga":MAILTO:stefan@mlyoga.co.nz
END:VEVENT
BEGIN:VEVENT
DTSTART;TZID=Pacific/Auckland:20250826T093000
DTEND;TZID=Pacific/Auckland:20250826T103000
DTSTAMP:20260425T035033
CREATED:20250408T131009Z
LAST-MODIFIED:20250408T131031Z
UID:10032746-1756200600-1756204200@letslearn.nz
SUMMARY:Yoga for Seniors
DESCRIPTION:We are a U3A group so are all active seniors. Our tutor has developed a program that is geared for all levels of fitness. Jess does not make judgements around what poses look like but rather encourages us to connect with our physical body through the use of breath and being present. \nDay: Tuesday mornings \nTime: 9.30 am to 10.30 am. \nTutor: Jess MacMillan\, teaching Hatha Yoga \nCo-conveners: Catherine Geeves\, 021 415 660 Jan Morrison\, 027 242 1869 \nVenue: Baden Powell Centre\, 46 Harrisfield Drive\, Hairini \nCost: $7 per session for venue hire & tutor \nThese classes are organized through U3A \nIt is mandatory for attendees to join U3A after trying the class for 3 times\, the cost being $25/year\, plus a once only fee of $10 for a name badge in the first year of joining.\nClick here for more info regarding the wide variety of U3A groups.
URL:https://letslearn.nz/event/yoga-for-seniors/2025-08-26/
LOCATION:Baden Powell Centre\, 46 Harrisfield Drive\, Hairini
CATEGORIES:Ageing Well,Yoga
ATTACH;FMTTYPE=image/jpeg:https://letslearn.nz/wp-content/uploads/2016/12/Yoga-U3A-e1482132942847.jpg
END:VEVENT
BEGIN:VEVENT
DTSTART;TZID=Pacific/Auckland:20250827T090000
DTEND;TZID=Pacific/Auckland:20250827T100000
DTSTAMP:20260425T035033
CREATED:20240126T013920Z
LAST-MODIFIED:20240126T014035Z
UID:10012851-1756285200-1756288800@letslearn.nz
SUMMARY:Mindful Life Yoga Omokoroa Wednesday
DESCRIPTION:Yoga Classes resume from January 29th!\nSign up for a free trial at Omokoroa or Te Puna\n\n\n\n\nMonday 7:00 pm Omokoroa Pavilion \nWednesday 9:00 am Omokoroa Pavilion \n\n\n\n\nClasses are open to all adults (beginners or experienced)\, whatever their level of physical fitness\, age or gender. \nThe proposed approach is designed to be balanced and adaptable to each individual. \nPlease wear comfortable\, supple clothing. Equipment supplied. \nCosts:\nCasual $20\n10 Pack $150\nQuarter Pass $175\nYearly Pass 450$ \nJust email or text me before. See you on the mat! \nStefan 022 477 3809 \nstefan@mlyoga.co.nz \nwww.mlyoga.co.nz \nwww.facebook.com/mindfullifeyoganz \n \nAlso. class on a Tuesday in Te Puna.
URL:https://letslearn.nz/event/mindful-life-yoga-omokoroa-2/2025-08-27/
LOCATION:Ōmokoroa Pavillion\, Social Space\, 28 Western Avenue\, Ōmokoroa
CATEGORIES:Yoga
ATTACH;FMTTYPE=image/jpeg:https://letslearn.nz/wp-content/uploads/2024/01/Yoga-Mindful-Life-Stefan-2.jpg
ORGANIZER;CN="Mindful Life Yoga":MAILTO:stefan@mlyoga.co.nz
END:VEVENT
END:VCALENDAR