BEGIN:VCALENDAR
VERSION:2.0
PRODID:-//Let&#039;s Learn - ECPv6.15.14//NONSGML v1.0//EN
CALSCALE:GREGORIAN
METHOD:PUBLISH
X-WR-CALNAME:Let&#039;s Learn
X-ORIGINAL-URL:https://letslearn.nz
X-WR-CALDESC:Events for Let&#039;s Learn
REFRESH-INTERVAL;VALUE=DURATION:PT1H
X-Robots-Tag:noindex
X-PUBLISHED-TTL:PT1H
BEGIN:VTIMEZONE
TZID:Pacific/Auckland
BEGIN:STANDARD
TZOFFSETFROM:+1300
TZOFFSETTO:+1200
TZNAME:NZST
DTSTART:20250405T140000
END:STANDARD
BEGIN:DAYLIGHT
TZOFFSETFROM:+1200
TZOFFSETTO:+1300
TZNAME:NZDT
DTSTART:20250927T140000
END:DAYLIGHT
BEGIN:STANDARD
TZOFFSETFROM:+1300
TZOFFSETTO:+1200
TZNAME:NZST
DTSTART:20260404T140000
END:STANDARD
BEGIN:DAYLIGHT
TZOFFSETFROM:+1200
TZOFFSETTO:+1300
TZNAME:NZDT
DTSTART:20260926T140000
END:DAYLIGHT
BEGIN:STANDARD
TZOFFSETFROM:+1300
TZOFFSETTO:+1200
TZNAME:NZST
DTSTART:20270403T140000
END:STANDARD
BEGIN:DAYLIGHT
TZOFFSETFROM:+1200
TZOFFSETTO:+1300
TZNAME:NZDT
DTSTART:20270925T140000
END:DAYLIGHT
BEGIN:STANDARD
TZOFFSETFROM:+1300
TZOFFSETTO:+1200
TZNAME:NZST
DTSTART:20280401T140000
END:STANDARD
BEGIN:DAYLIGHT
TZOFFSETFROM:+1200
TZOFFSETTO:+1300
TZNAME:NZDT
DTSTART:20280923T140000
END:DAYLIGHT
BEGIN:STANDARD
TZOFFSETFROM:+1300
TZOFFSETTO:+1200
TZNAME:NZST
DTSTART:20290331T140000
END:STANDARD
BEGIN:DAYLIGHT
TZOFFSETFROM:+1200
TZOFFSETTO:+1300
TZNAME:NZDT
DTSTART:20290929T140000
END:DAYLIGHT
END:VTIMEZONE
BEGIN:VEVENT
DTSTART;TZID=Pacific/Auckland:20260506T193000
DTEND;TZID=Pacific/Auckland:20260506T210000
DTSTAMP:20260424T193749
CREATED:20200225T193224Z
LAST-MODIFIED:20240210T044316Z
UID:10017421-1778095800-1778101200@letslearn.nz
SUMMARY:Tauranga Numismatic Society Club
DESCRIPTION:Interested in coins\, banknotes\, medallions ? \nThe club meets monthly on the first Wednesday of the month. \nPlace: Wesley Church\, 100 13th Ave\nTime: 7.30pm -9pm \nAll ages welcome. \nPhone: Sean 027 634 7417
URL:https://letslearn.nz/event/tauranga-numismatic-society-club/2026-05-06/
LOCATION:Wesley Church\, 100 13th Ave\, Tauranga
CATEGORIES:Collectors
ATTACH;FMTTYPE=image/jpeg:https://letslearn.nz/wp-content/uploads/2020/02/Numismatics.jpg
END:VEVENT
BEGIN:VEVENT
DTSTART;TZID=Pacific/Auckland:20260603T193000
DTEND;TZID=Pacific/Auckland:20260603T210000
DTSTAMP:20260424T193749
CREATED:20200225T193224Z
LAST-MODIFIED:20240210T044316Z
UID:10017422-1780515000-1780520400@letslearn.nz
SUMMARY:Tauranga Numismatic Society Club
DESCRIPTION:Interested in coins\, banknotes\, medallions ? \nThe club meets monthly on the first Wednesday of the month. \nPlace: Wesley Church\, 100 13th Ave\nTime: 7.30pm -9pm \nAll ages welcome. \nPhone: Sean 027 634 7417
URL:https://letslearn.nz/event/tauranga-numismatic-society-club/2026-06-03/
LOCATION:Wesley Church\, 100 13th Ave\, Tauranga
CATEGORIES:Collectors
ATTACH;FMTTYPE=image/jpeg:https://letslearn.nz/wp-content/uploads/2020/02/Numismatics.jpg
END:VEVENT
BEGIN:VEVENT
DTSTART;TZID=Pacific/Auckland:20260701T193000
DTEND;TZID=Pacific/Auckland:20260701T210000
DTSTAMP:20260424T193749
CREATED:20200225T193224Z
LAST-MODIFIED:20240210T044316Z
UID:10017423-1782934200-1782939600@letslearn.nz
SUMMARY:Tauranga Numismatic Society Club
DESCRIPTION:Interested in coins\, banknotes\, medallions ? \nThe club meets monthly on the first Wednesday of the month. \nPlace: Wesley Church\, 100 13th Ave\nTime: 7.30pm -9pm \nAll ages welcome. \nPhone: Sean 027 634 7417
URL:https://letslearn.nz/event/tauranga-numismatic-society-club/2026-07-01/
LOCATION:Wesley Church\, 100 13th Ave\, Tauranga
CATEGORIES:Collectors
ATTACH;FMTTYPE=image/jpeg:https://letslearn.nz/wp-content/uploads/2020/02/Numismatics.jpg
END:VEVENT
BEGIN:VEVENT
DTSTART;TZID=Pacific/Auckland:20260805T193000
DTEND;TZID=Pacific/Auckland:20260805T210000
DTSTAMP:20260424T193749
CREATED:20200225T193224Z
LAST-MODIFIED:20240210T044316Z
UID:10017424-1785958200-1785963600@letslearn.nz
SUMMARY:Tauranga Numismatic Society Club
DESCRIPTION:Interested in coins\, banknotes\, medallions ? \nThe club meets monthly on the first Wednesday of the month. \nPlace: Wesley Church\, 100 13th Ave\nTime: 7.30pm -9pm \nAll ages welcome. \nPhone: Sean 027 634 7417
URL:https://letslearn.nz/event/tauranga-numismatic-society-club/2026-08-05/
LOCATION:Wesley Church\, 100 13th Ave\, Tauranga
CATEGORIES:Collectors
ATTACH;FMTTYPE=image/jpeg:https://letslearn.nz/wp-content/uploads/2020/02/Numismatics.jpg
END:VEVENT
BEGIN:VEVENT
DTSTART;TZID=Pacific/Auckland:20260902T193000
DTEND;TZID=Pacific/Auckland:20260902T210000
DTSTAMP:20260424T193749
CREATED:20200225T193224Z
LAST-MODIFIED:20240210T044316Z
UID:10017425-1788377400-1788382800@letslearn.nz
SUMMARY:Tauranga Numismatic Society Club
DESCRIPTION:Interested in coins\, banknotes\, medallions ? \nThe club meets monthly on the first Wednesday of the month. \nPlace: Wesley Church\, 100 13th Ave\nTime: 7.30pm -9pm \nAll ages welcome. \nPhone: Sean 027 634 7417
URL:https://letslearn.nz/event/tauranga-numismatic-society-club/2026-09-02/
LOCATION:Wesley Church\, 100 13th Ave\, Tauranga
CATEGORIES:Collectors
ATTACH;FMTTYPE=image/jpeg:https://letslearn.nz/wp-content/uploads/2020/02/Numismatics.jpg
END:VEVENT
BEGIN:VEVENT
DTSTART;TZID=Pacific/Auckland:20261007T193000
DTEND;TZID=Pacific/Auckland:20261007T210000
DTSTAMP:20260424T193749
CREATED:20200225T193224Z
LAST-MODIFIED:20240210T044316Z
UID:10017426-1791401400-1791406800@letslearn.nz
SUMMARY:Tauranga Numismatic Society Club
DESCRIPTION:Interested in coins\, banknotes\, medallions ? \nThe club meets monthly on the first Wednesday of the month. \nPlace: Wesley Church\, 100 13th Ave\nTime: 7.30pm -9pm \nAll ages welcome. \nPhone: Sean 027 634 7417
URL:https://letslearn.nz/event/tauranga-numismatic-society-club/2026-10-07/
LOCATION:Wesley Church\, 100 13th Ave\, Tauranga
CATEGORIES:Collectors
ATTACH;FMTTYPE=image/jpeg:https://letslearn.nz/wp-content/uploads/2020/02/Numismatics.jpg
END:VEVENT
BEGIN:VEVENT
DTSTART;TZID=Pacific/Auckland:20261104T193000
DTEND;TZID=Pacific/Auckland:20261104T210000
DTSTAMP:20260424T193749
CREATED:20200225T193224Z
LAST-MODIFIED:20240210T044316Z
UID:10017427-1793820600-1793826000@letslearn.nz
SUMMARY:Tauranga Numismatic Society Club
DESCRIPTION:Interested in coins\, banknotes\, medallions ? \nThe club meets monthly on the first Wednesday of the month. \nPlace: Wesley Church\, 100 13th Ave\nTime: 7.30pm -9pm \nAll ages welcome. \nPhone: Sean 027 634 7417
URL:https://letslearn.nz/event/tauranga-numismatic-society-club/2026-11-04/
LOCATION:Wesley Church\, 100 13th Ave\, Tauranga
CATEGORIES:Collectors
ATTACH;FMTTYPE=image/jpeg:https://letslearn.nz/wp-content/uploads/2020/02/Numismatics.jpg
END:VEVENT
BEGIN:VEVENT
DTSTART;TZID=Pacific/Auckland:20261202T193000
DTEND;TZID=Pacific/Auckland:20261202T210000
DTSTAMP:20260424T193749
CREATED:20200225T193224Z
LAST-MODIFIED:20240210T044316Z
UID:10017428-1796239800-1796245200@letslearn.nz
SUMMARY:Tauranga Numismatic Society Club
DESCRIPTION:Interested in coins\, banknotes\, medallions ? \nThe club meets monthly on the first Wednesday of the month. \nPlace: Wesley Church\, 100 13th Ave\nTime: 7.30pm -9pm \nAll ages welcome. \nPhone: Sean 027 634 7417
URL:https://letslearn.nz/event/tauranga-numismatic-society-club/2026-12-02/
LOCATION:Wesley Church\, 100 13th Ave\, Tauranga
CATEGORIES:Collectors
ATTACH;FMTTYPE=image/jpeg:https://letslearn.nz/wp-content/uploads/2020/02/Numismatics.jpg
END:VEVENT
BEGIN:VEVENT
DTSTART;TZID=Pacific/Auckland:20270106T193000
DTEND;TZID=Pacific/Auckland:20270106T210000
DTSTAMP:20260424T193749
CREATED:20200225T193224Z
LAST-MODIFIED:20240210T044316Z
UID:10017429-1799263800-1799269200@letslearn.nz
SUMMARY:Tauranga Numismatic Society Club
DESCRIPTION:Interested in coins\, banknotes\, medallions ? \nThe club meets monthly on the first Wednesday of the month. \nPlace: Wesley Church\, 100 13th Ave\nTime: 7.30pm -9pm \nAll ages welcome. \nPhone: Sean 027 634 7417
URL:https://letslearn.nz/event/tauranga-numismatic-society-club/2027-01-06/
LOCATION:Wesley Church\, 100 13th Ave\, Tauranga
CATEGORIES:Collectors
ATTACH;FMTTYPE=image/jpeg:https://letslearn.nz/wp-content/uploads/2020/02/Numismatics.jpg
END:VEVENT
BEGIN:VEVENT
DTSTART;TZID=Pacific/Auckland:20270203T193000
DTEND;TZID=Pacific/Auckland:20270203T210000
DTSTAMP:20260424T193749
CREATED:20200225T193224Z
LAST-MODIFIED:20240210T044316Z
UID:10017430-1801683000-1801688400@letslearn.nz
SUMMARY:Tauranga Numismatic Society Club
DESCRIPTION:Interested in coins\, banknotes\, medallions ? \nThe club meets monthly on the first Wednesday of the month. \nPlace: Wesley Church\, 100 13th Ave\nTime: 7.30pm -9pm \nAll ages welcome. \nPhone: Sean 027 634 7417
URL:https://letslearn.nz/event/tauranga-numismatic-society-club/2027-02-03/
LOCATION:Wesley Church\, 100 13th Ave\, Tauranga
CATEGORIES:Collectors
ATTACH;FMTTYPE=image/jpeg:https://letslearn.nz/wp-content/uploads/2020/02/Numismatics.jpg
END:VEVENT
BEGIN:VEVENT
DTSTART;TZID=Pacific/Auckland:20270303T193000
DTEND;TZID=Pacific/Auckland:20270303T210000
DTSTAMP:20260424T193749
CREATED:20200225T193224Z
LAST-MODIFIED:20240210T044316Z
UID:10017431-1804102200-1804107600@letslearn.nz
SUMMARY:Tauranga Numismatic Society Club
DESCRIPTION:Interested in coins\, banknotes\, medallions ? \nThe club meets monthly on the first Wednesday of the month. \nPlace: Wesley Church\, 100 13th Ave\nTime: 7.30pm -9pm \nAll ages welcome. \nPhone: Sean 027 634 7417
URL:https://letslearn.nz/event/tauranga-numismatic-society-club/2027-03-03/
LOCATION:Wesley Church\, 100 13th Ave\, Tauranga
CATEGORIES:Collectors
ATTACH;FMTTYPE=image/jpeg:https://letslearn.nz/wp-content/uploads/2020/02/Numismatics.jpg
END:VEVENT
BEGIN:VEVENT
DTSTART;TZID=Pacific/Auckland:20270407T193000
DTEND;TZID=Pacific/Auckland:20270407T210000
DTSTAMP:20260424T193749
CREATED:20200225T193224Z
LAST-MODIFIED:20240210T044316Z
UID:10017432-1807126200-1807131600@letslearn.nz
SUMMARY:Tauranga Numismatic Society Club
DESCRIPTION:Interested in coins\, banknotes\, medallions ? \nThe club meets monthly on the first Wednesday of the month. \nPlace: Wesley Church\, 100 13th Ave\nTime: 7.30pm -9pm \nAll ages welcome. \nPhone: Sean 027 634 7417
URL:https://letslearn.nz/event/tauranga-numismatic-society-club/2027-04-07/
LOCATION:Wesley Church\, 100 13th Ave\, Tauranga
CATEGORIES:Collectors
ATTACH;FMTTYPE=image/jpeg:https://letslearn.nz/wp-content/uploads/2020/02/Numismatics.jpg
END:VEVENT
BEGIN:VEVENT
DTSTART;TZID=Pacific/Auckland:20270505T193000
DTEND;TZID=Pacific/Auckland:20270505T210000
DTSTAMP:20260424T193749
CREATED:20200225T193224Z
LAST-MODIFIED:20240210T044316Z
UID:10017433-1809545400-1809550800@letslearn.nz
SUMMARY:Tauranga Numismatic Society Club
DESCRIPTION:Interested in coins\, banknotes\, medallions ? \nThe club meets monthly on the first Wednesday of the month. \nPlace: Wesley Church\, 100 13th Ave\nTime: 7.30pm -9pm \nAll ages welcome. \nPhone: Sean 027 634 7417
URL:https://letslearn.nz/event/tauranga-numismatic-society-club/2027-05-05/
LOCATION:Wesley Church\, 100 13th Ave\, Tauranga
CATEGORIES:Collectors
ATTACH;FMTTYPE=image/jpeg:https://letslearn.nz/wp-content/uploads/2020/02/Numismatics.jpg
END:VEVENT
BEGIN:VEVENT
DTSTART;TZID=Pacific/Auckland:20270602T193000
DTEND;TZID=Pacific/Auckland:20270602T210000
DTSTAMP:20260424T193749
CREATED:20200225T193224Z
LAST-MODIFIED:20240210T044316Z
UID:10017434-1811964600-1811970000@letslearn.nz
SUMMARY:Tauranga Numismatic Society Club
DESCRIPTION:Interested in coins\, banknotes\, medallions ? \nThe club meets monthly on the first Wednesday of the month. \nPlace: Wesley Church\, 100 13th Ave\nTime: 7.30pm -9pm \nAll ages welcome. \nPhone: Sean 027 634 7417
URL:https://letslearn.nz/event/tauranga-numismatic-society-club/2027-06-02/
LOCATION:Wesley Church\, 100 13th Ave\, Tauranga
CATEGORIES:Collectors
ATTACH;FMTTYPE=image/jpeg:https://letslearn.nz/wp-content/uploads/2020/02/Numismatics.jpg
END:VEVENT
BEGIN:VEVENT
DTSTART;TZID=Pacific/Auckland:20270707T193000
DTEND;TZID=Pacific/Auckland:20270707T210000
DTSTAMP:20260424T193749
CREATED:20200225T193224Z
LAST-MODIFIED:20240210T044316Z
UID:10017435-1814988600-1814994000@letslearn.nz
SUMMARY:Tauranga Numismatic Society Club
DESCRIPTION:Interested in coins\, banknotes\, medallions ? \nThe club meets monthly on the first Wednesday of the month. \nPlace: Wesley Church\, 100 13th Ave\nTime: 7.30pm -9pm \nAll ages welcome. \nPhone: Sean 027 634 7417
URL:https://letslearn.nz/event/tauranga-numismatic-society-club/2027-07-07/
LOCATION:Wesley Church\, 100 13th Ave\, Tauranga
CATEGORIES:Collectors
ATTACH;FMTTYPE=image/jpeg:https://letslearn.nz/wp-content/uploads/2020/02/Numismatics.jpg
END:VEVENT
BEGIN:VEVENT
DTSTART;TZID=Pacific/Auckland:20270804T193000
DTEND;TZID=Pacific/Auckland:20270804T210000
DTSTAMP:20260424T193749
CREATED:20200225T193224Z
LAST-MODIFIED:20240210T044316Z
UID:10017436-1817407800-1817413200@letslearn.nz
SUMMARY:Tauranga Numismatic Society Club
DESCRIPTION:Interested in coins\, banknotes\, medallions ? \nThe club meets monthly on the first Wednesday of the month. \nPlace: Wesley Church\, 100 13th Ave\nTime: 7.30pm -9pm \nAll ages welcome. \nPhone: Sean 027 634 7417
URL:https://letslearn.nz/event/tauranga-numismatic-society-club/2027-08-04/
LOCATION:Wesley Church\, 100 13th Ave\, Tauranga
CATEGORIES:Collectors
ATTACH;FMTTYPE=image/jpeg:https://letslearn.nz/wp-content/uploads/2020/02/Numismatics.jpg
END:VEVENT
BEGIN:VEVENT
DTSTART;TZID=Pacific/Auckland:20270901T193000
DTEND;TZID=Pacific/Auckland:20270901T210000
DTSTAMP:20260424T193749
CREATED:20200225T193224Z
LAST-MODIFIED:20240210T044316Z
UID:10017437-1819827000-1819832400@letslearn.nz
SUMMARY:Tauranga Numismatic Society Club
DESCRIPTION:Interested in coins\, banknotes\, medallions ? \nThe club meets monthly on the first Wednesday of the month. \nPlace: Wesley Church\, 100 13th Ave\nTime: 7.30pm -9pm \nAll ages welcome. \nPhone: Sean 027 634 7417
URL:https://letslearn.nz/event/tauranga-numismatic-society-club/2027-09-01/
LOCATION:Wesley Church\, 100 13th Ave\, Tauranga
CATEGORIES:Collectors
ATTACH;FMTTYPE=image/jpeg:https://letslearn.nz/wp-content/uploads/2020/02/Numismatics.jpg
END:VEVENT
BEGIN:VEVENT
DTSTART;TZID=Pacific/Auckland:20271006T193000
DTEND;TZID=Pacific/Auckland:20271006T210000
DTSTAMP:20260424T193749
CREATED:20200225T193224Z
LAST-MODIFIED:20240210T044316Z
UID:10017438-1822851000-1822856400@letslearn.nz
SUMMARY:Tauranga Numismatic Society Club
DESCRIPTION:Interested in coins\, banknotes\, medallions ? \nThe club meets monthly on the first Wednesday of the month. \nPlace: Wesley Church\, 100 13th Ave\nTime: 7.30pm -9pm \nAll ages welcome. \nPhone: Sean 027 634 7417
URL:https://letslearn.nz/event/tauranga-numismatic-society-club/2027-10-06/
LOCATION:Wesley Church\, 100 13th Ave\, Tauranga
CATEGORIES:Collectors
ATTACH;FMTTYPE=image/jpeg:https://letslearn.nz/wp-content/uploads/2020/02/Numismatics.jpg
END:VEVENT
BEGIN:VEVENT
DTSTART;TZID=Pacific/Auckland:20271103T193000
DTEND;TZID=Pacific/Auckland:20271103T210000
DTSTAMP:20260424T193749
CREATED:20200225T193224Z
LAST-MODIFIED:20240210T044316Z
UID:10017439-1825270200-1825275600@letslearn.nz
SUMMARY:Tauranga Numismatic Society Club
DESCRIPTION:Interested in coins\, banknotes\, medallions ? \nThe club meets monthly on the first Wednesday of the month. \nPlace: Wesley Church\, 100 13th Ave\nTime: 7.30pm -9pm \nAll ages welcome. \nPhone: Sean 027 634 7417
URL:https://letslearn.nz/event/tauranga-numismatic-society-club/2027-11-03/
LOCATION:Wesley Church\, 100 13th Ave\, Tauranga
CATEGORIES:Collectors
ATTACH;FMTTYPE=image/jpeg:https://letslearn.nz/wp-content/uploads/2020/02/Numismatics.jpg
END:VEVENT
BEGIN:VEVENT
DTSTART;TZID=Pacific/Auckland:20271201T193000
DTEND;TZID=Pacific/Auckland:20271201T210000
DTSTAMP:20260424T193749
CREATED:20200225T193224Z
LAST-MODIFIED:20240210T044316Z
UID:10017440-1827689400-1827694800@letslearn.nz
SUMMARY:Tauranga Numismatic Society Club
DESCRIPTION:Interested in coins\, banknotes\, medallions ? \nThe club meets monthly on the first Wednesday of the month. \nPlace: Wesley Church\, 100 13th Ave\nTime: 7.30pm -9pm \nAll ages welcome. \nPhone: Sean 027 634 7417
URL:https://letslearn.nz/event/tauranga-numismatic-society-club/2027-12-01/
LOCATION:Wesley Church\, 100 13th Ave\, Tauranga
CATEGORIES:Collectors
ATTACH;FMTTYPE=image/jpeg:https://letslearn.nz/wp-content/uploads/2020/02/Numismatics.jpg
END:VEVENT
BEGIN:VEVENT
DTSTART;TZID=Pacific/Auckland:20280105T193000
DTEND;TZID=Pacific/Auckland:20280105T210000
DTSTAMP:20260424T193749
CREATED:20200225T193224Z
LAST-MODIFIED:20240210T044316Z
UID:10017441-1830713400-1830718800@letslearn.nz
SUMMARY:Tauranga Numismatic Society Club
DESCRIPTION:Interested in coins\, banknotes\, medallions ? \nThe club meets monthly on the first Wednesday of the month. \nPlace: Wesley Church\, 100 13th Ave\nTime: 7.30pm -9pm \nAll ages welcome. \nPhone: Sean 027 634 7417
URL:https://letslearn.nz/event/tauranga-numismatic-society-club/2028-01-05/
LOCATION:Wesley Church\, 100 13th Ave\, Tauranga
CATEGORIES:Collectors
ATTACH;FMTTYPE=image/jpeg:https://letslearn.nz/wp-content/uploads/2020/02/Numismatics.jpg
END:VEVENT
BEGIN:VEVENT
DTSTART;TZID=Pacific/Auckland:20280202T193000
DTEND;TZID=Pacific/Auckland:20280202T210000
DTSTAMP:20260424T193749
CREATED:20200225T193224Z
LAST-MODIFIED:20240210T044316Z
UID:10017442-1833132600-1833138000@letslearn.nz
SUMMARY:Tauranga Numismatic Society Club
DESCRIPTION:Interested in coins\, banknotes\, medallions ? \nThe club meets monthly on the first Wednesday of the month. \nPlace: Wesley Church\, 100 13th Ave\nTime: 7.30pm -9pm \nAll ages welcome. \nPhone: Sean 027 634 7417
URL:https://letslearn.nz/event/tauranga-numismatic-society-club/2028-02-02/
LOCATION:Wesley Church\, 100 13th Ave\, Tauranga
CATEGORIES:Collectors
ATTACH;FMTTYPE=image/jpeg:https://letslearn.nz/wp-content/uploads/2020/02/Numismatics.jpg
END:VEVENT
BEGIN:VEVENT
DTSTART;TZID=Pacific/Auckland:20280301T193000
DTEND;TZID=Pacific/Auckland:20280301T210000
DTSTAMP:20260424T193749
CREATED:20200225T193224Z
LAST-MODIFIED:20240210T044316Z
UID:10017443-1835551800-1835557200@letslearn.nz
SUMMARY:Tauranga Numismatic Society Club
DESCRIPTION:Interested in coins\, banknotes\, medallions ? \nThe club meets monthly on the first Wednesday of the month. \nPlace: Wesley Church\, 100 13th Ave\nTime: 7.30pm -9pm \nAll ages welcome. \nPhone: Sean 027 634 7417
URL:https://letslearn.nz/event/tauranga-numismatic-society-club/2028-03-01/
LOCATION:Wesley Church\, 100 13th Ave\, Tauranga
CATEGORIES:Collectors
ATTACH;FMTTYPE=image/jpeg:https://letslearn.nz/wp-content/uploads/2020/02/Numismatics.jpg
END:VEVENT
BEGIN:VEVENT
DTSTART;TZID=Pacific/Auckland:20280405T193000
DTEND;TZID=Pacific/Auckland:20280405T210000
DTSTAMP:20260424T193749
CREATED:20200225T193224Z
LAST-MODIFIED:20240210T044316Z
UID:10017444-1838575800-1838581200@letslearn.nz
SUMMARY:Tauranga Numismatic Society Club
DESCRIPTION:Interested in coins\, banknotes\, medallions ? \nThe club meets monthly on the first Wednesday of the month. \nPlace: Wesley Church\, 100 13th Ave\nTime: 7.30pm -9pm \nAll ages welcome. \nPhone: Sean 027 634 7417
URL:https://letslearn.nz/event/tauranga-numismatic-society-club/2028-04-05/
LOCATION:Wesley Church\, 100 13th Ave\, Tauranga
CATEGORIES:Collectors
ATTACH;FMTTYPE=image/jpeg:https://letslearn.nz/wp-content/uploads/2020/02/Numismatics.jpg
END:VEVENT
BEGIN:VEVENT
DTSTART;TZID=Pacific/Auckland:20280503T193000
DTEND;TZID=Pacific/Auckland:20280503T210000
DTSTAMP:20260424T193749
CREATED:20200225T193224Z
LAST-MODIFIED:20240210T044316Z
UID:10017445-1840995000-1841000400@letslearn.nz
SUMMARY:Tauranga Numismatic Society Club
DESCRIPTION:Interested in coins\, banknotes\, medallions ? \nThe club meets monthly on the first Wednesday of the month. \nPlace: Wesley Church\, 100 13th Ave\nTime: 7.30pm -9pm \nAll ages welcome. \nPhone: Sean 027 634 7417
URL:https://letslearn.nz/event/tauranga-numismatic-society-club/2028-05-03/
LOCATION:Wesley Church\, 100 13th Ave\, Tauranga
CATEGORIES:Collectors
ATTACH;FMTTYPE=image/jpeg:https://letslearn.nz/wp-content/uploads/2020/02/Numismatics.jpg
END:VEVENT
BEGIN:VEVENT
DTSTART;TZID=Pacific/Auckland:20280607T193000
DTEND;TZID=Pacific/Auckland:20280607T210000
DTSTAMP:20260424T193749
CREATED:20200225T193224Z
LAST-MODIFIED:20240210T044316Z
UID:10017446-1844019000-1844024400@letslearn.nz
SUMMARY:Tauranga Numismatic Society Club
DESCRIPTION:Interested in coins\, banknotes\, medallions ? \nThe club meets monthly on the first Wednesday of the month. \nPlace: Wesley Church\, 100 13th Ave\nTime: 7.30pm -9pm \nAll ages welcome. \nPhone: Sean 027 634 7417
URL:https://letslearn.nz/event/tauranga-numismatic-society-club/2028-06-07/
LOCATION:Wesley Church\, 100 13th Ave\, Tauranga
CATEGORIES:Collectors
ATTACH;FMTTYPE=image/jpeg:https://letslearn.nz/wp-content/uploads/2020/02/Numismatics.jpg
END:VEVENT
BEGIN:VEVENT
DTSTART;TZID=Pacific/Auckland:20280705T193000
DTEND;TZID=Pacific/Auckland:20280705T210000
DTSTAMP:20260424T193749
CREATED:20200225T193224Z
LAST-MODIFIED:20240210T044316Z
UID:10017447-1846438200-1846443600@letslearn.nz
SUMMARY:Tauranga Numismatic Society Club
DESCRIPTION:Interested in coins\, banknotes\, medallions ? \nThe club meets monthly on the first Wednesday of the month. \nPlace: Wesley Church\, 100 13th Ave\nTime: 7.30pm -9pm \nAll ages welcome. \nPhone: Sean 027 634 7417
URL:https://letslearn.nz/event/tauranga-numismatic-society-club/2028-07-05/
LOCATION:Wesley Church\, 100 13th Ave\, Tauranga
CATEGORIES:Collectors
ATTACH;FMTTYPE=image/jpeg:https://letslearn.nz/wp-content/uploads/2020/02/Numismatics.jpg
END:VEVENT
BEGIN:VEVENT
DTSTART;TZID=Pacific/Auckland:20280802T193000
DTEND;TZID=Pacific/Auckland:20280802T210000
DTSTAMP:20260424T193749
CREATED:20200225T193224Z
LAST-MODIFIED:20240210T044316Z
UID:10017448-1848857400-1848862800@letslearn.nz
SUMMARY:Tauranga Numismatic Society Club
DESCRIPTION:Interested in coins\, banknotes\, medallions ? \nThe club meets monthly on the first Wednesday of the month. \nPlace: Wesley Church\, 100 13th Ave\nTime: 7.30pm -9pm \nAll ages welcome. \nPhone: Sean 027 634 7417
URL:https://letslearn.nz/event/tauranga-numismatic-society-club/2028-08-02/
LOCATION:Wesley Church\, 100 13th Ave\, Tauranga
CATEGORIES:Collectors
ATTACH;FMTTYPE=image/jpeg:https://letslearn.nz/wp-content/uploads/2020/02/Numismatics.jpg
END:VEVENT
BEGIN:VEVENT
DTSTART;TZID=Pacific/Auckland:20280906T193000
DTEND;TZID=Pacific/Auckland:20280906T210000
DTSTAMP:20260424T193749
CREATED:20200225T193224Z
LAST-MODIFIED:20240210T044316Z
UID:10017449-1851881400-1851886800@letslearn.nz
SUMMARY:Tauranga Numismatic Society Club
DESCRIPTION:Interested in coins\, banknotes\, medallions ? \nThe club meets monthly on the first Wednesday of the month. \nPlace: Wesley Church\, 100 13th Ave\nTime: 7.30pm -9pm \nAll ages welcome. \nPhone: Sean 027 634 7417
URL:https://letslearn.nz/event/tauranga-numismatic-society-club/2028-09-06/
LOCATION:Wesley Church\, 100 13th Ave\, Tauranga
CATEGORIES:Collectors
ATTACH;FMTTYPE=image/jpeg:https://letslearn.nz/wp-content/uploads/2020/02/Numismatics.jpg
END:VEVENT
BEGIN:VEVENT
DTSTART;TZID=Pacific/Auckland:20281004T193000
DTEND;TZID=Pacific/Auckland:20281004T210000
DTSTAMP:20260424T193749
CREATED:20200225T193224Z
LAST-MODIFIED:20240210T044316Z
UID:10017450-1854300600-1854306000@letslearn.nz
SUMMARY:Tauranga Numismatic Society Club
DESCRIPTION:Interested in coins\, banknotes\, medallions ? \nThe club meets monthly on the first Wednesday of the month. \nPlace: Wesley Church\, 100 13th Ave\nTime: 7.30pm -9pm \nAll ages welcome. \nPhone: Sean 027 634 7417
URL:https://letslearn.nz/event/tauranga-numismatic-society-club/2028-10-04/
LOCATION:Wesley Church\, 100 13th Ave\, Tauranga
CATEGORIES:Collectors
ATTACH;FMTTYPE=image/jpeg:https://letslearn.nz/wp-content/uploads/2020/02/Numismatics.jpg
END:VEVENT
END:VCALENDAR