BEGIN:VCALENDAR
VERSION:2.0
PRODID:-//Let&#039;s Learn - ECPv6.15.14//NONSGML v1.0//EN
CALSCALE:GREGORIAN
METHOD:PUBLISH
X-WR-CALNAME:Let&#039;s Learn
X-ORIGINAL-URL:https://letslearn.nz
X-WR-CALDESC:Events for Let&#039;s Learn
REFRESH-INTERVAL;VALUE=DURATION:PT1H
X-Robots-Tag:noindex
X-PUBLISHED-TTL:PT1H
BEGIN:VTIMEZONE
TZID:Pacific/Auckland
BEGIN:STANDARD
TZOFFSETFROM:+1300
TZOFFSETTO:+1200
TZNAME:NZST
DTSTART:20250405T140000
END:STANDARD
BEGIN:DAYLIGHT
TZOFFSETFROM:+1200
TZOFFSETTO:+1300
TZNAME:NZDT
DTSTART:20250927T140000
END:DAYLIGHT
BEGIN:STANDARD
TZOFFSETFROM:+1300
TZOFFSETTO:+1200
TZNAME:NZST
DTSTART:20260404T140000
END:STANDARD
BEGIN:DAYLIGHT
TZOFFSETFROM:+1200
TZOFFSETTO:+1300
TZNAME:NZDT
DTSTART:20260926T140000
END:DAYLIGHT
BEGIN:STANDARD
TZOFFSETFROM:+1300
TZOFFSETTO:+1200
TZNAME:NZST
DTSTART:20270403T140000
END:STANDARD
BEGIN:DAYLIGHT
TZOFFSETFROM:+1200
TZOFFSETTO:+1300
TZNAME:NZDT
DTSTART:20270925T140000
END:DAYLIGHT
BEGIN:STANDARD
TZOFFSETFROM:+1300
TZOFFSETTO:+1200
TZNAME:NZST
DTSTART:20280401T140000
END:STANDARD
BEGIN:DAYLIGHT
TZOFFSETFROM:+1200
TZOFFSETTO:+1300
TZNAME:NZDT
DTSTART:20280923T140000
END:DAYLIGHT
BEGIN:STANDARD
TZOFFSETFROM:+1300
TZOFFSETTO:+1200
TZNAME:NZST
DTSTART:20290331T140000
END:STANDARD
BEGIN:DAYLIGHT
TZOFFSETFROM:+1200
TZOFFSETTO:+1300
TZNAME:NZDT
DTSTART:20290929T140000
END:DAYLIGHT
END:VTIMEZONE
BEGIN:VEVENT
DTSTART;TZID=Pacific/Auckland:20260522T100000
DTEND;TZID=Pacific/Auckland:20260522T150000
DTSTAMP:20260424T225110
CREATED:20230211T090516Z
LAST-MODIFIED:20250820T224031Z
UID:10035315-1779444000-1779462000@letslearn.nz
SUMMARY:Tauranga Patchwork & Quilters Group
DESCRIPTION:Members of the group meet at the Art and Craft Centre \, 177 Elizabeth Street\, Tauranga \nVisitors welcome.\nMeets:-\nSecond & Fourth Fridays; 10am – 3pm\nFacebook link \nFor more information contact: \nEmail: taurangaquilters@gmail.com
URL:https://letslearn.nz/event/tauranga-patchwork-quilters-group-2-2/2026-05-22/
LOCATION:Art and Craft Centre \, 177 Elizabeth Street\, Tauranga
CATEGORIES:Patchwork,Quilting
ATTACH;FMTTYPE=image/jpeg:https://letslearn.nz/wp-content/uploads/2016/09/Patchwork-Club-1.jpg
ORGANIZER;CN="Patchwork & Quilters Group":MAILTO:taurangaquilters@gmail.com
END:VEVENT
BEGIN:VEVENT
DTSTART;TZID=Pacific/Auckland:20260626T100000
DTEND;TZID=Pacific/Auckland:20260626T150000
DTSTAMP:20260424T225110
CREATED:20230211T090516Z
LAST-MODIFIED:20250820T224031Z
UID:10035316-1782468000-1782486000@letslearn.nz
SUMMARY:Tauranga Patchwork & Quilters Group
DESCRIPTION:Members of the group meet at the Art and Craft Centre \, 177 Elizabeth Street\, Tauranga \nVisitors welcome.\nMeets:-\nSecond & Fourth Fridays; 10am – 3pm\nFacebook link \nFor more information contact: \nEmail: taurangaquilters@gmail.com
URL:https://letslearn.nz/event/tauranga-patchwork-quilters-group-2-2/2026-06-26/
LOCATION:Art and Craft Centre \, 177 Elizabeth Street\, Tauranga
CATEGORIES:Patchwork,Quilting
ATTACH;FMTTYPE=image/jpeg:https://letslearn.nz/wp-content/uploads/2016/09/Patchwork-Club-1.jpg
ORGANIZER;CN="Patchwork & Quilters Group":MAILTO:taurangaquilters@gmail.com
END:VEVENT
BEGIN:VEVENT
DTSTART;TZID=Pacific/Auckland:20260724T100000
DTEND;TZID=Pacific/Auckland:20260724T150000
DTSTAMP:20260424T225110
CREATED:20230211T090516Z
LAST-MODIFIED:20250820T224031Z
UID:10035317-1784887200-1784905200@letslearn.nz
SUMMARY:Tauranga Patchwork & Quilters Group
DESCRIPTION:Members of the group meet at the Art and Craft Centre \, 177 Elizabeth Street\, Tauranga \nVisitors welcome.\nMeets:-\nSecond & Fourth Fridays; 10am – 3pm\nFacebook link \nFor more information contact: \nEmail: taurangaquilters@gmail.com
URL:https://letslearn.nz/event/tauranga-patchwork-quilters-group-2-2/2026-07-24/
LOCATION:Art and Craft Centre \, 177 Elizabeth Street\, Tauranga
CATEGORIES:Patchwork,Quilting
ATTACH;FMTTYPE=image/jpeg:https://letslearn.nz/wp-content/uploads/2016/09/Patchwork-Club-1.jpg
ORGANIZER;CN="Patchwork & Quilters Group":MAILTO:taurangaquilters@gmail.com
END:VEVENT
BEGIN:VEVENT
DTSTART;TZID=Pacific/Auckland:20260828T100000
DTEND;TZID=Pacific/Auckland:20260828T150000
DTSTAMP:20260424T225110
CREATED:20230211T090516Z
LAST-MODIFIED:20250820T224031Z
UID:10035318-1787911200-1787929200@letslearn.nz
SUMMARY:Tauranga Patchwork & Quilters Group
DESCRIPTION:Members of the group meet at the Art and Craft Centre \, 177 Elizabeth Street\, Tauranga \nVisitors welcome.\nMeets:-\nSecond & Fourth Fridays; 10am – 3pm\nFacebook link \nFor more information contact: \nEmail: taurangaquilters@gmail.com
URL:https://letslearn.nz/event/tauranga-patchwork-quilters-group-2-2/2026-08-28/
LOCATION:Art and Craft Centre \, 177 Elizabeth Street\, Tauranga
CATEGORIES:Patchwork,Quilting
ATTACH;FMTTYPE=image/jpeg:https://letslearn.nz/wp-content/uploads/2016/09/Patchwork-Club-1.jpg
ORGANIZER;CN="Patchwork & Quilters Group":MAILTO:taurangaquilters@gmail.com
END:VEVENT
BEGIN:VEVENT
DTSTART;TZID=Pacific/Auckland:20260925T100000
DTEND;TZID=Pacific/Auckland:20260925T150000
DTSTAMP:20260424T225110
CREATED:20230211T090516Z
LAST-MODIFIED:20250820T224031Z
UID:10035319-1790330400-1790348400@letslearn.nz
SUMMARY:Tauranga Patchwork & Quilters Group
DESCRIPTION:Members of the group meet at the Art and Craft Centre \, 177 Elizabeth Street\, Tauranga \nVisitors welcome.\nMeets:-\nSecond & Fourth Fridays; 10am – 3pm\nFacebook link \nFor more information contact: \nEmail: taurangaquilters@gmail.com
URL:https://letslearn.nz/event/tauranga-patchwork-quilters-group-2-2/2026-09-25/
LOCATION:Art and Craft Centre \, 177 Elizabeth Street\, Tauranga
CATEGORIES:Patchwork,Quilting
ATTACH;FMTTYPE=image/jpeg:https://letslearn.nz/wp-content/uploads/2016/09/Patchwork-Club-1.jpg
ORGANIZER;CN="Patchwork & Quilters Group":MAILTO:taurangaquilters@gmail.com
END:VEVENT
BEGIN:VEVENT
DTSTART;TZID=Pacific/Auckland:20261023T100000
DTEND;TZID=Pacific/Auckland:20261023T150000
DTSTAMP:20260424T225110
CREATED:20230211T090516Z
LAST-MODIFIED:20250820T224031Z
UID:10035320-1792749600-1792767600@letslearn.nz
SUMMARY:Tauranga Patchwork & Quilters Group
DESCRIPTION:Members of the group meet at the Art and Craft Centre \, 177 Elizabeth Street\, Tauranga \nVisitors welcome.\nMeets:-\nSecond & Fourth Fridays; 10am – 3pm\nFacebook link \nFor more information contact: \nEmail: taurangaquilters@gmail.com
URL:https://letslearn.nz/event/tauranga-patchwork-quilters-group-2-2/2026-10-23/
LOCATION:Art and Craft Centre \, 177 Elizabeth Street\, Tauranga
CATEGORIES:Patchwork,Quilting
ATTACH;FMTTYPE=image/jpeg:https://letslearn.nz/wp-content/uploads/2016/09/Patchwork-Club-1.jpg
ORGANIZER;CN="Patchwork & Quilters Group":MAILTO:taurangaquilters@gmail.com
END:VEVENT
BEGIN:VEVENT
DTSTART;TZID=Pacific/Auckland:20261127T100000
DTEND;TZID=Pacific/Auckland:20261127T150000
DTSTAMP:20260424T225110
CREATED:20230211T090516Z
LAST-MODIFIED:20250820T224031Z
UID:10035321-1795773600-1795791600@letslearn.nz
SUMMARY:Tauranga Patchwork & Quilters Group
DESCRIPTION:Members of the group meet at the Art and Craft Centre \, 177 Elizabeth Street\, Tauranga \nVisitors welcome.\nMeets:-\nSecond & Fourth Fridays; 10am – 3pm\nFacebook link \nFor more information contact: \nEmail: taurangaquilters@gmail.com
URL:https://letslearn.nz/event/tauranga-patchwork-quilters-group-2-2/2026-11-27/
LOCATION:Art and Craft Centre \, 177 Elizabeth Street\, Tauranga
CATEGORIES:Patchwork,Quilting
ATTACH;FMTTYPE=image/jpeg:https://letslearn.nz/wp-content/uploads/2016/09/Patchwork-Club-1.jpg
ORGANIZER;CN="Patchwork & Quilters Group":MAILTO:taurangaquilters@gmail.com
END:VEVENT
BEGIN:VEVENT
DTSTART;TZID=Pacific/Auckland:20261225T100000
DTEND;TZID=Pacific/Auckland:20261225T150000
DTSTAMP:20260424T225110
CREATED:20230211T090516Z
LAST-MODIFIED:20250820T224031Z
UID:10035322-1798192800-1798210800@letslearn.nz
SUMMARY:Tauranga Patchwork & Quilters Group
DESCRIPTION:Members of the group meet at the Art and Craft Centre \, 177 Elizabeth Street\, Tauranga \nVisitors welcome.\nMeets:-\nSecond & Fourth Fridays; 10am – 3pm\nFacebook link \nFor more information contact: \nEmail: taurangaquilters@gmail.com
URL:https://letslearn.nz/event/tauranga-patchwork-quilters-group-2-2/2026-12-25/
LOCATION:Art and Craft Centre \, 177 Elizabeth Street\, Tauranga
CATEGORIES:Patchwork,Quilting
ATTACH;FMTTYPE=image/jpeg:https://letslearn.nz/wp-content/uploads/2016/09/Patchwork-Club-1.jpg
ORGANIZER;CN="Patchwork & Quilters Group":MAILTO:taurangaquilters@gmail.com
END:VEVENT
BEGIN:VEVENT
DTSTART;TZID=Pacific/Auckland:20270122T100000
DTEND;TZID=Pacific/Auckland:20270122T150000
DTSTAMP:20260424T225110
CREATED:20230211T090516Z
LAST-MODIFIED:20250820T224031Z
UID:10035323-1800612000-1800630000@letslearn.nz
SUMMARY:Tauranga Patchwork & Quilters Group
DESCRIPTION:Members of the group meet at the Art and Craft Centre \, 177 Elizabeth Street\, Tauranga \nVisitors welcome.\nMeets:-\nSecond & Fourth Fridays; 10am – 3pm\nFacebook link \nFor more information contact: \nEmail: taurangaquilters@gmail.com
URL:https://letslearn.nz/event/tauranga-patchwork-quilters-group-2-2/2027-01-22/
LOCATION:Art and Craft Centre \, 177 Elizabeth Street\, Tauranga
CATEGORIES:Patchwork,Quilting
ATTACH;FMTTYPE=image/jpeg:https://letslearn.nz/wp-content/uploads/2016/09/Patchwork-Club-1.jpg
ORGANIZER;CN="Patchwork & Quilters Group":MAILTO:taurangaquilters@gmail.com
END:VEVENT
BEGIN:VEVENT
DTSTART;TZID=Pacific/Auckland:20270226T100000
DTEND;TZID=Pacific/Auckland:20270226T150000
DTSTAMP:20260424T225110
CREATED:20230211T090516Z
LAST-MODIFIED:20250820T224031Z
UID:10035324-1803636000-1803654000@letslearn.nz
SUMMARY:Tauranga Patchwork & Quilters Group
DESCRIPTION:Members of the group meet at the Art and Craft Centre \, 177 Elizabeth Street\, Tauranga \nVisitors welcome.\nMeets:-\nSecond & Fourth Fridays; 10am – 3pm\nFacebook link \nFor more information contact: \nEmail: taurangaquilters@gmail.com
URL:https://letslearn.nz/event/tauranga-patchwork-quilters-group-2-2/2027-02-26/
LOCATION:Art and Craft Centre \, 177 Elizabeth Street\, Tauranga
CATEGORIES:Patchwork,Quilting
ATTACH;FMTTYPE=image/jpeg:https://letslearn.nz/wp-content/uploads/2016/09/Patchwork-Club-1.jpg
ORGANIZER;CN="Patchwork & Quilters Group":MAILTO:taurangaquilters@gmail.com
END:VEVENT
BEGIN:VEVENT
DTSTART;TZID=Pacific/Auckland:20270326T100000
DTEND;TZID=Pacific/Auckland:20270326T150000
DTSTAMP:20260424T225110
CREATED:20230211T090516Z
LAST-MODIFIED:20250820T224031Z
UID:10035325-1806055200-1806073200@letslearn.nz
SUMMARY:Tauranga Patchwork & Quilters Group
DESCRIPTION:Members of the group meet at the Art and Craft Centre \, 177 Elizabeth Street\, Tauranga \nVisitors welcome.\nMeets:-\nSecond & Fourth Fridays; 10am – 3pm\nFacebook link \nFor more information contact: \nEmail: taurangaquilters@gmail.com
URL:https://letslearn.nz/event/tauranga-patchwork-quilters-group-2-2/2027-03-26/
LOCATION:Art and Craft Centre \, 177 Elizabeth Street\, Tauranga
CATEGORIES:Patchwork,Quilting
ATTACH;FMTTYPE=image/jpeg:https://letslearn.nz/wp-content/uploads/2016/09/Patchwork-Club-1.jpg
ORGANIZER;CN="Patchwork & Quilters Group":MAILTO:taurangaquilters@gmail.com
END:VEVENT
BEGIN:VEVENT
DTSTART;TZID=Pacific/Auckland:20270423T100000
DTEND;TZID=Pacific/Auckland:20270423T150000
DTSTAMP:20260424T225110
CREATED:20230211T090516Z
LAST-MODIFIED:20250820T224031Z
UID:10035326-1808474400-1808492400@letslearn.nz
SUMMARY:Tauranga Patchwork & Quilters Group
DESCRIPTION:Members of the group meet at the Art and Craft Centre \, 177 Elizabeth Street\, Tauranga \nVisitors welcome.\nMeets:-\nSecond & Fourth Fridays; 10am – 3pm\nFacebook link \nFor more information contact: \nEmail: taurangaquilters@gmail.com
URL:https://letslearn.nz/event/tauranga-patchwork-quilters-group-2-2/2027-04-23/
LOCATION:Art and Craft Centre \, 177 Elizabeth Street\, Tauranga
CATEGORIES:Patchwork,Quilting
ATTACH;FMTTYPE=image/jpeg:https://letslearn.nz/wp-content/uploads/2016/09/Patchwork-Club-1.jpg
ORGANIZER;CN="Patchwork & Quilters Group":MAILTO:taurangaquilters@gmail.com
END:VEVENT
BEGIN:VEVENT
DTSTART;TZID=Pacific/Auckland:20270528T100000
DTEND;TZID=Pacific/Auckland:20270528T150000
DTSTAMP:20260424T225110
CREATED:20230211T090516Z
LAST-MODIFIED:20250820T224031Z
UID:10035327-1811498400-1811516400@letslearn.nz
SUMMARY:Tauranga Patchwork & Quilters Group
DESCRIPTION:Members of the group meet at the Art and Craft Centre \, 177 Elizabeth Street\, Tauranga \nVisitors welcome.\nMeets:-\nSecond & Fourth Fridays; 10am – 3pm\nFacebook link \nFor more information contact: \nEmail: taurangaquilters@gmail.com
URL:https://letslearn.nz/event/tauranga-patchwork-quilters-group-2-2/2027-05-28/
LOCATION:Art and Craft Centre \, 177 Elizabeth Street\, Tauranga
CATEGORIES:Patchwork,Quilting
ATTACH;FMTTYPE=image/jpeg:https://letslearn.nz/wp-content/uploads/2016/09/Patchwork-Club-1.jpg
ORGANIZER;CN="Patchwork & Quilters Group":MAILTO:taurangaquilters@gmail.com
END:VEVENT
BEGIN:VEVENT
DTSTART;TZID=Pacific/Auckland:20270625T100000
DTEND;TZID=Pacific/Auckland:20270625T150000
DTSTAMP:20260424T225110
CREATED:20230211T090516Z
LAST-MODIFIED:20250820T224031Z
UID:10035328-1813917600-1813935600@letslearn.nz
SUMMARY:Tauranga Patchwork & Quilters Group
DESCRIPTION:Members of the group meet at the Art and Craft Centre \, 177 Elizabeth Street\, Tauranga \nVisitors welcome.\nMeets:-\nSecond & Fourth Fridays; 10am – 3pm\nFacebook link \nFor more information contact: \nEmail: taurangaquilters@gmail.com
URL:https://letslearn.nz/event/tauranga-patchwork-quilters-group-2-2/2027-06-25/
LOCATION:Art and Craft Centre \, 177 Elizabeth Street\, Tauranga
CATEGORIES:Patchwork,Quilting
ATTACH;FMTTYPE=image/jpeg:https://letslearn.nz/wp-content/uploads/2016/09/Patchwork-Club-1.jpg
ORGANIZER;CN="Patchwork & Quilters Group":MAILTO:taurangaquilters@gmail.com
END:VEVENT
BEGIN:VEVENT
DTSTART;TZID=Pacific/Auckland:20270723T100000
DTEND;TZID=Pacific/Auckland:20270723T150000
DTSTAMP:20260424T225110
CREATED:20230211T090516Z
LAST-MODIFIED:20250820T224031Z
UID:10035329-1816336800-1816354800@letslearn.nz
SUMMARY:Tauranga Patchwork & Quilters Group
DESCRIPTION:Members of the group meet at the Art and Craft Centre \, 177 Elizabeth Street\, Tauranga \nVisitors welcome.\nMeets:-\nSecond & Fourth Fridays; 10am – 3pm\nFacebook link \nFor more information contact: \nEmail: taurangaquilters@gmail.com
URL:https://letslearn.nz/event/tauranga-patchwork-quilters-group-2-2/2027-07-23/
LOCATION:Art and Craft Centre \, 177 Elizabeth Street\, Tauranga
CATEGORIES:Patchwork,Quilting
ATTACH;FMTTYPE=image/jpeg:https://letslearn.nz/wp-content/uploads/2016/09/Patchwork-Club-1.jpg
ORGANIZER;CN="Patchwork & Quilters Group":MAILTO:taurangaquilters@gmail.com
END:VEVENT
BEGIN:VEVENT
DTSTART;TZID=Pacific/Auckland:20270827T100000
DTEND;TZID=Pacific/Auckland:20270827T150000
DTSTAMP:20260424T225110
CREATED:20230211T090516Z
LAST-MODIFIED:20250820T224031Z
UID:10035330-1819360800-1819378800@letslearn.nz
SUMMARY:Tauranga Patchwork & Quilters Group
DESCRIPTION:Members of the group meet at the Art and Craft Centre \, 177 Elizabeth Street\, Tauranga \nVisitors welcome.\nMeets:-\nSecond & Fourth Fridays; 10am – 3pm\nFacebook link \nFor more information contact: \nEmail: taurangaquilters@gmail.com
URL:https://letslearn.nz/event/tauranga-patchwork-quilters-group-2-2/2027-08-27/
LOCATION:Art and Craft Centre \, 177 Elizabeth Street\, Tauranga
CATEGORIES:Patchwork,Quilting
ATTACH;FMTTYPE=image/jpeg:https://letslearn.nz/wp-content/uploads/2016/09/Patchwork-Club-1.jpg
ORGANIZER;CN="Patchwork & Quilters Group":MAILTO:taurangaquilters@gmail.com
END:VEVENT
BEGIN:VEVENT
DTSTART;TZID=Pacific/Auckland:20270924T100000
DTEND;TZID=Pacific/Auckland:20270924T150000
DTSTAMP:20260424T225110
CREATED:20230211T090516Z
LAST-MODIFIED:20250820T224031Z
UID:10035331-1821780000-1821798000@letslearn.nz
SUMMARY:Tauranga Patchwork & Quilters Group
DESCRIPTION:Members of the group meet at the Art and Craft Centre \, 177 Elizabeth Street\, Tauranga \nVisitors welcome.\nMeets:-\nSecond & Fourth Fridays; 10am – 3pm\nFacebook link \nFor more information contact: \nEmail: taurangaquilters@gmail.com
URL:https://letslearn.nz/event/tauranga-patchwork-quilters-group-2-2/2027-09-24/
LOCATION:Art and Craft Centre \, 177 Elizabeth Street\, Tauranga
CATEGORIES:Patchwork,Quilting
ATTACH;FMTTYPE=image/jpeg:https://letslearn.nz/wp-content/uploads/2016/09/Patchwork-Club-1.jpg
ORGANIZER;CN="Patchwork & Quilters Group":MAILTO:taurangaquilters@gmail.com
END:VEVENT
BEGIN:VEVENT
DTSTART;TZID=Pacific/Auckland:20271022T100000
DTEND;TZID=Pacific/Auckland:20271022T150000
DTSTAMP:20260424T225110
CREATED:20230211T090516Z
LAST-MODIFIED:20250820T224031Z
UID:10035332-1824199200-1824217200@letslearn.nz
SUMMARY:Tauranga Patchwork & Quilters Group
DESCRIPTION:Members of the group meet at the Art and Craft Centre \, 177 Elizabeth Street\, Tauranga \nVisitors welcome.\nMeets:-\nSecond & Fourth Fridays; 10am – 3pm\nFacebook link \nFor more information contact: \nEmail: taurangaquilters@gmail.com
URL:https://letslearn.nz/event/tauranga-patchwork-quilters-group-2-2/2027-10-22/
LOCATION:Art and Craft Centre \, 177 Elizabeth Street\, Tauranga
CATEGORIES:Patchwork,Quilting
ATTACH;FMTTYPE=image/jpeg:https://letslearn.nz/wp-content/uploads/2016/09/Patchwork-Club-1.jpg
ORGANIZER;CN="Patchwork & Quilters Group":MAILTO:taurangaquilters@gmail.com
END:VEVENT
BEGIN:VEVENT
DTSTART;TZID=Pacific/Auckland:20271126T100000
DTEND;TZID=Pacific/Auckland:20271126T150000
DTSTAMP:20260424T225110
CREATED:20230211T090516Z
LAST-MODIFIED:20250820T224031Z
UID:10035333-1827223200-1827241200@letslearn.nz
SUMMARY:Tauranga Patchwork & Quilters Group
DESCRIPTION:Members of the group meet at the Art and Craft Centre \, 177 Elizabeth Street\, Tauranga \nVisitors welcome.\nMeets:-\nSecond & Fourth Fridays; 10am – 3pm\nFacebook link \nFor more information contact: \nEmail: taurangaquilters@gmail.com
URL:https://letslearn.nz/event/tauranga-patchwork-quilters-group-2-2/2027-11-26/
LOCATION:Art and Craft Centre \, 177 Elizabeth Street\, Tauranga
CATEGORIES:Patchwork,Quilting
ATTACH;FMTTYPE=image/jpeg:https://letslearn.nz/wp-content/uploads/2016/09/Patchwork-Club-1.jpg
ORGANIZER;CN="Patchwork & Quilters Group":MAILTO:taurangaquilters@gmail.com
END:VEVENT
BEGIN:VEVENT
DTSTART;TZID=Pacific/Auckland:20271224T100000
DTEND;TZID=Pacific/Auckland:20271224T150000
DTSTAMP:20260424T225110
CREATED:20230211T090516Z
LAST-MODIFIED:20250820T224031Z
UID:10035334-1829642400-1829660400@letslearn.nz
SUMMARY:Tauranga Patchwork & Quilters Group
DESCRIPTION:Members of the group meet at the Art and Craft Centre \, 177 Elizabeth Street\, Tauranga \nVisitors welcome.\nMeets:-\nSecond & Fourth Fridays; 10am – 3pm\nFacebook link \nFor more information contact: \nEmail: taurangaquilters@gmail.com
URL:https://letslearn.nz/event/tauranga-patchwork-quilters-group-2-2/2027-12-24/
LOCATION:Art and Craft Centre \, 177 Elizabeth Street\, Tauranga
CATEGORIES:Patchwork,Quilting
ATTACH;FMTTYPE=image/jpeg:https://letslearn.nz/wp-content/uploads/2016/09/Patchwork-Club-1.jpg
ORGANIZER;CN="Patchwork & Quilters Group":MAILTO:taurangaquilters@gmail.com
END:VEVENT
BEGIN:VEVENT
DTSTART;TZID=Pacific/Auckland:20280128T100000
DTEND;TZID=Pacific/Auckland:20280128T150000
DTSTAMP:20260424T225110
CREATED:20230211T090516Z
LAST-MODIFIED:20250820T224031Z
UID:10035335-1832666400-1832684400@letslearn.nz
SUMMARY:Tauranga Patchwork & Quilters Group
DESCRIPTION:Members of the group meet at the Art and Craft Centre \, 177 Elizabeth Street\, Tauranga \nVisitors welcome.\nMeets:-\nSecond & Fourth Fridays; 10am – 3pm\nFacebook link \nFor more information contact: \nEmail: taurangaquilters@gmail.com
URL:https://letslearn.nz/event/tauranga-patchwork-quilters-group-2-2/2028-01-28/
LOCATION:Art and Craft Centre \, 177 Elizabeth Street\, Tauranga
CATEGORIES:Patchwork,Quilting
ATTACH;FMTTYPE=image/jpeg:https://letslearn.nz/wp-content/uploads/2016/09/Patchwork-Club-1.jpg
ORGANIZER;CN="Patchwork & Quilters Group":MAILTO:taurangaquilters@gmail.com
END:VEVENT
BEGIN:VEVENT
DTSTART;TZID=Pacific/Auckland:20280225T100000
DTEND;TZID=Pacific/Auckland:20280225T150000
DTSTAMP:20260424T225110
CREATED:20230211T090516Z
LAST-MODIFIED:20250820T224031Z
UID:10035336-1835085600-1835103600@letslearn.nz
SUMMARY:Tauranga Patchwork & Quilters Group
DESCRIPTION:Members of the group meet at the Art and Craft Centre \, 177 Elizabeth Street\, Tauranga \nVisitors welcome.\nMeets:-\nSecond & Fourth Fridays; 10am – 3pm\nFacebook link \nFor more information contact: \nEmail: taurangaquilters@gmail.com
URL:https://letslearn.nz/event/tauranga-patchwork-quilters-group-2-2/2028-02-25/
LOCATION:Art and Craft Centre \, 177 Elizabeth Street\, Tauranga
CATEGORIES:Patchwork,Quilting
ATTACH;FMTTYPE=image/jpeg:https://letslearn.nz/wp-content/uploads/2016/09/Patchwork-Club-1.jpg
ORGANIZER;CN="Patchwork & Quilters Group":MAILTO:taurangaquilters@gmail.com
END:VEVENT
BEGIN:VEVENT
DTSTART;TZID=Pacific/Auckland:20280324T100000
DTEND;TZID=Pacific/Auckland:20280324T150000
DTSTAMP:20260424T225110
CREATED:20230211T090516Z
LAST-MODIFIED:20250820T224031Z
UID:10035337-1837504800-1837522800@letslearn.nz
SUMMARY:Tauranga Patchwork & Quilters Group
DESCRIPTION:Members of the group meet at the Art and Craft Centre \, 177 Elizabeth Street\, Tauranga \nVisitors welcome.\nMeets:-\nSecond & Fourth Fridays; 10am – 3pm\nFacebook link \nFor more information contact: \nEmail: taurangaquilters@gmail.com
URL:https://letslearn.nz/event/tauranga-patchwork-quilters-group-2-2/2028-03-24/
LOCATION:Art and Craft Centre \, 177 Elizabeth Street\, Tauranga
CATEGORIES:Patchwork,Quilting
ATTACH;FMTTYPE=image/jpeg:https://letslearn.nz/wp-content/uploads/2016/09/Patchwork-Club-1.jpg
ORGANIZER;CN="Patchwork & Quilters Group":MAILTO:taurangaquilters@gmail.com
END:VEVENT
BEGIN:VEVENT
DTSTART;TZID=Pacific/Auckland:20280428T100000
DTEND;TZID=Pacific/Auckland:20280428T150000
DTSTAMP:20260424T225110
CREATED:20230211T090516Z
LAST-MODIFIED:20250820T224031Z
UID:10035338-1840528800-1840546800@letslearn.nz
SUMMARY:Tauranga Patchwork & Quilters Group
DESCRIPTION:Members of the group meet at the Art and Craft Centre \, 177 Elizabeth Street\, Tauranga \nVisitors welcome.\nMeets:-\nSecond & Fourth Fridays; 10am – 3pm\nFacebook link \nFor more information contact: \nEmail: taurangaquilters@gmail.com
URL:https://letslearn.nz/event/tauranga-patchwork-quilters-group-2-2/2028-04-28/
LOCATION:Art and Craft Centre \, 177 Elizabeth Street\, Tauranga
CATEGORIES:Patchwork,Quilting
ATTACH;FMTTYPE=image/jpeg:https://letslearn.nz/wp-content/uploads/2016/09/Patchwork-Club-1.jpg
ORGANIZER;CN="Patchwork & Quilters Group":MAILTO:taurangaquilters@gmail.com
END:VEVENT
BEGIN:VEVENT
DTSTART;TZID=Pacific/Auckland:20280526T100000
DTEND;TZID=Pacific/Auckland:20280526T150000
DTSTAMP:20260424T225110
CREATED:20230211T090516Z
LAST-MODIFIED:20250820T224031Z
UID:10035339-1842948000-1842966000@letslearn.nz
SUMMARY:Tauranga Patchwork & Quilters Group
DESCRIPTION:Members of the group meet at the Art and Craft Centre \, 177 Elizabeth Street\, Tauranga \nVisitors welcome.\nMeets:-\nSecond & Fourth Fridays; 10am – 3pm\nFacebook link \nFor more information contact: \nEmail: taurangaquilters@gmail.com
URL:https://letslearn.nz/event/tauranga-patchwork-quilters-group-2-2/2028-05-26/
LOCATION:Art and Craft Centre \, 177 Elizabeth Street\, Tauranga
CATEGORIES:Patchwork,Quilting
ATTACH;FMTTYPE=image/jpeg:https://letslearn.nz/wp-content/uploads/2016/09/Patchwork-Club-1.jpg
ORGANIZER;CN="Patchwork & Quilters Group":MAILTO:taurangaquilters@gmail.com
END:VEVENT
BEGIN:VEVENT
DTSTART;TZID=Pacific/Auckland:20280623T100000
DTEND;TZID=Pacific/Auckland:20280623T150000
DTSTAMP:20260424T225110
CREATED:20230211T090516Z
LAST-MODIFIED:20250820T224031Z
UID:10035340-1845367200-1845385200@letslearn.nz
SUMMARY:Tauranga Patchwork & Quilters Group
DESCRIPTION:Members of the group meet at the Art and Craft Centre \, 177 Elizabeth Street\, Tauranga \nVisitors welcome.\nMeets:-\nSecond & Fourth Fridays; 10am – 3pm\nFacebook link \nFor more information contact: \nEmail: taurangaquilters@gmail.com
URL:https://letslearn.nz/event/tauranga-patchwork-quilters-group-2-2/2028-06-23/
LOCATION:Art and Craft Centre \, 177 Elizabeth Street\, Tauranga
CATEGORIES:Patchwork,Quilting
ATTACH;FMTTYPE=image/jpeg:https://letslearn.nz/wp-content/uploads/2016/09/Patchwork-Club-1.jpg
ORGANIZER;CN="Patchwork & Quilters Group":MAILTO:taurangaquilters@gmail.com
END:VEVENT
BEGIN:VEVENT
DTSTART;TZID=Pacific/Auckland:20280728T100000
DTEND;TZID=Pacific/Auckland:20280728T150000
DTSTAMP:20260424T225110
CREATED:20230211T090516Z
LAST-MODIFIED:20250820T224031Z
UID:10035341-1848391200-1848409200@letslearn.nz
SUMMARY:Tauranga Patchwork & Quilters Group
DESCRIPTION:Members of the group meet at the Art and Craft Centre \, 177 Elizabeth Street\, Tauranga \nVisitors welcome.\nMeets:-\nSecond & Fourth Fridays; 10am – 3pm\nFacebook link \nFor more information contact: \nEmail: taurangaquilters@gmail.com
URL:https://letslearn.nz/event/tauranga-patchwork-quilters-group-2-2/2028-07-28/
LOCATION:Art and Craft Centre \, 177 Elizabeth Street\, Tauranga
CATEGORIES:Patchwork,Quilting
ATTACH;FMTTYPE=image/jpeg:https://letslearn.nz/wp-content/uploads/2016/09/Patchwork-Club-1.jpg
ORGANIZER;CN="Patchwork & Quilters Group":MAILTO:taurangaquilters@gmail.com
END:VEVENT
BEGIN:VEVENT
DTSTART;TZID=Pacific/Auckland:20280825T100000
DTEND;TZID=Pacific/Auckland:20280825T150000
DTSTAMP:20260424T225110
CREATED:20230211T090516Z
LAST-MODIFIED:20250820T224031Z
UID:10035342-1850810400-1850828400@letslearn.nz
SUMMARY:Tauranga Patchwork & Quilters Group
DESCRIPTION:Members of the group meet at the Art and Craft Centre \, 177 Elizabeth Street\, Tauranga \nVisitors welcome.\nMeets:-\nSecond & Fourth Fridays; 10am – 3pm\nFacebook link \nFor more information contact: \nEmail: taurangaquilters@gmail.com
URL:https://letslearn.nz/event/tauranga-patchwork-quilters-group-2-2/2028-08-25/
LOCATION:Art and Craft Centre \, 177 Elizabeth Street\, Tauranga
CATEGORIES:Patchwork,Quilting
ATTACH;FMTTYPE=image/jpeg:https://letslearn.nz/wp-content/uploads/2016/09/Patchwork-Club-1.jpg
ORGANIZER;CN="Patchwork & Quilters Group":MAILTO:taurangaquilters@gmail.com
END:VEVENT
BEGIN:VEVENT
DTSTART;TZID=Pacific/Auckland:20280922T100000
DTEND;TZID=Pacific/Auckland:20280922T150000
DTSTAMP:20260424T225110
CREATED:20230211T090516Z
LAST-MODIFIED:20250820T224031Z
UID:10035343-1853229600-1853247600@letslearn.nz
SUMMARY:Tauranga Patchwork & Quilters Group
DESCRIPTION:Members of the group meet at the Art and Craft Centre \, 177 Elizabeth Street\, Tauranga \nVisitors welcome.\nMeets:-\nSecond & Fourth Fridays; 10am – 3pm\nFacebook link \nFor more information contact: \nEmail: taurangaquilters@gmail.com
URL:https://letslearn.nz/event/tauranga-patchwork-quilters-group-2-2/2028-09-22/
LOCATION:Art and Craft Centre \, 177 Elizabeth Street\, Tauranga
CATEGORIES:Patchwork,Quilting
ATTACH;FMTTYPE=image/jpeg:https://letslearn.nz/wp-content/uploads/2016/09/Patchwork-Club-1.jpg
ORGANIZER;CN="Patchwork & Quilters Group":MAILTO:taurangaquilters@gmail.com
END:VEVENT
BEGIN:VEVENT
DTSTART;TZID=Pacific/Auckland:20281027T100000
DTEND;TZID=Pacific/Auckland:20281027T150000
DTSTAMP:20260424T225110
CREATED:20230211T090516Z
LAST-MODIFIED:20250820T224031Z
UID:10035344-1856253600-1856271600@letslearn.nz
SUMMARY:Tauranga Patchwork & Quilters Group
DESCRIPTION:Members of the group meet at the Art and Craft Centre \, 177 Elizabeth Street\, Tauranga \nVisitors welcome.\nMeets:-\nSecond & Fourth Fridays; 10am – 3pm\nFacebook link \nFor more information contact: \nEmail: taurangaquilters@gmail.com
URL:https://letslearn.nz/event/tauranga-patchwork-quilters-group-2-2/2028-10-27/
LOCATION:Art and Craft Centre \, 177 Elizabeth Street\, Tauranga
CATEGORIES:Patchwork,Quilting
ATTACH;FMTTYPE=image/jpeg:https://letslearn.nz/wp-content/uploads/2016/09/Patchwork-Club-1.jpg
ORGANIZER;CN="Patchwork & Quilters Group":MAILTO:taurangaquilters@gmail.com
END:VEVENT
END:VCALENDAR