BEGIN:VCALENDAR
VERSION:2.0
PRODID:-//Let&#039;s Learn - ECPv6.15.14//NONSGML v1.0//EN
CALSCALE:GREGORIAN
METHOD:PUBLISH
X-WR-CALNAME:Let&#039;s Learn
X-ORIGINAL-URL:https://letslearn.nz
X-WR-CALDESC:Events for Let&#039;s Learn
REFRESH-INTERVAL;VALUE=DURATION:PT1H
X-Robots-Tag:noindex
X-PUBLISHED-TTL:PT1H
BEGIN:VTIMEZONE
TZID:Pacific/Auckland
BEGIN:STANDARD
TZOFFSETFROM:+1300
TZOFFSETTO:+1200
TZNAME:NZST
DTSTART:20190406T140000
END:STANDARD
BEGIN:DAYLIGHT
TZOFFSETFROM:+1200
TZOFFSETTO:+1300
TZNAME:NZDT
DTSTART:20190928T140000
END:DAYLIGHT
BEGIN:STANDARD
TZOFFSETFROM:+1300
TZOFFSETTO:+1200
TZNAME:NZST
DTSTART:20200404T140000
END:STANDARD
BEGIN:DAYLIGHT
TZOFFSETFROM:+1200
TZOFFSETTO:+1300
TZNAME:NZDT
DTSTART:20200926T140000
END:DAYLIGHT
BEGIN:STANDARD
TZOFFSETFROM:+1300
TZOFFSETTO:+1200
TZNAME:NZST
DTSTART:20210403T140000
END:STANDARD
BEGIN:DAYLIGHT
TZOFFSETFROM:+1200
TZOFFSETTO:+1300
TZNAME:NZDT
DTSTART:20210925T140000
END:DAYLIGHT
BEGIN:STANDARD
TZOFFSETFROM:+1300
TZOFFSETTO:+1200
TZNAME:NZST
DTSTART:20220402T140000
END:STANDARD
BEGIN:DAYLIGHT
TZOFFSETFROM:+1200
TZOFFSETTO:+1300
TZNAME:NZDT
DTSTART:20220924T140000
END:DAYLIGHT
END:VTIMEZONE
BEGIN:VEVENT
DTSTART;TZID=Pacific/Auckland:20210704T100000
DTEND;TZID=Pacific/Auckland:20210704T160000
DTSTAMP:20260420T202922
CREATED:20210226T145853Z
LAST-MODIFIED:20211109T215400Z
UID:10003682-1625392800-1625414400@letslearn.nz
SUMMARY:Painting Happiness 1-day Experience
DESCRIPTION:Join me for a day of artistic play\, where you’ll let go of the outside world and discover the life you long to live. \n\n\nThrough creative play and guided meditation\, you’ll shift from your logical ‘to do list’ mindset\, to your love based creative mindset. I’ll guide you to paint your own mandala\, a visual representation of your universe with you at the centre. As you sink into the joy of simply creating\, you’ll infuse the canvas with all your positive energy\, hopes and dreams. \n\n\nThe only rule in this free-flowing workshop is that there are no right or wrong. I’ll be there to gently support you in exploring your innate creativity\, while playfully kicking perfectionism and comparison to the kerb. \n\nPainting Happiness is about you and the canvas\, loads of glorious colour\, permission to play and a whole lot of belly laughs in the company of like-minded women. Come join us and discover the inner world you never knew existed.\n\nWhen: Sunday 4th July 2021  10am – 4pm\nWhere: The Artery\, Historic Village\, Tauranga\nCost: $180\n\nClick here for more info or to book and take advantage of my easy payment plan of 4 fortnightly payments of $45.00\nhttps://angela-murray.com/painting-happiness-experience/
URL:https://letslearn.nz/event/painting-happiness-1-day-experience/
LOCATION:The Artery\, Historic Village\, 17th Ave West\, Tauranga
CATEGORIES:Painting
ATTACH;FMTTYPE=image/png:https://letslearn.nz/wp-content/uploads/2021/02/Art-Artery-Painting-Happiness.png
ORGANIZER;CN="Angela Murray":MAILTO:angela@angela-murray.com
END:VEVENT
BEGIN:VEVENT
DTSTART;TZID=Pacific/Auckland:20201004T133000
DTEND;TZID=Pacific/Auckland:20201004T163000
DTSTAMP:20260420T202922
CREATED:20200917T075328Z
LAST-MODIFIED:20200917T075440Z
UID:10004416-1601818200-1601829000@letslearn.nz
SUMMARY:Paint Your Inner Badass Workshop with Angela Murray
DESCRIPTION:This is an opportunity to take time out from your obligations and commitments to connect with your inner creative\, strong\, courageous badass self.  \nThis is a workshop Angela has reinvented and she is bringing it to Tauranga!    It is a gentle but FUN process of uncovering your inner goddess combining meditation\, journaling and paint.  \nYou deserve this YOU time to create a daily reminder of who your inner badass really is\, among women who would just love\, love\, love to meet her too. And the best bit … you don’t need any creative skills to do this! It’s not about creating a masterpiece it’s about uncovering the masterpiece you already are. \n\n\nTutor: Angela Murray \nDate: Sunday 4th October \nTime: 1.30pm – 4.30pm. \nCost: $125 (early bird discount to $111) \nAll Materials Supplied \nFor bookings or any questions please contact Angela directly: angela@angela-murray.com .\nWear an apron or old tee shirt.  Tea and coffee are supplied\, a café is a few doors down the road. \nAngela is a creative life coach and her passion is to guide women back to their creative selves.  https://www.angela-murray.com.
URL:https://letslearn.nz/event/paint-your-inner-badass-workshop-with-angela-murray/
LOCATION:The Artery\, Historic Village\, 17th Ave West\, Tauranga
CATEGORIES:Arts
ATTACH;FMTTYPE=image/jpeg:https://letslearn.nz/wp-content/uploads/2020/09/Art-Artery-Angela-Murray-Badass-3.jpg
ORGANIZER;CN="Angela Murray":MAILTO:angela@angela-murray.com
END:VEVENT
END:VCALENDAR