BEGIN:VCALENDAR
VERSION:2.0
PRODID:-//Let&#039;s Learn - ECPv6.15.14//NONSGML v1.0//EN
CALSCALE:GREGORIAN
METHOD:PUBLISH
X-ORIGINAL-URL:https://letslearn.nz
X-WR-CALDESC:Events for Let&#039;s Learn
REFRESH-INTERVAL;VALUE=DURATION:PT1H
X-Robots-Tag:noindex
X-PUBLISHED-TTL:PT1H
BEGIN:VTIMEZONE
TZID:Pacific/Auckland
BEGIN:STANDARD
TZOFFSETFROM:+1300
TZOFFSETTO:+1200
TZNAME:NZST
DTSTART:20220402T140000
END:STANDARD
BEGIN:DAYLIGHT
TZOFFSETFROM:+1200
TZOFFSETTO:+1300
TZNAME:NZDT
DTSTART:20220924T140000
END:DAYLIGHT
BEGIN:STANDARD
TZOFFSETFROM:+1300
TZOFFSETTO:+1200
TZNAME:NZST
DTSTART:20230401T140000
END:STANDARD
BEGIN:DAYLIGHT
TZOFFSETFROM:+1200
TZOFFSETTO:+1300
TZNAME:NZDT
DTSTART:20230923T140000
END:DAYLIGHT
BEGIN:STANDARD
TZOFFSETFROM:+1300
TZOFFSETTO:+1200
TZNAME:NZST
DTSTART:20240406T140000
END:STANDARD
BEGIN:DAYLIGHT
TZOFFSETFROM:+1200
TZOFFSETTO:+1300
TZNAME:NZDT
DTSTART:20240928T140000
END:DAYLIGHT
BEGIN:STANDARD
TZOFFSETFROM:+1300
TZOFFSETTO:+1200
TZNAME:NZST
DTSTART:20250405T140000
END:STANDARD
BEGIN:DAYLIGHT
TZOFFSETFROM:+1200
TZOFFSETTO:+1300
TZNAME:NZDT
DTSTART:20250927T140000
END:DAYLIGHT
BEGIN:STANDARD
TZOFFSETFROM:+1300
TZOFFSETTO:+1200
TZNAME:NZST
DTSTART:20260404T140000
END:STANDARD
BEGIN:DAYLIGHT
TZOFFSETFROM:+1200
TZOFFSETTO:+1300
TZNAME:NZDT
DTSTART:20260926T140000
END:DAYLIGHT
BEGIN:STANDARD
TZOFFSETFROM:+1300
TZOFFSETTO:+1200
TZNAME:NZST
DTSTART:20270403T140000
END:STANDARD
BEGIN:DAYLIGHT
TZOFFSETFROM:+1200
TZOFFSETTO:+1300
TZNAME:NZDT
DTSTART:20270925T140000
END:DAYLIGHT
END:VTIMEZONE
BEGIN:VEVENT
DTSTART;TZID=Pacific/Auckland:20260424T180000
DTEND;TZID=Pacific/Auckland:20260424T210000
DTSTAMP:20260425T072720
CREATED:20251210T105654Z
LAST-MODIFIED:20251210T110119Z
UID:10037152-1777053600-1777064400@letslearn.nz
SUMMARY:Painting Night Watercolours with Audrey Dubois
DESCRIPTION:French artist Audrey Dubois holds painting workshops each month. \nPainting Night\nDay: Every third Friday of the month\nTime: From 6.00 to 9.00 pm.\nVenue:  13E Sagewood Road\, Whakamaramara\, Tauranga \nPainting Night Watercolours– Friday\, 23rd January 2026\nWould you love to be an artist ? This is your opportunity ! \nCreate a beautiful watercolour painting amongst a small group of like-minded people. Spread the word.  Audrey has a few models : flowers\, animals\, landscape\, abstract design… \nPrice : 70$ pp\nMore info:\nPhone:  0225021671 – Audrey Dubois\nEmail: audrey.duboisnz@gmail.com \nENROL HERE \nComing up in 2026: TBA
URL:https://letslearn.nz/event/painting-night-with-audrey-dubois-2-2/2026-04-24/
LOCATION:Audrey’s Atelier\, 13 E Sagewood Rd\, Whakamaramara\, Tauranga
CATEGORIES:Acrylic Painting,All mediums,Pastels,Watercolours
ATTACH;FMTTYPE=image/jpeg:https://letslearn.nz/wp-content/uploads/2022/06/Art-Audrey-Watercolour-4.jpg
ORGANIZER;CN="Audrey Dubois":MAILTO:audrey.duboisnz@gmail.com
END:VEVENT
BEGIN:VEVENT
DTSTART;TZID=Pacific/Auckland:20260327T180000
DTEND;TZID=Pacific/Auckland:20260327T210000
DTSTAMP:20260425T072720
CREATED:20251210T105654Z
LAST-MODIFIED:20251210T110119Z
UID:10037151-1774634400-1774645200@letslearn.nz
SUMMARY:Painting Night Watercolours with Audrey Dubois
DESCRIPTION:French artist Audrey Dubois holds painting workshops each month. \nPainting Night\nDay: Every third Friday of the month\nTime: From 6.00 to 9.00 pm.\nVenue:  13E Sagewood Road\, Whakamaramara\, Tauranga \nPainting Night Watercolours– Friday\, 23rd January 2026\nWould you love to be an artist ? This is your opportunity ! \nCreate a beautiful watercolour painting amongst a small group of like-minded people. Spread the word.  Audrey has a few models : flowers\, animals\, landscape\, abstract design… \nPrice : 70$ pp\nMore info:\nPhone:  0225021671 – Audrey Dubois\nEmail: audrey.duboisnz@gmail.com \nENROL HERE \nComing up in 2026: TBA
URL:https://letslearn.nz/event/painting-night-with-audrey-dubois-2-2/2026-03-27/
LOCATION:Audrey’s Atelier\, 13 E Sagewood Rd\, Whakamaramara\, Tauranga
CATEGORIES:Acrylic Painting,All mediums,Pastels,Watercolours
ATTACH;FMTTYPE=image/jpeg:https://letslearn.nz/wp-content/uploads/2022/06/Art-Audrey-Watercolour-4.jpg
ORGANIZER;CN="Audrey Dubois":MAILTO:audrey.duboisnz@gmail.com
END:VEVENT
BEGIN:VEVENT
DTSTART;TZID=Pacific/Auckland:20260227T180000
DTEND;TZID=Pacific/Auckland:20260227T210000
DTSTAMP:20260425T072720
CREATED:20251210T105654Z
LAST-MODIFIED:20251210T110119Z
UID:10037150-1772215200-1772226000@letslearn.nz
SUMMARY:Painting Night Watercolours with Audrey Dubois
DESCRIPTION:French artist Audrey Dubois holds painting workshops each month. \nPainting Night\nDay: Every third Friday of the month\nTime: From 6.00 to 9.00 pm.\nVenue:  13E Sagewood Road\, Whakamaramara\, Tauranga \nPainting Night Watercolours– Friday\, 23rd January 2026\nWould you love to be an artist ? This is your opportunity ! \nCreate a beautiful watercolour painting amongst a small group of like-minded people. Spread the word.  Audrey has a few models : flowers\, animals\, landscape\, abstract design… \nPrice : 70$ pp\nMore info:\nPhone:  0225021671 – Audrey Dubois\nEmail: audrey.duboisnz@gmail.com \nENROL HERE \nComing up in 2026: TBA
URL:https://letslearn.nz/event/painting-night-with-audrey-dubois-2-2/2026-02-27/
LOCATION:Audrey’s Atelier\, 13 E Sagewood Rd\, Whakamaramara\, Tauranga
CATEGORIES:Acrylic Painting,All mediums,Pastels,Watercolours
ATTACH;FMTTYPE=image/jpeg:https://letslearn.nz/wp-content/uploads/2022/06/Art-Audrey-Watercolour-4.jpg
ORGANIZER;CN="Audrey Dubois":MAILTO:audrey.duboisnz@gmail.com
END:VEVENT
BEGIN:VEVENT
DTSTART;TZID=Pacific/Auckland:20260123T180000
DTEND;TZID=Pacific/Auckland:20260123T210000
DTSTAMP:20260425T072720
CREATED:20251210T105654Z
LAST-MODIFIED:20251210T110119Z
UID:10037149-1769191200-1769202000@letslearn.nz
SUMMARY:Painting Night Watercolours with Audrey Dubois
DESCRIPTION:French artist Audrey Dubois holds painting workshops each month. \nPainting Night\nDay: Every third Friday of the month\nTime: From 6.00 to 9.00 pm.\nVenue:  13E Sagewood Road\, Whakamaramara\, Tauranga \nPainting Night Watercolours– Friday\, 23rd January 2026\nWould you love to be an artist ? This is your opportunity ! \nCreate a beautiful watercolour painting amongst a small group of like-minded people. Spread the word.  Audrey has a few models : flowers\, animals\, landscape\, abstract design… \nPrice : 70$ pp\nMore info:\nPhone:  0225021671 – Audrey Dubois\nEmail: audrey.duboisnz@gmail.com \nENROL HERE \nComing up in 2026: TBA
URL:https://letslearn.nz/event/painting-night-with-audrey-dubois-2-2/2026-01-23/
LOCATION:Audrey’s Atelier\, 13 E Sagewood Rd\, Whakamaramara\, Tauranga
CATEGORIES:Acrylic Painting,All mediums,Pastels,Watercolours
ATTACH;FMTTYPE=image/jpeg:https://letslearn.nz/wp-content/uploads/2022/06/Art-Audrey-Watercolour-4.jpg
ORGANIZER;CN="Audrey Dubois":MAILTO:audrey.duboisnz@gmail.com
END:VEVENT
BEGIN:VEVENT
DTSTART;TZID=Pacific/Auckland:20230317T180000
DTEND;TZID=Pacific/Auckland:20230317T210000
DTSTAMP:20260425T072720
CREATED:20230314T212721Z
LAST-MODIFIED:20230314T213108Z
UID:10006480-1679076000-1679086800@letslearn.nz
SUMMARY:Painting Night with Audrey Dubois
DESCRIPTION:Here are the details about the next painting night\, this Friday \nTopic : Animals with palette knives and acrylic paint. \nDate: Friday 17th  March\nTime : 6.00-9.00pm\nVenue: Audet’s Atelier\, 13E Sagewood Road\,  Whakamarama\, Tauranga \nPrice : 70$ pp \nAs usual\, you can book online if you are interested in it ! \nwww.week-end-a-la-mer.com \n 
URL:https://letslearn.nz/event/painting-night-with-audrey-dubois/
LOCATION:Audrey’s Atelier\, 13 E Sagewood Rd\, Whakamaramara\, Tauranga
CATEGORIES:Acrylic Painting,Animals
ATTACH;FMTTYPE=image/jpeg:https://letslearn.nz/wp-content/uploads/2023/03/Art-Audrey-Animals-Palette.jpg
ORGANIZER;CN="Audrey Dubois":MAILTO:audrey.duboisnz@gmail.com
END:VEVENT
END:VCALENDAR