BEGIN:VCALENDAR
VERSION:2.0
PRODID:-//Let&#039;s Learn - ECPv6.15.14//NONSGML v1.0//EN
CALSCALE:GREGORIAN
METHOD:PUBLISH
X-ORIGINAL-URL:https://letslearn.nz
X-WR-CALDESC:Events for Let&#039;s Learn
REFRESH-INTERVAL;VALUE=DURATION:PT1H
X-Robots-Tag:noindex
X-PUBLISHED-TTL:PT1H
BEGIN:VTIMEZONE
TZID:Pacific/Auckland
BEGIN:STANDARD
TZOFFSETFROM:+1300
TZOFFSETTO:+1200
TZNAME:NZST
DTSTART:20200404T140000
END:STANDARD
BEGIN:DAYLIGHT
TZOFFSETFROM:+1200
TZOFFSETTO:+1300
TZNAME:NZDT
DTSTART:20200926T140000
END:DAYLIGHT
BEGIN:STANDARD
TZOFFSETFROM:+1300
TZOFFSETTO:+1200
TZNAME:NZST
DTSTART:20210403T140000
END:STANDARD
BEGIN:DAYLIGHT
TZOFFSETFROM:+1200
TZOFFSETTO:+1300
TZNAME:NZDT
DTSTART:20210925T140000
END:DAYLIGHT
BEGIN:STANDARD
TZOFFSETFROM:+1300
TZOFFSETTO:+1200
TZNAME:NZST
DTSTART:20220402T140000
END:STANDARD
BEGIN:DAYLIGHT
TZOFFSETFROM:+1200
TZOFFSETTO:+1300
TZNAME:NZDT
DTSTART:20220924T140000
END:DAYLIGHT
END:VTIMEZONE
BEGIN:VEVENT
DTSTART;TZID=Pacific/Auckland:20210425T080000
DTEND;TZID=Pacific/Auckland:20210425T170000
DTSTAMP:20260424T013552
CREATED:20210403T154329Z
LAST-MODIFIED:20210418T123245Z
UID:10004824-1619337600-1619370000@letslearn.nz
SUMMARY:Introduction to Ceramics at Bethlehem Pottery
DESCRIPTION:Introductory and intermediate hand building classes are held throughout the year to give newcomers an understanding of the basic pottery techniques. The classes are very popular so you may have to go on a waiting list. We also offer specialty / technique classes such as wheel throwing throughout the year. \nFind out more  information  here
URL:https://letslearn.nz/event/introduction-to-ceramics-at-bethlehem-pottery/
LOCATION:Bethlehem Pottery Club\, 13 Bethlehem Rd\, Bethlehem\, Tauranga
CATEGORIES:Crafts,Pottery
ATTACH;FMTTYPE=image/jpeg:https://letslearn.nz/wp-content/uploads/2021/04/Crafts-Bethlehem-Pottery.jpg
ORGANIZER;CN="Bethlehem Pottery Club":MAILTO:bethlehempotteryclub75@gmail.com
END:VEVENT
END:VCALENDAR