BEGIN:VCALENDAR
VERSION:2.0
PRODID:-//Let&#039;s Learn - ECPv6.15.14//NONSGML v1.0//EN
CALSCALE:GREGORIAN
METHOD:PUBLISH
X-WR-CALNAME:Let&#039;s Learn
X-ORIGINAL-URL:https://letslearn.nz
X-WR-CALDESC:Events for Let&#039;s Learn
REFRESH-INTERVAL;VALUE=DURATION:PT1H
X-Robots-Tag:noindex
X-PUBLISHED-TTL:PT1H
BEGIN:VTIMEZONE
TZID:Pacific/Auckland
BEGIN:STANDARD
TZOFFSETFROM:+1300
TZOFFSETTO:+1200
TZNAME:NZST
DTSTART:20190406T140000
END:STANDARD
BEGIN:DAYLIGHT
TZOFFSETFROM:+1200
TZOFFSETTO:+1300
TZNAME:NZDT
DTSTART:20190928T140000
END:DAYLIGHT
BEGIN:STANDARD
TZOFFSETFROM:+1300
TZOFFSETTO:+1200
TZNAME:NZST
DTSTART:20200404T140000
END:STANDARD
BEGIN:DAYLIGHT
TZOFFSETFROM:+1200
TZOFFSETTO:+1300
TZNAME:NZDT
DTSTART:20200926T140000
END:DAYLIGHT
BEGIN:STANDARD
TZOFFSETFROM:+1300
TZOFFSETTO:+1200
TZNAME:NZST
DTSTART:20210403T140000
END:STANDARD
BEGIN:DAYLIGHT
TZOFFSETFROM:+1200
TZOFFSETTO:+1300
TZNAME:NZDT
DTSTART:20210925T140000
END:DAYLIGHT
END:VTIMEZONE
BEGIN:VEVENT
DTSTART;TZID=Pacific/Auckland:20200408T193000
DTEND;TZID=Pacific/Auckland:20200408T203000
DTSTAMP:20260424T212319
CREATED:20200402T134742Z
LAST-MODIFIED:20200402T134743Z
UID:10004335-1586374200-1586377800@letslearn.nz
SUMMARY:Film Bay of Plenty Online Networking Night
DESCRIPTION:Lets merge our bubbles with an Film Bay of Plenty online networking night. We will have a Q &A with Film Bay of Plenty CEO Anton Steel\, discussions on what funding has become available to start content creation and time to discuss different creative ideas. Its a perfect time to enjoy your bubble and achieve those creative goals! \nTime 7.30pm\nDate: 8th April 2020\nWhere: Online Zoom Meeting \nJoin the Meeting:\nhttps://us04web.zoom.us/j/384474284?pwd=M1RZT2txTitzcjBQaVFQSno3YlR4dz09 \nMeeting ID: 384 474 284\nPassword: 014989 \nAny info required please contact Jannine on jannine@filmbayofplenty.com \nMomentum is growing so if you want to join a community of like- minded creative filmmakers \, join us.
URL:https://letslearn.nz/event/film-bay-of-plenty-online-networking-night/
LOCATION:On Line
CATEGORIES:Film
ATTACH;FMTTYPE=image/jpeg:https://letslearn.nz/wp-content/uploads/2020/04/Film-Bay-of-plenty-April-2020.jpg
ORGANIZER;CN="BOP Film":MAILTO:info@bopfilm.nz
END:VEVENT
END:VCALENDAR