BEGIN:VCALENDAR
VERSION:2.0
PRODID:-//Let&#039;s Learn - ECPv6.15.14//NONSGML v1.0//EN
CALSCALE:GREGORIAN
METHOD:PUBLISH
X-WR-CALNAME:Let&#039;s Learn
X-ORIGINAL-URL:https://letslearn.nz
X-WR-CALDESC:Events for Let&#039;s Learn
REFRESH-INTERVAL;VALUE=DURATION:PT1H
X-Robots-Tag:noindex
X-PUBLISHED-TTL:PT1H
BEGIN:VTIMEZONE
TZID:Pacific/Auckland
BEGIN:STANDARD
TZOFFSETFROM:+1300
TZOFFSETTO:+1200
TZNAME:NZST
DTSTART:20190406T140000
END:STANDARD
BEGIN:DAYLIGHT
TZOFFSETFROM:+1200
TZOFFSETTO:+1300
TZNAME:NZDT
DTSTART:20190928T140000
END:DAYLIGHT
BEGIN:STANDARD
TZOFFSETFROM:+1300
TZOFFSETTO:+1200
TZNAME:NZST
DTSTART:20200404T140000
END:STANDARD
BEGIN:DAYLIGHT
TZOFFSETFROM:+1200
TZOFFSETTO:+1300
TZNAME:NZDT
DTSTART:20200926T140000
END:DAYLIGHT
BEGIN:STANDARD
TZOFFSETFROM:+1300
TZOFFSETTO:+1200
TZNAME:NZST
DTSTART:20210403T140000
END:STANDARD
BEGIN:DAYLIGHT
TZOFFSETFROM:+1200
TZOFFSETTO:+1300
TZNAME:NZDT
DTSTART:20210925T140000
END:DAYLIGHT
END:VTIMEZONE
BEGIN:VEVENT
DTSTART;TZID=Pacific/Auckland:20200805T190000
DTEND;TZID=Pacific/Auckland:20200805T200000
DTSTAMP:20260424T012242
CREATED:20200327T103733Z
LAST-MODIFIED:20200723T065736Z
UID:10004323-1596654000-1596657600@letslearn.nz
SUMMARY:Breast Cancer NZ Webinar: Decision-making in Advanced Breast Cancer
DESCRIPTION:Upcoming Webinar:\nDecision-making in advanced breast cancer (ABC) \nYou’re invited to register for our upcoming webinar\, Decision-making in ABC. \nFor those who have advanced breast cancer\, there are many decisions to make\, from treatment choices to finances to quality of life goals.  Our expert panel will discuss how to navigate the decision-making process to make the best choices for you and your family. \n​​Join us on Wednesday 5 August at 7pm​​ and get your questions ready for our experts. We hope you can share this with anyone who you think would benefit from attending this webinar. \nThe details \nWhen: Wednesday 5 August\nTime: 7-8pm\nDuration: 60 minutes\nWhere: Online – wherever you like!\nPresented by:\nBreast Cancer Foundation NZ \nIf you can’t view the ‘Register now’ button above\, please click here to register.
URL:https://letslearn.nz/event/webinar-eating-for-wellbeing/
CATEGORIES:Free,Health & Wellness
ATTACH;FMTTYPE=image/jpeg:https://letslearn.nz/wp-content/uploads/2020/03/Breast-Cancer.jpg
END:VEVENT
BEGIN:VEVENT
DTSTART;TZID=Pacific/Auckland:20200609T190000
DTEND;TZID=Pacific/Auckland:20200609T200000
DTSTAMP:20260424T012242
CREATED:20200605T013141Z
LAST-MODIFIED:20200605T015250Z
UID:10003232-1591729200-1591732800@letslearn.nz
SUMMARY:Hair today\, gone tomorrow: Free Webinar- Breast Cancer Foundation
DESCRIPTION:Don’t forget to register for our webinar on managing hair loss during breast cancer treatment! Join us on 9th June and get your questions ready! \nLosing your hair – on your head and your body – can be one of the hardest parts of cancer treatment to face. \nIn our free webinar\, our panel will look at ways you can prepare for the physical and emotional impact of hair loss and how to care for your hair during treatment and while it’s growing back. We’ll also take a look at the wig and headwear options that are available and scalp cooling to prevent hair loss during treatment. \nMeet our panel: \nKathryn Terry is a breast nurse at Breast Cancer Foundation NZ. She gives advice on how to prepare for hair loss\, scalp cooling and how to care for your hair during and after treatment. \nSuzanne Wolton\, the owner of Jessica’s Wig & Beauty Salon\, will share insights into wig and headwear options. \nNatasha Holland was diagnosed with HER2 positive breast cancer at 41. She shares her experience of losing her hair during treatment and growing it back.
URL:https://letslearn.nz/event/hair-today-gone-tomorrow-webinar-breast-cancer-foundation/
LOCATION:Webinar
CATEGORIES:Free,Health & Wellness
ATTACH;FMTTYPE=image/jpeg:https://letslearn.nz/wp-content/uploads/2020/06/Breast-Cancer-hair-Loss.jpg
END:VEVENT
BEGIN:VEVENT
DTSTART;TZID=Pacific/Auckland:20200330T163000
DTEND;TZID=Pacific/Auckland:20200330T173000
DTSTAMP:20260424T012242
CREATED:20200327T090427Z
LAST-MODIFIED:20200327T090642Z
UID:10004322-1585585800-1585589400@letslearn.nz
SUMMARY:Webinar: COVID-19 and Breast Cancer
DESCRIPTION:How does breast cancer and the treatment you’re having affect your COVID-19 risk? How might your treatment change over the coming months? What about mammograms\, and what do you do if you find a lump in your breast? \nWe’ll answer frequently asked questions from our community on what COVID-19 means for those with breast cancer. \nWe will be joined by radiologist Monica Saini and Natalie James\, lead nurse at Breast Cancer Foundation NZ. \nJoin us on 30th March at 4:30pm!  : COVID-19 and breast cancer \nThe details \nWhen: Monday 30th March \nTime: 4:30-5:30pm \nDuration: 60 minutes \nWhere: Online – wherever you like! \nPresented by:\nBreast Cancer Foundation NZ
URL:https://letslearn.nz/event/webinar-covid-19-and-breast-cancer/
LOCATION:Webinar
CATEGORIES:Free,Health & Wellness
ATTACH;FMTTYPE=image/jpeg:https://letslearn.nz/wp-content/uploads/2020/03/Breast-Cancer.jpg
END:VEVENT
END:VCALENDAR