BEGIN:VCALENDAR
VERSION:2.0
PRODID:-//Let&#039;s Learn - ECPv6.15.14//NONSGML v1.0//EN
CALSCALE:GREGORIAN
METHOD:PUBLISH
X-ORIGINAL-URL:https://letslearn.nz
X-WR-CALDESC:Events for Let&#039;s Learn
REFRESH-INTERVAL;VALUE=DURATION:PT1H
X-Robots-Tag:noindex
X-PUBLISHED-TTL:PT1H
BEGIN:VTIMEZONE
TZID:Pacific/Auckland
BEGIN:STANDARD
TZOFFSETFROM:+1300
TZOFFSETTO:+1200
TZNAME:NZST
DTSTART:20180331T140000
END:STANDARD
BEGIN:DAYLIGHT
TZOFFSETFROM:+1200
TZOFFSETTO:+1300
TZNAME:NZDT
DTSTART:20180929T140000
END:DAYLIGHT
BEGIN:STANDARD
TZOFFSETFROM:+1300
TZOFFSETTO:+1200
TZNAME:NZST
DTSTART:20190406T140000
END:STANDARD
BEGIN:DAYLIGHT
TZOFFSETFROM:+1200
TZOFFSETTO:+1300
TZNAME:NZDT
DTSTART:20190928T140000
END:DAYLIGHT
BEGIN:STANDARD
TZOFFSETFROM:+1300
TZOFFSETTO:+1200
TZNAME:NZST
DTSTART:20200404T140000
END:STANDARD
BEGIN:DAYLIGHT
TZOFFSETFROM:+1200
TZOFFSETTO:+1300
TZNAME:NZDT
DTSTART:20200926T140000
END:DAYLIGHT
END:VTIMEZONE
BEGIN:VEVENT
DTSTART;TZID=Pacific/Auckland:20191114T173000
DTEND;TZID=Pacific/Auckland:20191114T193000
DTSTAMP:20260426T162743
CREATED:20191027T082628Z
LAST-MODIFIED:20191118T182739Z
UID:10002994-1573752600-1573759800@letslearn.nz
SUMMARY:Re-Think Pain Workshop
DESCRIPTION:Having trouble managing your pain?\nJoin Danyel Degenhardt at his RETHINK PAIN WORKSHOPS at Pou Whakaaro in 40 Te Tahi Street Whakatane every 2nd Thursday of the month between 5.30-7.30pm. \nDanyel Degenhardt is a physiotherapist with a passion for education\, and an expert in pain sciences and in the treatment of pain management\, so if you are struggling with your own pain management\, come along to this valuable workshop. \nTO BOOK INTO THIS WORKSHOP CONTACT DANYEL ON: 021 889 329 or email him: info@rethinkpainworkshop.com
URL:https://letslearn.nz/event/re-think-pain-workshop/
LOCATION:Pou Whakaaro\, 40 Te Tahi Street\, Whakatane
CATEGORIES:Health & Wellness
ORGANIZER;CN="Danyel Degenhardt":MAILTO:info@rethinkpainworkshop.com
END:VEVENT
END:VCALENDAR