BEGIN:VCALENDAR
VERSION:2.0
PRODID:-//Let&#039;s Learn - ECPv6.15.14//NONSGML v1.0//EN
CALSCALE:GREGORIAN
METHOD:PUBLISH
X-WR-CALNAME:Let&#039;s Learn
X-ORIGINAL-URL:https://letslearn.nz
X-WR-CALDESC:Events for Let&#039;s Learn
REFRESH-INTERVAL;VALUE=DURATION:PT1H
X-Robots-Tag:noindex
X-PUBLISHED-TTL:PT1H
BEGIN:VTIMEZONE
TZID:Pacific/Auckland
BEGIN:STANDARD
TZOFFSETFROM:+1300
TZOFFSETTO:+1200
TZNAME:NZST
DTSTART:20190406T140000
END:STANDARD
BEGIN:DAYLIGHT
TZOFFSETFROM:+1200
TZOFFSETTO:+1300
TZNAME:NZDT
DTSTART:20190928T140000
END:DAYLIGHT
BEGIN:STANDARD
TZOFFSETFROM:+1300
TZOFFSETTO:+1200
TZNAME:NZST
DTSTART:20200404T140000
END:STANDARD
BEGIN:DAYLIGHT
TZOFFSETFROM:+1200
TZOFFSETTO:+1300
TZNAME:NZDT
DTSTART:20200926T140000
END:DAYLIGHT
BEGIN:STANDARD
TZOFFSETFROM:+1300
TZOFFSETTO:+1200
TZNAME:NZST
DTSTART:20210403T140000
END:STANDARD
BEGIN:DAYLIGHT
TZOFFSETFROM:+1200
TZOFFSETTO:+1300
TZNAME:NZDT
DTSTART:20210925T140000
END:DAYLIGHT
END:VTIMEZONE
BEGIN:VEVENT
DTSTART;TZID=Pacific/Auckland:20200323T183000
DTEND;TZID=Pacific/Auckland:20200323T183000
DTSTAMP:20260421T002041
CREATED:20190821T025834Z
LAST-MODIFIED:20200316T195817Z
UID:10002915-1584988200-1584988200@letslearn.nz
SUMMARY:Greek Dancing
DESCRIPTION:“Lets Learn Greek Dance!\nJoin the Athena Dancers  6.30 pm at Gate Pa School\, 900 Cameron Road\, Tauranga. \nWe  meet in the staff car park at 6.30pm and go together to the school hall. All ages welcome. \nPhone Gabrielle: 021 2557380”
URL:https://letslearn.nz/event/greek-dancing/
LOCATION:Gate Pa School Hall\, 900 Cameron Rd\, Tauranga
CATEGORIES:Dance
ATTACH;FMTTYPE=image/jpeg:https://letslearn.nz/wp-content/uploads/2019/08/Greek-Dancers-2.jpg
ORGANIZER;CN="Gabrielle Johnston":MAILTO:gabemail2@gmail.com
END:VEVENT
END:VCALENDAR