BEGIN:VCALENDAR
VERSION:2.0
PRODID:-//Let&#039;s Learn - ECPv6.15.14//NONSGML v1.0//EN
CALSCALE:GREGORIAN
METHOD:PUBLISH
X-WR-CALNAME:Let&#039;s Learn
X-ORIGINAL-URL:https://letslearn.nz
X-WR-CALDESC:Events for Let&#039;s Learn
REFRESH-INTERVAL;VALUE=DURATION:PT1H
X-Robots-Tag:noindex
X-PUBLISHED-TTL:PT1H
BEGIN:VTIMEZONE
TZID:Pacific/Auckland
BEGIN:STANDARD
TZOFFSETFROM:+1300
TZOFFSETTO:+1200
TZNAME:NZST
DTSTART:20210403T140000
END:STANDARD
BEGIN:DAYLIGHT
TZOFFSETFROM:+1200
TZOFFSETTO:+1300
TZNAME:NZDT
DTSTART:20210925T140000
END:DAYLIGHT
BEGIN:STANDARD
TZOFFSETFROM:+1300
TZOFFSETTO:+1200
TZNAME:NZST
DTSTART:20220402T140000
END:STANDARD
BEGIN:DAYLIGHT
TZOFFSETFROM:+1200
TZOFFSETTO:+1300
TZNAME:NZDT
DTSTART:20220924T140000
END:DAYLIGHT
BEGIN:STANDARD
TZOFFSETFROM:+1300
TZOFFSETTO:+1200
TZNAME:NZST
DTSTART:20230401T140000
END:STANDARD
BEGIN:DAYLIGHT
TZOFFSETFROM:+1200
TZOFFSETTO:+1300
TZNAME:NZDT
DTSTART:20230923T140000
END:DAYLIGHT
END:VTIMEZONE
BEGIN:VEVENT
DTSTART;TZID=Pacific/Auckland:20221222T190000
DTEND;TZID=Pacific/Auckland:20221222T213000
DTSTAMP:20260420T121454
CREATED:20220204T005403Z
LAST-MODIFIED:20221011T204849Z
UID:10005091-1671735600-1671744600@letslearn.nz
SUMMARY:Katikati Concert Band
DESCRIPTION:All brass\, woodwind and percussion players of all ages and abilities are welcome. Whether you are getting back into playing after a long break from your instrument or mastering a new one\, you are welcome too. \nWhen: Thursdays 7pm\nWhere: Katikati Bowling Club\, 8 Park Rd\, Katikati \nFor more detail: \nPhone: 021 404 163 (Eryl) or 0212171780\nEmail: shropshiredoc@gmail.com
URL:https://letslearn.nz/event/katikati-concert-band/2022-12-22/
LOCATION:Katikati Bowling Club\, 8 Park Rd\, Katikati
CATEGORIES:Bands
ATTACH;FMTTYPE=image/jpeg:https://letslearn.nz/wp-content/uploads/2022/02/Music-Katikati-Band.jpg
ORGANIZER;CN="Katikati Concert Band":MAILTO:shropshiredoc@gmail.com
END:VEVENT
BEGIN:VEVENT
DTSTART;TZID=Pacific/Auckland:20221215T190000
DTEND;TZID=Pacific/Auckland:20221215T213000
DTSTAMP:20260420T121454
CREATED:20220204T005403Z
LAST-MODIFIED:20221011T204849Z
UID:10005090-1671130800-1671139800@letslearn.nz
SUMMARY:Katikati Concert Band
DESCRIPTION:All brass\, woodwind and percussion players of all ages and abilities are welcome. Whether you are getting back into playing after a long break from your instrument or mastering a new one\, you are welcome too. \nWhen: Thursdays 7pm\nWhere: Katikati Bowling Club\, 8 Park Rd\, Katikati \nFor more detail: \nPhone: 021 404 163 (Eryl) or 0212171780\nEmail: shropshiredoc@gmail.com
URL:https://letslearn.nz/event/katikati-concert-band/2022-12-15/
LOCATION:Katikati Bowling Club\, 8 Park Rd\, Katikati
CATEGORIES:Bands
ATTACH;FMTTYPE=image/jpeg:https://letslearn.nz/wp-content/uploads/2022/02/Music-Katikati-Band.jpg
ORGANIZER;CN="Katikati Concert Band":MAILTO:shropshiredoc@gmail.com
END:VEVENT
BEGIN:VEVENT
DTSTART;TZID=Pacific/Auckland:20221208T190000
DTEND;TZID=Pacific/Auckland:20221208T213000
DTSTAMP:20260420T121454
CREATED:20220204T005403Z
LAST-MODIFIED:20221011T204849Z
UID:10005089-1670526000-1670535000@letslearn.nz
SUMMARY:Katikati Concert Band
DESCRIPTION:All brass\, woodwind and percussion players of all ages and abilities are welcome. Whether you are getting back into playing after a long break from your instrument or mastering a new one\, you are welcome too. \nWhen: Thursdays 7pm\nWhere: Katikati Bowling Club\, 8 Park Rd\, Katikati \nFor more detail: \nPhone: 021 404 163 (Eryl) or 0212171780\nEmail: shropshiredoc@gmail.com
URL:https://letslearn.nz/event/katikati-concert-band/2022-12-08/
LOCATION:Katikati Bowling Club\, 8 Park Rd\, Katikati
CATEGORIES:Bands
ATTACH;FMTTYPE=image/jpeg:https://letslearn.nz/wp-content/uploads/2022/02/Music-Katikati-Band.jpg
ORGANIZER;CN="Katikati Concert Band":MAILTO:shropshiredoc@gmail.com
END:VEVENT
BEGIN:VEVENT
DTSTART;TZID=Pacific/Auckland:20221201T190000
DTEND;TZID=Pacific/Auckland:20221201T213000
DTSTAMP:20260420T121454
CREATED:20220204T005403Z
LAST-MODIFIED:20221011T204849Z
UID:10005088-1669921200-1669930200@letslearn.nz
SUMMARY:Katikati Concert Band
DESCRIPTION:All brass\, woodwind and percussion players of all ages and abilities are welcome. Whether you are getting back into playing after a long break from your instrument or mastering a new one\, you are welcome too. \nWhen: Thursdays 7pm\nWhere: Katikati Bowling Club\, 8 Park Rd\, Katikati \nFor more detail: \nPhone: 021 404 163 (Eryl) or 0212171780\nEmail: shropshiredoc@gmail.com
URL:https://letslearn.nz/event/katikati-concert-band/2022-12-01/
LOCATION:Katikati Bowling Club\, 8 Park Rd\, Katikati
CATEGORIES:Bands
ATTACH;FMTTYPE=image/jpeg:https://letslearn.nz/wp-content/uploads/2022/02/Music-Katikati-Band.jpg
ORGANIZER;CN="Katikati Concert Band":MAILTO:shropshiredoc@gmail.com
END:VEVENT
BEGIN:VEVENT
DTSTART;TZID=Pacific/Auckland:20221124T190000
DTEND;TZID=Pacific/Auckland:20221124T213000
DTSTAMP:20260420T121454
CREATED:20220204T005403Z
LAST-MODIFIED:20221011T204849Z
UID:10005087-1669316400-1669325400@letslearn.nz
SUMMARY:Katikati Concert Band
DESCRIPTION:All brass\, woodwind and percussion players of all ages and abilities are welcome. Whether you are getting back into playing after a long break from your instrument or mastering a new one\, you are welcome too. \nWhen: Thursdays 7pm\nWhere: Katikati Bowling Club\, 8 Park Rd\, Katikati \nFor more detail: \nPhone: 021 404 163 (Eryl) or 0212171780\nEmail: shropshiredoc@gmail.com
URL:https://letslearn.nz/event/katikati-concert-band/2022-11-24/
LOCATION:Katikati Bowling Club\, 8 Park Rd\, Katikati
CATEGORIES:Bands
ATTACH;FMTTYPE=image/jpeg:https://letslearn.nz/wp-content/uploads/2022/02/Music-Katikati-Band.jpg
ORGANIZER;CN="Katikati Concert Band":MAILTO:shropshiredoc@gmail.com
END:VEVENT
BEGIN:VEVENT
DTSTART;TZID=Pacific/Auckland:20221117T190000
DTEND;TZID=Pacific/Auckland:20221117T213000
DTSTAMP:20260420T121454
CREATED:20220204T005403Z
LAST-MODIFIED:20221011T204849Z
UID:10005086-1668711600-1668720600@letslearn.nz
SUMMARY:Katikati Concert Band
DESCRIPTION:All brass\, woodwind and percussion players of all ages and abilities are welcome. Whether you are getting back into playing after a long break from your instrument or mastering a new one\, you are welcome too. \nWhen: Thursdays 7pm\nWhere: Katikati Bowling Club\, 8 Park Rd\, Katikati \nFor more detail: \nPhone: 021 404 163 (Eryl) or 0212171780\nEmail: shropshiredoc@gmail.com
URL:https://letslearn.nz/event/katikati-concert-band/2022-11-17/
LOCATION:Katikati Bowling Club\, 8 Park Rd\, Katikati
CATEGORIES:Bands
ATTACH;FMTTYPE=image/jpeg:https://letslearn.nz/wp-content/uploads/2022/02/Music-Katikati-Band.jpg
ORGANIZER;CN="Katikati Concert Band":MAILTO:shropshiredoc@gmail.com
END:VEVENT
BEGIN:VEVENT
DTSTART;TZID=Pacific/Auckland:20221110T190000
DTEND;TZID=Pacific/Auckland:20221110T213000
DTSTAMP:20260420T121454
CREATED:20220204T005403Z
LAST-MODIFIED:20221011T204849Z
UID:10005085-1668106800-1668115800@letslearn.nz
SUMMARY:Katikati Concert Band
DESCRIPTION:All brass\, woodwind and percussion players of all ages and abilities are welcome. Whether you are getting back into playing after a long break from your instrument or mastering a new one\, you are welcome too. \nWhen: Thursdays 7pm\nWhere: Katikati Bowling Club\, 8 Park Rd\, Katikati \nFor more detail: \nPhone: 021 404 163 (Eryl) or 0212171780\nEmail: shropshiredoc@gmail.com
URL:https://letslearn.nz/event/katikati-concert-band/2022-11-10/
LOCATION:Katikati Bowling Club\, 8 Park Rd\, Katikati
CATEGORIES:Bands
ATTACH;FMTTYPE=image/jpeg:https://letslearn.nz/wp-content/uploads/2022/02/Music-Katikati-Band.jpg
ORGANIZER;CN="Katikati Concert Band":MAILTO:shropshiredoc@gmail.com
END:VEVENT
BEGIN:VEVENT
DTSTART;TZID=Pacific/Auckland:20221103T190000
DTEND;TZID=Pacific/Auckland:20221103T213000
DTSTAMP:20260420T121454
CREATED:20220204T005403Z
LAST-MODIFIED:20221011T204849Z
UID:10005084-1667502000-1667511000@letslearn.nz
SUMMARY:Katikati Concert Band
DESCRIPTION:All brass\, woodwind and percussion players of all ages and abilities are welcome. Whether you are getting back into playing after a long break from your instrument or mastering a new one\, you are welcome too. \nWhen: Thursdays 7pm\nWhere: Katikati Bowling Club\, 8 Park Rd\, Katikati \nFor more detail: \nPhone: 021 404 163 (Eryl) or 0212171780\nEmail: shropshiredoc@gmail.com
URL:https://letslearn.nz/event/katikati-concert-band/2022-11-03/
LOCATION:Katikati Bowling Club\, 8 Park Rd\, Katikati
CATEGORIES:Bands
ATTACH;FMTTYPE=image/jpeg:https://letslearn.nz/wp-content/uploads/2022/02/Music-Katikati-Band.jpg
ORGANIZER;CN="Katikati Concert Band":MAILTO:shropshiredoc@gmail.com
END:VEVENT
BEGIN:VEVENT
DTSTART;TZID=Pacific/Auckland:20221027T190000
DTEND;TZID=Pacific/Auckland:20221027T213000
DTSTAMP:20260420T121454
CREATED:20220204T005403Z
LAST-MODIFIED:20221011T204849Z
UID:10005083-1666897200-1666906200@letslearn.nz
SUMMARY:Katikati Concert Band
DESCRIPTION:All brass\, woodwind and percussion players of all ages and abilities are welcome. Whether you are getting back into playing after a long break from your instrument or mastering a new one\, you are welcome too. \nWhen: Thursdays 7pm\nWhere: Katikati Bowling Club\, 8 Park Rd\, Katikati \nFor more detail: \nPhone: 021 404 163 (Eryl) or 0212171780\nEmail: shropshiredoc@gmail.com
URL:https://letslearn.nz/event/katikati-concert-band/2022-10-27/
LOCATION:Katikati Bowling Club\, 8 Park Rd\, Katikati
CATEGORIES:Bands
ATTACH;FMTTYPE=image/jpeg:https://letslearn.nz/wp-content/uploads/2022/02/Music-Katikati-Band.jpg
ORGANIZER;CN="Katikati Concert Band":MAILTO:shropshiredoc@gmail.com
END:VEVENT
BEGIN:VEVENT
DTSTART;TZID=Pacific/Auckland:20221020T190000
DTEND;TZID=Pacific/Auckland:20221020T213000
DTSTAMP:20260420T121454
CREATED:20220204T005403Z
LAST-MODIFIED:20221011T204849Z
UID:10005082-1666292400-1666301400@letslearn.nz
SUMMARY:Katikati Concert Band
DESCRIPTION:All brass\, woodwind and percussion players of all ages and abilities are welcome. Whether you are getting back into playing after a long break from your instrument or mastering a new one\, you are welcome too. \nWhen: Thursdays 7pm\nWhere: Katikati Bowling Club\, 8 Park Rd\, Katikati \nFor more detail: \nPhone: 021 404 163 (Eryl) or 0212171780\nEmail: shropshiredoc@gmail.com
URL:https://letslearn.nz/event/katikati-concert-band/2022-10-20/
LOCATION:Katikati Bowling Club\, 8 Park Rd\, Katikati
CATEGORIES:Bands
ATTACH;FMTTYPE=image/jpeg:https://letslearn.nz/wp-content/uploads/2022/02/Music-Katikati-Band.jpg
ORGANIZER;CN="Katikati Concert Band":MAILTO:shropshiredoc@gmail.com
END:VEVENT
BEGIN:VEVENT
DTSTART;TZID=Pacific/Auckland:20221013T190000
DTEND;TZID=Pacific/Auckland:20221013T213000
DTSTAMP:20260420T121454
CREATED:20220204T005403Z
LAST-MODIFIED:20221011T204849Z
UID:10005081-1665687600-1665696600@letslearn.nz
SUMMARY:Katikati Concert Band
DESCRIPTION:All brass\, woodwind and percussion players of all ages and abilities are welcome. Whether you are getting back into playing after a long break from your instrument or mastering a new one\, you are welcome too. \nWhen: Thursdays 7pm\nWhere: Katikati Bowling Club\, 8 Park Rd\, Katikati \nFor more detail: \nPhone: 021 404 163 (Eryl) or 0212171780\nEmail: shropshiredoc@gmail.com
URL:https://letslearn.nz/event/katikati-concert-band/2022-10-13/
LOCATION:Katikati Bowling Club\, 8 Park Rd\, Katikati
CATEGORIES:Bands
ATTACH;FMTTYPE=image/jpeg:https://letslearn.nz/wp-content/uploads/2022/02/Music-Katikati-Band.jpg
ORGANIZER;CN="Katikati Concert Band":MAILTO:shropshiredoc@gmail.com
END:VEVENT
END:VCALENDAR