BEGIN:VCALENDAR
VERSION:2.0
PRODID:-//Let&#039;s Learn - ECPv6.15.14//NONSGML v1.0//EN
CALSCALE:GREGORIAN
METHOD:PUBLISH
X-ORIGINAL-URL:https://letslearn.nz
X-WR-CALDESC:Events for Let&#039;s Learn
REFRESH-INTERVAL;VALUE=DURATION:PT1H
X-Robots-Tag:noindex
X-PUBLISHED-TTL:PT1H
BEGIN:VTIMEZONE
TZID:Pacific/Auckland
BEGIN:STANDARD
TZOFFSETFROM:+1300
TZOFFSETTO:+1200
TZNAME:NZST
DTSTART:20190406T140000
END:STANDARD
BEGIN:DAYLIGHT
TZOFFSETFROM:+1200
TZOFFSETTO:+1300
TZNAME:NZDT
DTSTART:20190928T140000
END:DAYLIGHT
BEGIN:STANDARD
TZOFFSETFROM:+1300
TZOFFSETTO:+1200
TZNAME:NZST
DTSTART:20200404T140000
END:STANDARD
BEGIN:DAYLIGHT
TZOFFSETFROM:+1200
TZOFFSETTO:+1300
TZNAME:NZDT
DTSTART:20200926T140000
END:DAYLIGHT
BEGIN:STANDARD
TZOFFSETFROM:+1300
TZOFFSETTO:+1200
TZNAME:NZST
DTSTART:20210403T140000
END:STANDARD
BEGIN:DAYLIGHT
TZOFFSETFROM:+1200
TZOFFSETTO:+1300
TZNAME:NZDT
DTSTART:20210925T140000
END:DAYLIGHT
END:VTIMEZONE
BEGIN:VEVENT
DTSTART;TZID=Pacific/Auckland:20200323T131500
DTEND;TZID=Pacific/Auckland:20200323T141500
DTSTAMP:20260425T160239
CREATED:20200107T213730Z
LAST-MODIFIED:20200316T195458Z
UID:10004127-1584969300-1584972900@letslearn.nz
SUMMARY:Tap Dancing Classes
DESCRIPTION:Have a go ! Join the tap revival ! Learn some beginner tap dancing steps and rhythms. \nWhen: Mondays 1.15 pm – 2.15 pm\nWhere: Dance Avenue\, 18 Glen Lyon Place\, Greerton\nCost: $6.00 per lesson \nContact: Lisa Wilson\nPhone: 576 0536 or 027 276 0536\nEmail: jumby@xtra.co.nz
URL:https://letslearn.nz/event/tap-dancing-classes/
LOCATION:Dance Avenue\, 18 Glen Lyon Place\, Greerton
CATEGORIES:Dance
ATTACH;FMTTYPE=image/jpeg:https://letslearn.nz/wp-content/uploads/2020/01/Tap-Dancing.jpg
ORGANIZER;CN="Lisa Wilson":MAILTO:jumby@xtra.co.nz
END:VEVENT
END:VCALENDAR