BEGIN:VCALENDAR
VERSION:2.0
PRODID:-//Let&#039;s Learn - ECPv6.15.14//NONSGML v1.0//EN
CALSCALE:GREGORIAN
METHOD:PUBLISH
X-WR-CALNAME:Let&#039;s Learn
X-ORIGINAL-URL:https://letslearn.nz
X-WR-CALDESC:Events for Let&#039;s Learn
REFRESH-INTERVAL;VALUE=DURATION:PT1H
X-Robots-Tag:noindex
X-PUBLISHED-TTL:PT1H
BEGIN:VTIMEZONE
TZID:Pacific/Auckland
BEGIN:STANDARD
TZOFFSETFROM:+1300
TZOFFSETTO:+1200
TZNAME:NZST
DTSTART:20210403T140000
END:STANDARD
BEGIN:DAYLIGHT
TZOFFSETFROM:+1200
TZOFFSETTO:+1300
TZNAME:NZDT
DTSTART:20210925T140000
END:DAYLIGHT
BEGIN:STANDARD
TZOFFSETFROM:+1300
TZOFFSETTO:+1200
TZNAME:NZST
DTSTART:20220402T140000
END:STANDARD
BEGIN:DAYLIGHT
TZOFFSETFROM:+1200
TZOFFSETTO:+1300
TZNAME:NZDT
DTSTART:20220924T140000
END:DAYLIGHT
BEGIN:STANDARD
TZOFFSETFROM:+1300
TZOFFSETTO:+1200
TZNAME:NZST
DTSTART:20230401T140000
END:STANDARD
BEGIN:DAYLIGHT
TZOFFSETFROM:+1200
TZOFFSETTO:+1300
TZNAME:NZDT
DTSTART:20230923T140000
END:DAYLIGHT
END:VTIMEZONE
BEGIN:VEVENT
DTSTART;TZID=Pacific/Auckland:20221210T130000
DTEND;TZID=Pacific/Auckland:20221210T160000
DTSTAMP:20260420T122248
CREATED:20220108T032835Z
LAST-MODIFIED:20221013T230359Z
UID:10005036-1670677200-1670688000@letslearn.nz
SUMMARY:Mount Country Music Club
DESCRIPTION:When: Monthly on every second Saturday of the Month. \nWhere: Senior Citizens Hall\, 345 Maunganui Rd\, the Mount. \nCost: $3 pp – Casual Fee – Bring your own Afternoon tea! \nContact for More Details:\nDick – 027 493 8458
URL:https://letslearn.nz/event/35720/2022-12-10/
LOCATION:Senior Citizens Hall\, 345 Main Road\, Mount Maunganui
CATEGORIES:Country Music
ATTACH;FMTTYPE=image/jpeg:https://letslearn.nz/wp-content/uploads/2022/01/Music-Country-Mount-Club.jpg
END:VEVENT
BEGIN:VEVENT
DTSTART;TZID=Pacific/Auckland:20221112T130000
DTEND;TZID=Pacific/Auckland:20221112T160000
DTSTAMP:20260420T122248
CREATED:20220108T032835Z
LAST-MODIFIED:20221013T230359Z
UID:10005035-1668258000-1668268800@letslearn.nz
SUMMARY:Mount Country Music Club
DESCRIPTION:When: Monthly on every second Saturday of the Month. \nWhere: Senior Citizens Hall\, 345 Maunganui Rd\, the Mount. \nCost: $3 pp – Casual Fee – Bring your own Afternoon tea! \nContact for More Details:\nDick – 027 493 8458
URL:https://letslearn.nz/event/35720/2022-11-12/
LOCATION:Senior Citizens Hall\, 345 Main Road\, Mount Maunganui
CATEGORIES:Country Music
ATTACH;FMTTYPE=image/jpeg:https://letslearn.nz/wp-content/uploads/2022/01/Music-Country-Mount-Club.jpg
END:VEVENT
END:VCALENDAR