BEGIN:VCALENDAR
VERSION:2.0
PRODID:-//Let&#039;s Learn - ECPv6.15.14//NONSGML v1.0//EN
CALSCALE:GREGORIAN
METHOD:PUBLISH
X-ORIGINAL-URL:https://letslearn.nz
X-WR-CALDESC:Events for Let&#039;s Learn
REFRESH-INTERVAL;VALUE=DURATION:PT1H
X-Robots-Tag:noindex
X-PUBLISHED-TTL:PT1H
BEGIN:VTIMEZONE
TZID:Pacific/Auckland
BEGIN:STANDARD
TZOFFSETFROM:+1300
TZOFFSETTO:+1200
TZNAME:NZST
DTSTART:20280401T140000
END:STANDARD
BEGIN:DAYLIGHT
TZOFFSETFROM:+1200
TZOFFSETTO:+1300
TZNAME:NZDT
DTSTART:20280923T140000
END:DAYLIGHT
BEGIN:STANDARD
TZOFFSETFROM:+1300
TZOFFSETTO:+1200
TZNAME:NZST
DTSTART:20290331T140000
END:STANDARD
BEGIN:DAYLIGHT
TZOFFSETFROM:+1200
TZOFFSETTO:+1300
TZNAME:NZDT
DTSTART:20290929T140000
END:DAYLIGHT
BEGIN:STANDARD
TZOFFSETFROM:+1300
TZOFFSETTO:+1200
TZNAME:NZST
DTSTART:20300406T140000
END:STANDARD
BEGIN:DAYLIGHT
TZOFFSETFROM:+1200
TZOFFSETTO:+1300
TZNAME:NZDT
DTSTART:20300928T140000
END:DAYLIGHT
END:VTIMEZONE
BEGIN:VEVENT
DTSTART;TZID=Pacific/Auckland:20290311T133000
DTEND;TZID=Pacific/Auckland:20290311T160000
DTSTAMP:20260420T115407
CREATED:20230311T050522Z
LAST-MODIFIED:20250809T231511Z
UID:10035168-1867930200-1867939200@letslearn.nz
SUMMARY:Medieval Sword Fighting
DESCRIPTION:The Northern Horde of Tauranga are a Medieval re-enactment group\, we meet for combat training\, archery\, dance and crafts. \nLearn to fight with swords\, axes\, spears etc in a controlled and safe environment. \nWhere: Memorial Park\, Tauranga\nWhen: Sundays 1.30pm \nFor info: Charlie: 021 296 0215
URL:https://letslearn.nz/event/medieval-sword-fighting-2/2029-03-11/
LOCATION:Memorial Park\, 11th Avenue\, Tauranga
CATEGORIES:Metal Craft,Re-enactments,Woodcraft
ATTACH;FMTTYPE=image/jpeg:https://letslearn.nz/wp-content/uploads/2021/02/Blokes-Northern-Horde.jpg
ORGANIZER;CN="Northern Horde Medieval Group":MAILTO:GoTheHorde@gmail.com
END:VEVENT
BEGIN:VEVENT
DTSTART;TZID=Pacific/Auckland:20290318T133000
DTEND;TZID=Pacific/Auckland:20290318T160000
DTSTAMP:20260420T115407
CREATED:20230311T050522Z
LAST-MODIFIED:20250809T231511Z
UID:10035169-1868535000-1868544000@letslearn.nz
SUMMARY:Medieval Sword Fighting
DESCRIPTION:The Northern Horde of Tauranga are a Medieval re-enactment group\, we meet for combat training\, archery\, dance and crafts. \nLearn to fight with swords\, axes\, spears etc in a controlled and safe environment. \nWhere: Memorial Park\, Tauranga\nWhen: Sundays 1.30pm \nFor info: Charlie: 021 296 0215
URL:https://letslearn.nz/event/medieval-sword-fighting-2/2029-03-18/
LOCATION:Memorial Park\, 11th Avenue\, Tauranga
CATEGORIES:Metal Craft,Re-enactments,Woodcraft
ATTACH;FMTTYPE=image/jpeg:https://letslearn.nz/wp-content/uploads/2021/02/Blokes-Northern-Horde.jpg
ORGANIZER;CN="Northern Horde Medieval Group":MAILTO:GoTheHorde@gmail.com
END:VEVENT
BEGIN:VEVENT
DTSTART;TZID=Pacific/Auckland:20290325T133000
DTEND;TZID=Pacific/Auckland:20290325T160000
DTSTAMP:20260420T115407
CREATED:20230311T050522Z
LAST-MODIFIED:20250809T231511Z
UID:10035170-1869139800-1869148800@letslearn.nz
SUMMARY:Medieval Sword Fighting
DESCRIPTION:The Northern Horde of Tauranga are a Medieval re-enactment group\, we meet for combat training\, archery\, dance and crafts. \nLearn to fight with swords\, axes\, spears etc in a controlled and safe environment. \nWhere: Memorial Park\, Tauranga\nWhen: Sundays 1.30pm \nFor info: Charlie: 021 296 0215
URL:https://letslearn.nz/event/medieval-sword-fighting-2/2029-03-25/
LOCATION:Memorial Park\, 11th Avenue\, Tauranga
CATEGORIES:Metal Craft,Re-enactments,Woodcraft
ATTACH;FMTTYPE=image/jpeg:https://letslearn.nz/wp-content/uploads/2021/02/Blokes-Northern-Horde.jpg
ORGANIZER;CN="Northern Horde Medieval Group":MAILTO:GoTheHorde@gmail.com
END:VEVENT
BEGIN:VEVENT
DTSTART;TZID=Pacific/Auckland:20290401T133000
DTEND;TZID=Pacific/Auckland:20290401T160000
DTSTAMP:20260420T115407
CREATED:20230311T050522Z
LAST-MODIFIED:20250809T231511Z
UID:10035171-1869744600-1869753600@letslearn.nz
SUMMARY:Medieval Sword Fighting
DESCRIPTION:The Northern Horde of Tauranga are a Medieval re-enactment group\, we meet for combat training\, archery\, dance and crafts. \nLearn to fight with swords\, axes\, spears etc in a controlled and safe environment. \nWhere: Memorial Park\, Tauranga\nWhen: Sundays 1.30pm \nFor info: Charlie: 021 296 0215
URL:https://letslearn.nz/event/medieval-sword-fighting-2/2029-04-01/
LOCATION:Memorial Park\, 11th Avenue\, Tauranga
CATEGORIES:Metal Craft,Re-enactments,Woodcraft
ATTACH;FMTTYPE=image/jpeg:https://letslearn.nz/wp-content/uploads/2021/02/Blokes-Northern-Horde.jpg
ORGANIZER;CN="Northern Horde Medieval Group":MAILTO:GoTheHorde@gmail.com
END:VEVENT
BEGIN:VEVENT
DTSTART;TZID=Pacific/Auckland:20290408T133000
DTEND;TZID=Pacific/Auckland:20290408T160000
DTSTAMP:20260420T115407
CREATED:20230311T050522Z
LAST-MODIFIED:20250809T231511Z
UID:10035172-1870349400-1870358400@letslearn.nz
SUMMARY:Medieval Sword Fighting
DESCRIPTION:The Northern Horde of Tauranga are a Medieval re-enactment group\, we meet for combat training\, archery\, dance and crafts. \nLearn to fight with swords\, axes\, spears etc in a controlled and safe environment. \nWhere: Memorial Park\, Tauranga\nWhen: Sundays 1.30pm \nFor info: Charlie: 021 296 0215
URL:https://letslearn.nz/event/medieval-sword-fighting-2/2029-04-08/
LOCATION:Memorial Park\, 11th Avenue\, Tauranga
CATEGORIES:Metal Craft,Re-enactments,Woodcraft
ATTACH;FMTTYPE=image/jpeg:https://letslearn.nz/wp-content/uploads/2021/02/Blokes-Northern-Horde.jpg
ORGANIZER;CN="Northern Horde Medieval Group":MAILTO:GoTheHorde@gmail.com
END:VEVENT
BEGIN:VEVENT
DTSTART;TZID=Pacific/Auckland:20290415T133000
DTEND;TZID=Pacific/Auckland:20290415T160000
DTSTAMP:20260420T115407
CREATED:20230311T050522Z
LAST-MODIFIED:20250809T231511Z
UID:10035173-1870954200-1870963200@letslearn.nz
SUMMARY:Medieval Sword Fighting
DESCRIPTION:The Northern Horde of Tauranga are a Medieval re-enactment group\, we meet for combat training\, archery\, dance and crafts. \nLearn to fight with swords\, axes\, spears etc in a controlled and safe environment. \nWhere: Memorial Park\, Tauranga\nWhen: Sundays 1.30pm \nFor info: Charlie: 021 296 0215
URL:https://letslearn.nz/event/medieval-sword-fighting-2/2029-04-15/
LOCATION:Memorial Park\, 11th Avenue\, Tauranga
CATEGORIES:Metal Craft,Re-enactments,Woodcraft
ATTACH;FMTTYPE=image/jpeg:https://letslearn.nz/wp-content/uploads/2021/02/Blokes-Northern-Horde.jpg
ORGANIZER;CN="Northern Horde Medieval Group":MAILTO:GoTheHorde@gmail.com
END:VEVENT
BEGIN:VEVENT
DTSTART;TZID=Pacific/Auckland:20290422T133000
DTEND;TZID=Pacific/Auckland:20290422T160000
DTSTAMP:20260420T115407
CREATED:20230311T050522Z
LAST-MODIFIED:20250809T231511Z
UID:10035174-1871559000-1871568000@letslearn.nz
SUMMARY:Medieval Sword Fighting
DESCRIPTION:The Northern Horde of Tauranga are a Medieval re-enactment group\, we meet for combat training\, archery\, dance and crafts. \nLearn to fight with swords\, axes\, spears etc in a controlled and safe environment. \nWhere: Memorial Park\, Tauranga\nWhen: Sundays 1.30pm \nFor info: Charlie: 021 296 0215
URL:https://letslearn.nz/event/medieval-sword-fighting-2/2029-04-22/
LOCATION:Memorial Park\, 11th Avenue\, Tauranga
CATEGORIES:Metal Craft,Re-enactments,Woodcraft
ATTACH;FMTTYPE=image/jpeg:https://letslearn.nz/wp-content/uploads/2021/02/Blokes-Northern-Horde.jpg
ORGANIZER;CN="Northern Horde Medieval Group":MAILTO:GoTheHorde@gmail.com
END:VEVENT
BEGIN:VEVENT
DTSTART;TZID=Pacific/Auckland:20290429T133000
DTEND;TZID=Pacific/Auckland:20290429T160000
DTSTAMP:20260420T115407
CREATED:20230311T050522Z
LAST-MODIFIED:20250809T231511Z
UID:10035175-1872163800-1872172800@letslearn.nz
SUMMARY:Medieval Sword Fighting
DESCRIPTION:The Northern Horde of Tauranga are a Medieval re-enactment group\, we meet for combat training\, archery\, dance and crafts. \nLearn to fight with swords\, axes\, spears etc in a controlled and safe environment. \nWhere: Memorial Park\, Tauranga\nWhen: Sundays 1.30pm \nFor info: Charlie: 021 296 0215
URL:https://letslearn.nz/event/medieval-sword-fighting-2/2029-04-29/
LOCATION:Memorial Park\, 11th Avenue\, Tauranga
CATEGORIES:Metal Craft,Re-enactments,Woodcraft
ATTACH;FMTTYPE=image/jpeg:https://letslearn.nz/wp-content/uploads/2021/02/Blokes-Northern-Horde.jpg
ORGANIZER;CN="Northern Horde Medieval Group":MAILTO:GoTheHorde@gmail.com
END:VEVENT
BEGIN:VEVENT
DTSTART;TZID=Pacific/Auckland:20290506T133000
DTEND;TZID=Pacific/Auckland:20290506T160000
DTSTAMP:20260420T115407
CREATED:20230311T050522Z
LAST-MODIFIED:20250809T231511Z
UID:10035176-1872768600-1872777600@letslearn.nz
SUMMARY:Medieval Sword Fighting
DESCRIPTION:The Northern Horde of Tauranga are a Medieval re-enactment group\, we meet for combat training\, archery\, dance and crafts. \nLearn to fight with swords\, axes\, spears etc in a controlled and safe environment. \nWhere: Memorial Park\, Tauranga\nWhen: Sundays 1.30pm \nFor info: Charlie: 021 296 0215
URL:https://letslearn.nz/event/medieval-sword-fighting-2/2029-05-06/
LOCATION:Memorial Park\, 11th Avenue\, Tauranga
CATEGORIES:Metal Craft,Re-enactments,Woodcraft
ATTACH;FMTTYPE=image/jpeg:https://letslearn.nz/wp-content/uploads/2021/02/Blokes-Northern-Horde.jpg
ORGANIZER;CN="Northern Horde Medieval Group":MAILTO:GoTheHorde@gmail.com
END:VEVENT
BEGIN:VEVENT
DTSTART;TZID=Pacific/Auckland:20290513T133000
DTEND;TZID=Pacific/Auckland:20290513T160000
DTSTAMP:20260420T115407
CREATED:20230311T050522Z
LAST-MODIFIED:20250809T231511Z
UID:10035177-1873373400-1873382400@letslearn.nz
SUMMARY:Medieval Sword Fighting
DESCRIPTION:The Northern Horde of Tauranga are a Medieval re-enactment group\, we meet for combat training\, archery\, dance and crafts. \nLearn to fight with swords\, axes\, spears etc in a controlled and safe environment. \nWhere: Memorial Park\, Tauranga\nWhen: Sundays 1.30pm \nFor info: Charlie: 021 296 0215
URL:https://letslearn.nz/event/medieval-sword-fighting-2/2029-05-13/
LOCATION:Memorial Park\, 11th Avenue\, Tauranga
CATEGORIES:Metal Craft,Re-enactments,Woodcraft
ATTACH;FMTTYPE=image/jpeg:https://letslearn.nz/wp-content/uploads/2021/02/Blokes-Northern-Horde.jpg
ORGANIZER;CN="Northern Horde Medieval Group":MAILTO:GoTheHorde@gmail.com
END:VEVENT
BEGIN:VEVENT
DTSTART;TZID=Pacific/Auckland:20290520T133000
DTEND;TZID=Pacific/Auckland:20290520T160000
DTSTAMP:20260420T115407
CREATED:20230311T050522Z
LAST-MODIFIED:20250809T231511Z
UID:10035178-1873978200-1873987200@letslearn.nz
SUMMARY:Medieval Sword Fighting
DESCRIPTION:The Northern Horde of Tauranga are a Medieval re-enactment group\, we meet for combat training\, archery\, dance and crafts. \nLearn to fight with swords\, axes\, spears etc in a controlled and safe environment. \nWhere: Memorial Park\, Tauranga\nWhen: Sundays 1.30pm \nFor info: Charlie: 021 296 0215
URL:https://letslearn.nz/event/medieval-sword-fighting-2/2029-05-20/
LOCATION:Memorial Park\, 11th Avenue\, Tauranga
CATEGORIES:Metal Craft,Re-enactments,Woodcraft
ATTACH;FMTTYPE=image/jpeg:https://letslearn.nz/wp-content/uploads/2021/02/Blokes-Northern-Horde.jpg
ORGANIZER;CN="Northern Horde Medieval Group":MAILTO:GoTheHorde@gmail.com
END:VEVENT
BEGIN:VEVENT
DTSTART;TZID=Pacific/Auckland:20290527T133000
DTEND;TZID=Pacific/Auckland:20290527T160000
DTSTAMP:20260420T115407
CREATED:20230311T050522Z
LAST-MODIFIED:20250809T231511Z
UID:10035179-1874583000-1874592000@letslearn.nz
SUMMARY:Medieval Sword Fighting
DESCRIPTION:The Northern Horde of Tauranga are a Medieval re-enactment group\, we meet for combat training\, archery\, dance and crafts. \nLearn to fight with swords\, axes\, spears etc in a controlled and safe environment. \nWhere: Memorial Park\, Tauranga\nWhen: Sundays 1.30pm \nFor info: Charlie: 021 296 0215
URL:https://letslearn.nz/event/medieval-sword-fighting-2/2029-05-27/
LOCATION:Memorial Park\, 11th Avenue\, Tauranga
CATEGORIES:Metal Craft,Re-enactments,Woodcraft
ATTACH;FMTTYPE=image/jpeg:https://letslearn.nz/wp-content/uploads/2021/02/Blokes-Northern-Horde.jpg
ORGANIZER;CN="Northern Horde Medieval Group":MAILTO:GoTheHorde@gmail.com
END:VEVENT
BEGIN:VEVENT
DTSTART;TZID=Pacific/Auckland:20290603T133000
DTEND;TZID=Pacific/Auckland:20290603T160000
DTSTAMP:20260420T115407
CREATED:20230311T050522Z
LAST-MODIFIED:20250809T231511Z
UID:10035180-1875187800-1875196800@letslearn.nz
SUMMARY:Medieval Sword Fighting
DESCRIPTION:The Northern Horde of Tauranga are a Medieval re-enactment group\, we meet for combat training\, archery\, dance and crafts. \nLearn to fight with swords\, axes\, spears etc in a controlled and safe environment. \nWhere: Memorial Park\, Tauranga\nWhen: Sundays 1.30pm \nFor info: Charlie: 021 296 0215
URL:https://letslearn.nz/event/medieval-sword-fighting-2/2029-06-03/
LOCATION:Memorial Park\, 11th Avenue\, Tauranga
CATEGORIES:Metal Craft,Re-enactments,Woodcraft
ATTACH;FMTTYPE=image/jpeg:https://letslearn.nz/wp-content/uploads/2021/02/Blokes-Northern-Horde.jpg
ORGANIZER;CN="Northern Horde Medieval Group":MAILTO:GoTheHorde@gmail.com
END:VEVENT
BEGIN:VEVENT
DTSTART;TZID=Pacific/Auckland:20290610T133000
DTEND;TZID=Pacific/Auckland:20290610T160000
DTSTAMP:20260420T115407
CREATED:20230311T050522Z
LAST-MODIFIED:20250809T231511Z
UID:10035181-1875792600-1875801600@letslearn.nz
SUMMARY:Medieval Sword Fighting
DESCRIPTION:The Northern Horde of Tauranga are a Medieval re-enactment group\, we meet for combat training\, archery\, dance and crafts. \nLearn to fight with swords\, axes\, spears etc in a controlled and safe environment. \nWhere: Memorial Park\, Tauranga\nWhen: Sundays 1.30pm \nFor info: Charlie: 021 296 0215
URL:https://letslearn.nz/event/medieval-sword-fighting-2/2029-06-10/
LOCATION:Memorial Park\, 11th Avenue\, Tauranga
CATEGORIES:Metal Craft,Re-enactments,Woodcraft
ATTACH;FMTTYPE=image/jpeg:https://letslearn.nz/wp-content/uploads/2021/02/Blokes-Northern-Horde.jpg
ORGANIZER;CN="Northern Horde Medieval Group":MAILTO:GoTheHorde@gmail.com
END:VEVENT
BEGIN:VEVENT
DTSTART;TZID=Pacific/Auckland:20290617T133000
DTEND;TZID=Pacific/Auckland:20290617T160000
DTSTAMP:20260420T115407
CREATED:20230311T050522Z
LAST-MODIFIED:20250809T231511Z
UID:10035182-1876397400-1876406400@letslearn.nz
SUMMARY:Medieval Sword Fighting
DESCRIPTION:The Northern Horde of Tauranga are a Medieval re-enactment group\, we meet for combat training\, archery\, dance and crafts. \nLearn to fight with swords\, axes\, spears etc in a controlled and safe environment. \nWhere: Memorial Park\, Tauranga\nWhen: Sundays 1.30pm \nFor info: Charlie: 021 296 0215
URL:https://letslearn.nz/event/medieval-sword-fighting-2/2029-06-17/
LOCATION:Memorial Park\, 11th Avenue\, Tauranga
CATEGORIES:Metal Craft,Re-enactments,Woodcraft
ATTACH;FMTTYPE=image/jpeg:https://letslearn.nz/wp-content/uploads/2021/02/Blokes-Northern-Horde.jpg
ORGANIZER;CN="Northern Horde Medieval Group":MAILTO:GoTheHorde@gmail.com
END:VEVENT
BEGIN:VEVENT
DTSTART;TZID=Pacific/Auckland:20290624T133000
DTEND;TZID=Pacific/Auckland:20290624T160000
DTSTAMP:20260420T115407
CREATED:20230311T050522Z
LAST-MODIFIED:20250809T231511Z
UID:10035183-1877002200-1877011200@letslearn.nz
SUMMARY:Medieval Sword Fighting
DESCRIPTION:The Northern Horde of Tauranga are a Medieval re-enactment group\, we meet for combat training\, archery\, dance and crafts. \nLearn to fight with swords\, axes\, spears etc in a controlled and safe environment. \nWhere: Memorial Park\, Tauranga\nWhen: Sundays 1.30pm \nFor info: Charlie: 021 296 0215
URL:https://letslearn.nz/event/medieval-sword-fighting-2/2029-06-24/
LOCATION:Memorial Park\, 11th Avenue\, Tauranga
CATEGORIES:Metal Craft,Re-enactments,Woodcraft
ATTACH;FMTTYPE=image/jpeg:https://letslearn.nz/wp-content/uploads/2021/02/Blokes-Northern-Horde.jpg
ORGANIZER;CN="Northern Horde Medieval Group":MAILTO:GoTheHorde@gmail.com
END:VEVENT
BEGIN:VEVENT
DTSTART;TZID=Pacific/Auckland:20290701T133000
DTEND;TZID=Pacific/Auckland:20290701T160000
DTSTAMP:20260420T115407
CREATED:20230311T050522Z
LAST-MODIFIED:20250809T231511Z
UID:10035184-1877607000-1877616000@letslearn.nz
SUMMARY:Medieval Sword Fighting
DESCRIPTION:The Northern Horde of Tauranga are a Medieval re-enactment group\, we meet for combat training\, archery\, dance and crafts. \nLearn to fight with swords\, axes\, spears etc in a controlled and safe environment. \nWhere: Memorial Park\, Tauranga\nWhen: Sundays 1.30pm \nFor info: Charlie: 021 296 0215
URL:https://letslearn.nz/event/medieval-sword-fighting-2/2029-07-01/
LOCATION:Memorial Park\, 11th Avenue\, Tauranga
CATEGORIES:Metal Craft,Re-enactments,Woodcraft
ATTACH;FMTTYPE=image/jpeg:https://letslearn.nz/wp-content/uploads/2021/02/Blokes-Northern-Horde.jpg
ORGANIZER;CN="Northern Horde Medieval Group":MAILTO:GoTheHorde@gmail.com
END:VEVENT
BEGIN:VEVENT
DTSTART;TZID=Pacific/Auckland:20290708T133000
DTEND;TZID=Pacific/Auckland:20290708T160000
DTSTAMP:20260420T115407
CREATED:20230311T050522Z
LAST-MODIFIED:20250809T231511Z
UID:10035185-1878211800-1878220800@letslearn.nz
SUMMARY:Medieval Sword Fighting
DESCRIPTION:The Northern Horde of Tauranga are a Medieval re-enactment group\, we meet for combat training\, archery\, dance and crafts. \nLearn to fight with swords\, axes\, spears etc in a controlled and safe environment. \nWhere: Memorial Park\, Tauranga\nWhen: Sundays 1.30pm \nFor info: Charlie: 021 296 0215
URL:https://letslearn.nz/event/medieval-sword-fighting-2/2029-07-08/
LOCATION:Memorial Park\, 11th Avenue\, Tauranga
CATEGORIES:Metal Craft,Re-enactments,Woodcraft
ATTACH;FMTTYPE=image/jpeg:https://letslearn.nz/wp-content/uploads/2021/02/Blokes-Northern-Horde.jpg
ORGANIZER;CN="Northern Horde Medieval Group":MAILTO:GoTheHorde@gmail.com
END:VEVENT
BEGIN:VEVENT
DTSTART;TZID=Pacific/Auckland:20290715T133000
DTEND;TZID=Pacific/Auckland:20290715T160000
DTSTAMP:20260420T115407
CREATED:20230311T050522Z
LAST-MODIFIED:20250809T231511Z
UID:10035186-1878816600-1878825600@letslearn.nz
SUMMARY:Medieval Sword Fighting
DESCRIPTION:The Northern Horde of Tauranga are a Medieval re-enactment group\, we meet for combat training\, archery\, dance and crafts. \nLearn to fight with swords\, axes\, spears etc in a controlled and safe environment. \nWhere: Memorial Park\, Tauranga\nWhen: Sundays 1.30pm \nFor info: Charlie: 021 296 0215
URL:https://letslearn.nz/event/medieval-sword-fighting-2/2029-07-15/
LOCATION:Memorial Park\, 11th Avenue\, Tauranga
CATEGORIES:Metal Craft,Re-enactments,Woodcraft
ATTACH;FMTTYPE=image/jpeg:https://letslearn.nz/wp-content/uploads/2021/02/Blokes-Northern-Horde.jpg
ORGANIZER;CN="Northern Horde Medieval Group":MAILTO:GoTheHorde@gmail.com
END:VEVENT
BEGIN:VEVENT
DTSTART;TZID=Pacific/Auckland:20290722T133000
DTEND;TZID=Pacific/Auckland:20290722T160000
DTSTAMP:20260420T115407
CREATED:20230311T050522Z
LAST-MODIFIED:20250809T231511Z
UID:10035187-1879421400-1879430400@letslearn.nz
SUMMARY:Medieval Sword Fighting
DESCRIPTION:The Northern Horde of Tauranga are a Medieval re-enactment group\, we meet for combat training\, archery\, dance and crafts. \nLearn to fight with swords\, axes\, spears etc in a controlled and safe environment. \nWhere: Memorial Park\, Tauranga\nWhen: Sundays 1.30pm \nFor info: Charlie: 021 296 0215
URL:https://letslearn.nz/event/medieval-sword-fighting-2/2029-07-22/
LOCATION:Memorial Park\, 11th Avenue\, Tauranga
CATEGORIES:Metal Craft,Re-enactments,Woodcraft
ATTACH;FMTTYPE=image/jpeg:https://letslearn.nz/wp-content/uploads/2021/02/Blokes-Northern-Horde.jpg
ORGANIZER;CN="Northern Horde Medieval Group":MAILTO:GoTheHorde@gmail.com
END:VEVENT
BEGIN:VEVENT
DTSTART;TZID=Pacific/Auckland:20290729T133000
DTEND;TZID=Pacific/Auckland:20290729T160000
DTSTAMP:20260420T115407
CREATED:20230311T050522Z
LAST-MODIFIED:20250809T231511Z
UID:10035188-1880026200-1880035200@letslearn.nz
SUMMARY:Medieval Sword Fighting
DESCRIPTION:The Northern Horde of Tauranga are a Medieval re-enactment group\, we meet for combat training\, archery\, dance and crafts. \nLearn to fight with swords\, axes\, spears etc in a controlled and safe environment. \nWhere: Memorial Park\, Tauranga\nWhen: Sundays 1.30pm \nFor info: Charlie: 021 296 0215
URL:https://letslearn.nz/event/medieval-sword-fighting-2/2029-07-29/
LOCATION:Memorial Park\, 11th Avenue\, Tauranga
CATEGORIES:Metal Craft,Re-enactments,Woodcraft
ATTACH;FMTTYPE=image/jpeg:https://letslearn.nz/wp-content/uploads/2021/02/Blokes-Northern-Horde.jpg
ORGANIZER;CN="Northern Horde Medieval Group":MAILTO:GoTheHorde@gmail.com
END:VEVENT
BEGIN:VEVENT
DTSTART;TZID=Pacific/Auckland:20290805T133000
DTEND;TZID=Pacific/Auckland:20290805T160000
DTSTAMP:20260420T115407
CREATED:20230311T050522Z
LAST-MODIFIED:20250809T231511Z
UID:10035189-1880631000-1880640000@letslearn.nz
SUMMARY:Medieval Sword Fighting
DESCRIPTION:The Northern Horde of Tauranga are a Medieval re-enactment group\, we meet for combat training\, archery\, dance and crafts. \nLearn to fight with swords\, axes\, spears etc in a controlled and safe environment. \nWhere: Memorial Park\, Tauranga\nWhen: Sundays 1.30pm \nFor info: Charlie: 021 296 0215
URL:https://letslearn.nz/event/medieval-sword-fighting-2/2029-08-05/
LOCATION:Memorial Park\, 11th Avenue\, Tauranga
CATEGORIES:Metal Craft,Re-enactments,Woodcraft
ATTACH;FMTTYPE=image/jpeg:https://letslearn.nz/wp-content/uploads/2021/02/Blokes-Northern-Horde.jpg
ORGANIZER;CN="Northern Horde Medieval Group":MAILTO:GoTheHorde@gmail.com
END:VEVENT
BEGIN:VEVENT
DTSTART;TZID=Pacific/Auckland:20290812T133000
DTEND;TZID=Pacific/Auckland:20290812T160000
DTSTAMP:20260420T115407
CREATED:20230311T050522Z
LAST-MODIFIED:20250809T231511Z
UID:10035190-1881235800-1881244800@letslearn.nz
SUMMARY:Medieval Sword Fighting
DESCRIPTION:The Northern Horde of Tauranga are a Medieval re-enactment group\, we meet for combat training\, archery\, dance and crafts. \nLearn to fight with swords\, axes\, spears etc in a controlled and safe environment. \nWhere: Memorial Park\, Tauranga\nWhen: Sundays 1.30pm \nFor info: Charlie: 021 296 0215
URL:https://letslearn.nz/event/medieval-sword-fighting-2/2029-08-12/
LOCATION:Memorial Park\, 11th Avenue\, Tauranga
CATEGORIES:Metal Craft,Re-enactments,Woodcraft
ATTACH;FMTTYPE=image/jpeg:https://letslearn.nz/wp-content/uploads/2021/02/Blokes-Northern-Horde.jpg
ORGANIZER;CN="Northern Horde Medieval Group":MAILTO:GoTheHorde@gmail.com
END:VEVENT
BEGIN:VEVENT
DTSTART;TZID=Pacific/Auckland:20290819T133000
DTEND;TZID=Pacific/Auckland:20290819T160000
DTSTAMP:20260420T115407
CREATED:20230311T050522Z
LAST-MODIFIED:20250809T231511Z
UID:10035191-1881840600-1881849600@letslearn.nz
SUMMARY:Medieval Sword Fighting
DESCRIPTION:The Northern Horde of Tauranga are a Medieval re-enactment group\, we meet for combat training\, archery\, dance and crafts. \nLearn to fight with swords\, axes\, spears etc in a controlled and safe environment. \nWhere: Memorial Park\, Tauranga\nWhen: Sundays 1.30pm \nFor info: Charlie: 021 296 0215
URL:https://letslearn.nz/event/medieval-sword-fighting-2/2029-08-19/
LOCATION:Memorial Park\, 11th Avenue\, Tauranga
CATEGORIES:Metal Craft,Re-enactments,Woodcraft
ATTACH;FMTTYPE=image/jpeg:https://letslearn.nz/wp-content/uploads/2021/02/Blokes-Northern-Horde.jpg
ORGANIZER;CN="Northern Horde Medieval Group":MAILTO:GoTheHorde@gmail.com
END:VEVENT
BEGIN:VEVENT
DTSTART;TZID=Pacific/Auckland:20290826T133000
DTEND;TZID=Pacific/Auckland:20290826T160000
DTSTAMP:20260420T115407
CREATED:20230311T050522Z
LAST-MODIFIED:20250809T231511Z
UID:10035192-1882445400-1882454400@letslearn.nz
SUMMARY:Medieval Sword Fighting
DESCRIPTION:The Northern Horde of Tauranga are a Medieval re-enactment group\, we meet for combat training\, archery\, dance and crafts. \nLearn to fight with swords\, axes\, spears etc in a controlled and safe environment. \nWhere: Memorial Park\, Tauranga\nWhen: Sundays 1.30pm \nFor info: Charlie: 021 296 0215
URL:https://letslearn.nz/event/medieval-sword-fighting-2/2029-08-26/
LOCATION:Memorial Park\, 11th Avenue\, Tauranga
CATEGORIES:Metal Craft,Re-enactments,Woodcraft
ATTACH;FMTTYPE=image/jpeg:https://letslearn.nz/wp-content/uploads/2021/02/Blokes-Northern-Horde.jpg
ORGANIZER;CN="Northern Horde Medieval Group":MAILTO:GoTheHorde@gmail.com
END:VEVENT
BEGIN:VEVENT
DTSTART;TZID=Pacific/Auckland:20290902T133000
DTEND;TZID=Pacific/Auckland:20290902T160000
DTSTAMP:20260420T115407
CREATED:20230311T050522Z
LAST-MODIFIED:20250809T231511Z
UID:10035193-1883050200-1883059200@letslearn.nz
SUMMARY:Medieval Sword Fighting
DESCRIPTION:The Northern Horde of Tauranga are a Medieval re-enactment group\, we meet for combat training\, archery\, dance and crafts. \nLearn to fight with swords\, axes\, spears etc in a controlled and safe environment. \nWhere: Memorial Park\, Tauranga\nWhen: Sundays 1.30pm \nFor info: Charlie: 021 296 0215
URL:https://letslearn.nz/event/medieval-sword-fighting-2/2029-09-02/
LOCATION:Memorial Park\, 11th Avenue\, Tauranga
CATEGORIES:Metal Craft,Re-enactments,Woodcraft
ATTACH;FMTTYPE=image/jpeg:https://letslearn.nz/wp-content/uploads/2021/02/Blokes-Northern-Horde.jpg
ORGANIZER;CN="Northern Horde Medieval Group":MAILTO:GoTheHorde@gmail.com
END:VEVENT
BEGIN:VEVENT
DTSTART;TZID=Pacific/Auckland:20290909T133000
DTEND;TZID=Pacific/Auckland:20290909T160000
DTSTAMP:20260420T115407
CREATED:20230311T050522Z
LAST-MODIFIED:20250809T231511Z
UID:10035194-1883655000-1883664000@letslearn.nz
SUMMARY:Medieval Sword Fighting
DESCRIPTION:The Northern Horde of Tauranga are a Medieval re-enactment group\, we meet for combat training\, archery\, dance and crafts. \nLearn to fight with swords\, axes\, spears etc in a controlled and safe environment. \nWhere: Memorial Park\, Tauranga\nWhen: Sundays 1.30pm \nFor info: Charlie: 021 296 0215
URL:https://letslearn.nz/event/medieval-sword-fighting-2/2029-09-09/
LOCATION:Memorial Park\, 11th Avenue\, Tauranga
CATEGORIES:Metal Craft,Re-enactments,Woodcraft
ATTACH;FMTTYPE=image/jpeg:https://letslearn.nz/wp-content/uploads/2021/02/Blokes-Northern-Horde.jpg
ORGANIZER;CN="Northern Horde Medieval Group":MAILTO:GoTheHorde@gmail.com
END:VEVENT
BEGIN:VEVENT
DTSTART;TZID=Pacific/Auckland:20290916T133000
DTEND;TZID=Pacific/Auckland:20290916T160000
DTSTAMP:20260420T115407
CREATED:20230311T050522Z
LAST-MODIFIED:20250809T231511Z
UID:10035195-1884259800-1884268800@letslearn.nz
SUMMARY:Medieval Sword Fighting
DESCRIPTION:The Northern Horde of Tauranga are a Medieval re-enactment group\, we meet for combat training\, archery\, dance and crafts. \nLearn to fight with swords\, axes\, spears etc in a controlled and safe environment. \nWhere: Memorial Park\, Tauranga\nWhen: Sundays 1.30pm \nFor info: Charlie: 021 296 0215
URL:https://letslearn.nz/event/medieval-sword-fighting-2/2029-09-16/
LOCATION:Memorial Park\, 11th Avenue\, Tauranga
CATEGORIES:Metal Craft,Re-enactments,Woodcraft
ATTACH;FMTTYPE=image/jpeg:https://letslearn.nz/wp-content/uploads/2021/02/Blokes-Northern-Horde.jpg
ORGANIZER;CN="Northern Horde Medieval Group":MAILTO:GoTheHorde@gmail.com
END:VEVENT
BEGIN:VEVENT
DTSTART;TZID=Pacific/Auckland:20290923T133000
DTEND;TZID=Pacific/Auckland:20290923T160000
DTSTAMP:20260420T115407
CREATED:20230311T050522Z
LAST-MODIFIED:20250809T231511Z
UID:10035196-1884864600-1884873600@letslearn.nz
SUMMARY:Medieval Sword Fighting
DESCRIPTION:The Northern Horde of Tauranga are a Medieval re-enactment group\, we meet for combat training\, archery\, dance and crafts. \nLearn to fight with swords\, axes\, spears etc in a controlled and safe environment. \nWhere: Memorial Park\, Tauranga\nWhen: Sundays 1.30pm \nFor info: Charlie: 021 296 0215
URL:https://letslearn.nz/event/medieval-sword-fighting-2/2029-09-23/
LOCATION:Memorial Park\, 11th Avenue\, Tauranga
CATEGORIES:Metal Craft,Re-enactments,Woodcraft
ATTACH;FMTTYPE=image/jpeg:https://letslearn.nz/wp-content/uploads/2021/02/Blokes-Northern-Horde.jpg
ORGANIZER;CN="Northern Horde Medieval Group":MAILTO:GoTheHorde@gmail.com
END:VEVENT
BEGIN:VEVENT
DTSTART;TZID=Pacific/Auckland:20290930T133000
DTEND;TZID=Pacific/Auckland:20290930T160000
DTSTAMP:20260420T115407
CREATED:20230311T050522Z
LAST-MODIFIED:20250809T231511Z
UID:10035197-1885469400-1885478400@letslearn.nz
SUMMARY:Medieval Sword Fighting
DESCRIPTION:The Northern Horde of Tauranga are a Medieval re-enactment group\, we meet for combat training\, archery\, dance and crafts. \nLearn to fight with swords\, axes\, spears etc in a controlled and safe environment. \nWhere: Memorial Park\, Tauranga\nWhen: Sundays 1.30pm \nFor info: Charlie: 021 296 0215
URL:https://letslearn.nz/event/medieval-sword-fighting-2/2029-09-30/
LOCATION:Memorial Park\, 11th Avenue\, Tauranga
CATEGORIES:Metal Craft,Re-enactments,Woodcraft
ATTACH;FMTTYPE=image/jpeg:https://letslearn.nz/wp-content/uploads/2021/02/Blokes-Northern-Horde.jpg
ORGANIZER;CN="Northern Horde Medieval Group":MAILTO:GoTheHorde@gmail.com
END:VEVENT
END:VCALENDAR