BEGIN:VCALENDAR
VERSION:2.0
PRODID:-//Let&#039;s Learn - ECPv6.15.14//NONSGML v1.0//EN
CALSCALE:GREGORIAN
METHOD:PUBLISH
X-WR-CALNAME:Let&#039;s Learn
X-ORIGINAL-URL:https://letslearn.nz
X-WR-CALDESC:Events for Let&#039;s Learn
REFRESH-INTERVAL;VALUE=DURATION:PT1H
X-Robots-Tag:noindex
X-PUBLISHED-TTL:PT1H
BEGIN:VTIMEZONE
TZID:Pacific/Auckland
BEGIN:STANDARD
TZOFFSETFROM:+1300
TZOFFSETTO:+1200
TZNAME:NZST
DTSTART:20240406T140000
END:STANDARD
BEGIN:DAYLIGHT
TZOFFSETFROM:+1200
TZOFFSETTO:+1300
TZNAME:NZDT
DTSTART:20240928T140000
END:DAYLIGHT
BEGIN:STANDARD
TZOFFSETFROM:+1300
TZOFFSETTO:+1200
TZNAME:NZST
DTSTART:20250405T140000
END:STANDARD
BEGIN:DAYLIGHT
TZOFFSETFROM:+1200
TZOFFSETTO:+1300
TZNAME:NZDT
DTSTART:20250927T140000
END:DAYLIGHT
BEGIN:STANDARD
TZOFFSETFROM:+1300
TZOFFSETTO:+1200
TZNAME:NZST
DTSTART:20260404T140000
END:STANDARD
BEGIN:DAYLIGHT
TZOFFSETFROM:+1200
TZOFFSETTO:+1300
TZNAME:NZDT
DTSTART:20260926T140000
END:DAYLIGHT
BEGIN:STANDARD
TZOFFSETFROM:+1300
TZOFFSETTO:+1200
TZNAME:NZST
DTSTART:20270403T140000
END:STANDARD
BEGIN:DAYLIGHT
TZOFFSETFROM:+1200
TZOFFSETTO:+1300
TZNAME:NZDT
DTSTART:20270925T140000
END:DAYLIGHT
END:VTIMEZONE
BEGIN:VEVENT
DTSTART;TZID=Pacific/Auckland:20260422T100000
DTEND;TZID=Pacific/Auckland:20260422T120000
DTSTAMP:20260425T000137
CREATED:20210721T182835Z
LAST-MODIFIED:20250130T154750Z
UID:10027925-1776852000-1776859200@letslearn.nz
SUMMARY:Knit and Natter – Ōmokoroa
DESCRIPTION:Do you love crafting with company? Come along to knit (or crochet\, sew\, quilt…) and natter in the library. \nWhen: Wednesdays 10am – 12 noon\nWhere:  Ōmokoroa Library\nCost:  Free
URL:https://letslearn.nz/event/knit-and-natter-omokoroa/2026-04-22/
LOCATION:Omokoroa Library\, 28 Western Avenue\, Ōmokoroa
CATEGORIES:Crochet,Knitting,Sewing
ATTACH;FMTTYPE=image/png:https://letslearn.nz/wp-content/uploads/2021/07/Fibre-Knitting-Omokoroa.png
ORGANIZER;CN="Omokoroa Library%2C 28 Western Avenue%2C %C5%8Cmokoroa":MAILTO:libraries@westernbay.govt.nz
END:VEVENT
BEGIN:VEVENT
DTSTART;TZID=Pacific/Auckland:20260415T100000
DTEND;TZID=Pacific/Auckland:20260415T120000
DTSTAMP:20260425T000137
CREATED:20210721T182835Z
LAST-MODIFIED:20250130T154750Z
UID:10027924-1776247200-1776254400@letslearn.nz
SUMMARY:Knit and Natter – Ōmokoroa
DESCRIPTION:Do you love crafting with company? Come along to knit (or crochet\, sew\, quilt…) and natter in the library. \nWhen: Wednesdays 10am – 12 noon\nWhere:  Ōmokoroa Library\nCost:  Free
URL:https://letslearn.nz/event/knit-and-natter-omokoroa/2026-04-15/
LOCATION:Omokoroa Library\, 28 Western Avenue\, Ōmokoroa
CATEGORIES:Crochet,Knitting,Sewing
ATTACH;FMTTYPE=image/png:https://letslearn.nz/wp-content/uploads/2021/07/Fibre-Knitting-Omokoroa.png
ORGANIZER;CN="Omokoroa Library%2C 28 Western Avenue%2C %C5%8Cmokoroa":MAILTO:libraries@westernbay.govt.nz
END:VEVENT
BEGIN:VEVENT
DTSTART;TZID=Pacific/Auckland:20260408T100000
DTEND;TZID=Pacific/Auckland:20260408T120000
DTSTAMP:20260425T000137
CREATED:20210721T182835Z
LAST-MODIFIED:20250130T154750Z
UID:10027923-1775642400-1775649600@letslearn.nz
SUMMARY:Knit and Natter – Ōmokoroa
DESCRIPTION:Do you love crafting with company? Come along to knit (or crochet\, sew\, quilt…) and natter in the library. \nWhen: Wednesdays 10am – 12 noon\nWhere:  Ōmokoroa Library\nCost:  Free
URL:https://letslearn.nz/event/knit-and-natter-omokoroa/2026-04-08/
LOCATION:Omokoroa Library\, 28 Western Avenue\, Ōmokoroa
CATEGORIES:Crochet,Knitting,Sewing
ATTACH;FMTTYPE=image/png:https://letslearn.nz/wp-content/uploads/2021/07/Fibre-Knitting-Omokoroa.png
ORGANIZER;CN="Omokoroa Library%2C 28 Western Avenue%2C %C5%8Cmokoroa":MAILTO:libraries@westernbay.govt.nz
END:VEVENT
BEGIN:VEVENT
DTSTART;TZID=Pacific/Auckland:20260401T100000
DTEND;TZID=Pacific/Auckland:20260401T120000
DTSTAMP:20260425T000137
CREATED:20210721T182835Z
LAST-MODIFIED:20250130T154750Z
UID:10027922-1775037600-1775044800@letslearn.nz
SUMMARY:Knit and Natter – Ōmokoroa
DESCRIPTION:Do you love crafting with company? Come along to knit (or crochet\, sew\, quilt…) and natter in the library. \nWhen: Wednesdays 10am – 12 noon\nWhere:  Ōmokoroa Library\nCost:  Free
URL:https://letslearn.nz/event/knit-and-natter-omokoroa/2026-04-01/
LOCATION:Omokoroa Library\, 28 Western Avenue\, Ōmokoroa
CATEGORIES:Crochet,Knitting,Sewing
ATTACH;FMTTYPE=image/png:https://letslearn.nz/wp-content/uploads/2021/07/Fibre-Knitting-Omokoroa.png
ORGANIZER;CN="Omokoroa Library%2C 28 Western Avenue%2C %C5%8Cmokoroa":MAILTO:libraries@westernbay.govt.nz
END:VEVENT
BEGIN:VEVENT
DTSTART;TZID=Pacific/Auckland:20260325T100000
DTEND;TZID=Pacific/Auckland:20260325T120000
DTSTAMP:20260425T000137
CREATED:20210721T182835Z
LAST-MODIFIED:20250130T154750Z
UID:10027921-1774432800-1774440000@letslearn.nz
SUMMARY:Knit and Natter – Ōmokoroa
DESCRIPTION:Do you love crafting with company? Come along to knit (or crochet\, sew\, quilt…) and natter in the library. \nWhen: Wednesdays 10am – 12 noon\nWhere:  Ōmokoroa Library\nCost:  Free
URL:https://letslearn.nz/event/knit-and-natter-omokoroa/2026-03-25/
LOCATION:Omokoroa Library\, 28 Western Avenue\, Ōmokoroa
CATEGORIES:Crochet,Knitting,Sewing
ATTACH;FMTTYPE=image/png:https://letslearn.nz/wp-content/uploads/2021/07/Fibre-Knitting-Omokoroa.png
ORGANIZER;CN="Omokoroa Library%2C 28 Western Avenue%2C %C5%8Cmokoroa":MAILTO:libraries@westernbay.govt.nz
END:VEVENT
BEGIN:VEVENT
DTSTART;TZID=Pacific/Auckland:20260318T100000
DTEND;TZID=Pacific/Auckland:20260318T120000
DTSTAMP:20260425T000137
CREATED:20210721T182835Z
LAST-MODIFIED:20250130T154750Z
UID:10027920-1773828000-1773835200@letslearn.nz
SUMMARY:Knit and Natter – Ōmokoroa
DESCRIPTION:Do you love crafting with company? Come along to knit (or crochet\, sew\, quilt…) and natter in the library. \nWhen: Wednesdays 10am – 12 noon\nWhere:  Ōmokoroa Library\nCost:  Free
URL:https://letslearn.nz/event/knit-and-natter-omokoroa/2026-03-18/
LOCATION:Omokoroa Library\, 28 Western Avenue\, Ōmokoroa
CATEGORIES:Crochet,Knitting,Sewing
ATTACH;FMTTYPE=image/png:https://letslearn.nz/wp-content/uploads/2021/07/Fibre-Knitting-Omokoroa.png
ORGANIZER;CN="Omokoroa Library%2C 28 Western Avenue%2C %C5%8Cmokoroa":MAILTO:libraries@westernbay.govt.nz
END:VEVENT
BEGIN:VEVENT
DTSTART;TZID=Pacific/Auckland:20260311T100000
DTEND;TZID=Pacific/Auckland:20260311T120000
DTSTAMP:20260425T000137
CREATED:20210721T182835Z
LAST-MODIFIED:20250130T154750Z
UID:10027919-1773223200-1773230400@letslearn.nz
SUMMARY:Knit and Natter – Ōmokoroa
DESCRIPTION:Do you love crafting with company? Come along to knit (or crochet\, sew\, quilt…) and natter in the library. \nWhen: Wednesdays 10am – 12 noon\nWhere:  Ōmokoroa Library\nCost:  Free
URL:https://letslearn.nz/event/knit-and-natter-omokoroa/2026-03-11/
LOCATION:Omokoroa Library\, 28 Western Avenue\, Ōmokoroa
CATEGORIES:Crochet,Knitting,Sewing
ATTACH;FMTTYPE=image/png:https://letslearn.nz/wp-content/uploads/2021/07/Fibre-Knitting-Omokoroa.png
ORGANIZER;CN="Omokoroa Library%2C 28 Western Avenue%2C %C5%8Cmokoroa":MAILTO:libraries@westernbay.govt.nz
END:VEVENT
BEGIN:VEVENT
DTSTART;TZID=Pacific/Auckland:20260304T100000
DTEND;TZID=Pacific/Auckland:20260304T120000
DTSTAMP:20260425T000137
CREATED:20210721T182835Z
LAST-MODIFIED:20250130T154750Z
UID:10027918-1772618400-1772625600@letslearn.nz
SUMMARY:Knit and Natter – Ōmokoroa
DESCRIPTION:Do you love crafting with company? Come along to knit (or crochet\, sew\, quilt…) and natter in the library. \nWhen: Wednesdays 10am – 12 noon\nWhere:  Ōmokoroa Library\nCost:  Free
URL:https://letslearn.nz/event/knit-and-natter-omokoroa/2026-03-04/
LOCATION:Omokoroa Library\, 28 Western Avenue\, Ōmokoroa
CATEGORIES:Crochet,Knitting,Sewing
ATTACH;FMTTYPE=image/png:https://letslearn.nz/wp-content/uploads/2021/07/Fibre-Knitting-Omokoroa.png
ORGANIZER;CN="Omokoroa Library%2C 28 Western Avenue%2C %C5%8Cmokoroa":MAILTO:libraries@westernbay.govt.nz
END:VEVENT
BEGIN:VEVENT
DTSTART;TZID=Pacific/Auckland:20260225T100000
DTEND;TZID=Pacific/Auckland:20260225T120000
DTSTAMP:20260425T000137
CREATED:20210721T182835Z
LAST-MODIFIED:20250130T154750Z
UID:10027917-1772013600-1772020800@letslearn.nz
SUMMARY:Knit and Natter – Ōmokoroa
DESCRIPTION:Do you love crafting with company? Come along to knit (or crochet\, sew\, quilt…) and natter in the library. \nWhen: Wednesdays 10am – 12 noon\nWhere:  Ōmokoroa Library\nCost:  Free
URL:https://letslearn.nz/event/knit-and-natter-omokoroa/2026-02-25/
LOCATION:Omokoroa Library\, 28 Western Avenue\, Ōmokoroa
CATEGORIES:Crochet,Knitting,Sewing
ATTACH;FMTTYPE=image/png:https://letslearn.nz/wp-content/uploads/2021/07/Fibre-Knitting-Omokoroa.png
ORGANIZER;CN="Omokoroa Library%2C 28 Western Avenue%2C %C5%8Cmokoroa":MAILTO:libraries@westernbay.govt.nz
END:VEVENT
BEGIN:VEVENT
DTSTART;TZID=Pacific/Auckland:20260218T100000
DTEND;TZID=Pacific/Auckland:20260218T120000
DTSTAMP:20260425T000137
CREATED:20210721T182835Z
LAST-MODIFIED:20250130T154750Z
UID:10027916-1771408800-1771416000@letslearn.nz
SUMMARY:Knit and Natter – Ōmokoroa
DESCRIPTION:Do you love crafting with company? Come along to knit (or crochet\, sew\, quilt…) and natter in the library. \nWhen: Wednesdays 10am – 12 noon\nWhere:  Ōmokoroa Library\nCost:  Free
URL:https://letslearn.nz/event/knit-and-natter-omokoroa/2026-02-18/
LOCATION:Omokoroa Library\, 28 Western Avenue\, Ōmokoroa
CATEGORIES:Crochet,Knitting,Sewing
ATTACH;FMTTYPE=image/png:https://letslearn.nz/wp-content/uploads/2021/07/Fibre-Knitting-Omokoroa.png
ORGANIZER;CN="Omokoroa Library%2C 28 Western Avenue%2C %C5%8Cmokoroa":MAILTO:libraries@westernbay.govt.nz
END:VEVENT
BEGIN:VEVENT
DTSTART;TZID=Pacific/Auckland:20260211T100000
DTEND;TZID=Pacific/Auckland:20260211T120000
DTSTAMP:20260425T000137
CREATED:20210721T182835Z
LAST-MODIFIED:20250130T154750Z
UID:10027915-1770804000-1770811200@letslearn.nz
SUMMARY:Knit and Natter – Ōmokoroa
DESCRIPTION:Do you love crafting with company? Come along to knit (or crochet\, sew\, quilt…) and natter in the library. \nWhen: Wednesdays 10am – 12 noon\nWhere:  Ōmokoroa Library\nCost:  Free
URL:https://letslearn.nz/event/knit-and-natter-omokoroa/2026-02-11/
LOCATION:Omokoroa Library\, 28 Western Avenue\, Ōmokoroa
CATEGORIES:Crochet,Knitting,Sewing
ATTACH;FMTTYPE=image/png:https://letslearn.nz/wp-content/uploads/2021/07/Fibre-Knitting-Omokoroa.png
ORGANIZER;CN="Omokoroa Library%2C 28 Western Avenue%2C %C5%8Cmokoroa":MAILTO:libraries@westernbay.govt.nz
END:VEVENT
BEGIN:VEVENT
DTSTART;TZID=Pacific/Auckland:20260204T100000
DTEND;TZID=Pacific/Auckland:20260204T120000
DTSTAMP:20260425T000137
CREATED:20210721T182835Z
LAST-MODIFIED:20250130T154750Z
UID:10027914-1770199200-1770206400@letslearn.nz
SUMMARY:Knit and Natter – Ōmokoroa
DESCRIPTION:Do you love crafting with company? Come along to knit (or crochet\, sew\, quilt…) and natter in the library. \nWhen: Wednesdays 10am – 12 noon\nWhere:  Ōmokoroa Library\nCost:  Free
URL:https://letslearn.nz/event/knit-and-natter-omokoroa/2026-02-04/
LOCATION:Omokoroa Library\, 28 Western Avenue\, Ōmokoroa
CATEGORIES:Crochet,Knitting,Sewing
ATTACH;FMTTYPE=image/png:https://letslearn.nz/wp-content/uploads/2021/07/Fibre-Knitting-Omokoroa.png
ORGANIZER;CN="Omokoroa Library%2C 28 Western Avenue%2C %C5%8Cmokoroa":MAILTO:libraries@westernbay.govt.nz
END:VEVENT
BEGIN:VEVENT
DTSTART;TZID=Pacific/Auckland:20260128T100000
DTEND;TZID=Pacific/Auckland:20260128T120000
DTSTAMP:20260425T000137
CREATED:20210721T182835Z
LAST-MODIFIED:20250130T154750Z
UID:10027913-1769594400-1769601600@letslearn.nz
SUMMARY:Knit and Natter – Ōmokoroa
DESCRIPTION:Do you love crafting with company? Come along to knit (or crochet\, sew\, quilt…) and natter in the library. \nWhen: Wednesdays 10am – 12 noon\nWhere:  Ōmokoroa Library\nCost:  Free
URL:https://letslearn.nz/event/knit-and-natter-omokoroa/2026-01-28/
LOCATION:Omokoroa Library\, 28 Western Avenue\, Ōmokoroa
CATEGORIES:Crochet,Knitting,Sewing
ATTACH;FMTTYPE=image/png:https://letslearn.nz/wp-content/uploads/2021/07/Fibre-Knitting-Omokoroa.png
ORGANIZER;CN="Omokoroa Library%2C 28 Western Avenue%2C %C5%8Cmokoroa":MAILTO:libraries@westernbay.govt.nz
END:VEVENT
BEGIN:VEVENT
DTSTART;TZID=Pacific/Auckland:20260121T100000
DTEND;TZID=Pacific/Auckland:20260121T120000
DTSTAMP:20260425T000137
CREATED:20210721T182835Z
LAST-MODIFIED:20250130T154750Z
UID:10027912-1768989600-1768996800@letslearn.nz
SUMMARY:Knit and Natter – Ōmokoroa
DESCRIPTION:Do you love crafting with company? Come along to knit (or crochet\, sew\, quilt…) and natter in the library. \nWhen: Wednesdays 10am – 12 noon\nWhere:  Ōmokoroa Library\nCost:  Free
URL:https://letslearn.nz/event/knit-and-natter-omokoroa/2026-01-21/
LOCATION:Omokoroa Library\, 28 Western Avenue\, Ōmokoroa
CATEGORIES:Crochet,Knitting,Sewing
ATTACH;FMTTYPE=image/png:https://letslearn.nz/wp-content/uploads/2021/07/Fibre-Knitting-Omokoroa.png
ORGANIZER;CN="Omokoroa Library%2C 28 Western Avenue%2C %C5%8Cmokoroa":MAILTO:libraries@westernbay.govt.nz
END:VEVENT
BEGIN:VEVENT
DTSTART;TZID=Pacific/Auckland:20260114T100000
DTEND;TZID=Pacific/Auckland:20260114T120000
DTSTAMP:20260425T000137
CREATED:20210721T182835Z
LAST-MODIFIED:20250130T154750Z
UID:10027911-1768384800-1768392000@letslearn.nz
SUMMARY:Knit and Natter – Ōmokoroa
DESCRIPTION:Do you love crafting with company? Come along to knit (or crochet\, sew\, quilt…) and natter in the library. \nWhen: Wednesdays 10am – 12 noon\nWhere:  Ōmokoroa Library\nCost:  Free
URL:https://letslearn.nz/event/knit-and-natter-omokoroa/2026-01-14/
LOCATION:Omokoroa Library\, 28 Western Avenue\, Ōmokoroa
CATEGORIES:Crochet,Knitting,Sewing
ATTACH;FMTTYPE=image/png:https://letslearn.nz/wp-content/uploads/2021/07/Fibre-Knitting-Omokoroa.png
ORGANIZER;CN="Omokoroa Library%2C 28 Western Avenue%2C %C5%8Cmokoroa":MAILTO:libraries@westernbay.govt.nz
END:VEVENT
BEGIN:VEVENT
DTSTART;TZID=Pacific/Auckland:20260107T100000
DTEND;TZID=Pacific/Auckland:20260107T120000
DTSTAMP:20260425T000137
CREATED:20210721T182835Z
LAST-MODIFIED:20250130T154750Z
UID:10027910-1767780000-1767787200@letslearn.nz
SUMMARY:Knit and Natter – Ōmokoroa
DESCRIPTION:Do you love crafting with company? Come along to knit (or crochet\, sew\, quilt…) and natter in the library. \nWhen: Wednesdays 10am – 12 noon\nWhere:  Ōmokoroa Library\nCost:  Free
URL:https://letslearn.nz/event/knit-and-natter-omokoroa/2026-01-07/
LOCATION:Omokoroa Library\, 28 Western Avenue\, Ōmokoroa
CATEGORIES:Crochet,Knitting,Sewing
ATTACH;FMTTYPE=image/png:https://letslearn.nz/wp-content/uploads/2021/07/Fibre-Knitting-Omokoroa.png
ORGANIZER;CN="Omokoroa Library%2C 28 Western Avenue%2C %C5%8Cmokoroa":MAILTO:libraries@westernbay.govt.nz
END:VEVENT
BEGIN:VEVENT
DTSTART;TZID=Pacific/Auckland:20251231T100000
DTEND;TZID=Pacific/Auckland:20251231T120000
DTSTAMP:20260425T000137
CREATED:20210721T182835Z
LAST-MODIFIED:20250130T154750Z
UID:10027909-1767175200-1767182400@letslearn.nz
SUMMARY:Knit and Natter – Ōmokoroa
DESCRIPTION:Do you love crafting with company? Come along to knit (or crochet\, sew\, quilt…) and natter in the library. \nWhen: Wednesdays 10am – 12 noon\nWhere:  Ōmokoroa Library\nCost:  Free
URL:https://letslearn.nz/event/knit-and-natter-omokoroa/2025-12-31/
LOCATION:Omokoroa Library\, 28 Western Avenue\, Ōmokoroa
CATEGORIES:Crochet,Knitting,Sewing
ATTACH;FMTTYPE=image/png:https://letslearn.nz/wp-content/uploads/2021/07/Fibre-Knitting-Omokoroa.png
ORGANIZER;CN="Omokoroa Library%2C 28 Western Avenue%2C %C5%8Cmokoroa":MAILTO:libraries@westernbay.govt.nz
END:VEVENT
BEGIN:VEVENT
DTSTART;TZID=Pacific/Auckland:20251224T100000
DTEND;TZID=Pacific/Auckland:20251224T120000
DTSTAMP:20260425T000137
CREATED:20210721T182835Z
LAST-MODIFIED:20250130T154750Z
UID:10027908-1766570400-1766577600@letslearn.nz
SUMMARY:Knit and Natter – Ōmokoroa
DESCRIPTION:Do you love crafting with company? Come along to knit (or crochet\, sew\, quilt…) and natter in the library. \nWhen: Wednesdays 10am – 12 noon\nWhere:  Ōmokoroa Library\nCost:  Free
URL:https://letslearn.nz/event/knit-and-natter-omokoroa/2025-12-24/
LOCATION:Omokoroa Library\, 28 Western Avenue\, Ōmokoroa
CATEGORIES:Crochet,Knitting,Sewing
ATTACH;FMTTYPE=image/png:https://letslearn.nz/wp-content/uploads/2021/07/Fibre-Knitting-Omokoroa.png
ORGANIZER;CN="Omokoroa Library%2C 28 Western Avenue%2C %C5%8Cmokoroa":MAILTO:libraries@westernbay.govt.nz
END:VEVENT
BEGIN:VEVENT
DTSTART;TZID=Pacific/Auckland:20251217T100000
DTEND;TZID=Pacific/Auckland:20251217T120000
DTSTAMP:20260425T000137
CREATED:20210721T182835Z
LAST-MODIFIED:20250130T154750Z
UID:10027907-1765965600-1765972800@letslearn.nz
SUMMARY:Knit and Natter – Ōmokoroa
DESCRIPTION:Do you love crafting with company? Come along to knit (or crochet\, sew\, quilt…) and natter in the library. \nWhen: Wednesdays 10am – 12 noon\nWhere:  Ōmokoroa Library\nCost:  Free
URL:https://letslearn.nz/event/knit-and-natter-omokoroa/2025-12-17/
LOCATION:Omokoroa Library\, 28 Western Avenue\, Ōmokoroa
CATEGORIES:Crochet,Knitting,Sewing
ATTACH;FMTTYPE=image/png:https://letslearn.nz/wp-content/uploads/2021/07/Fibre-Knitting-Omokoroa.png
ORGANIZER;CN="Omokoroa Library%2C 28 Western Avenue%2C %C5%8Cmokoroa":MAILTO:libraries@westernbay.govt.nz
END:VEVENT
BEGIN:VEVENT
DTSTART;TZID=Pacific/Auckland:20251210T100000
DTEND;TZID=Pacific/Auckland:20251210T120000
DTSTAMP:20260425T000137
CREATED:20210721T182835Z
LAST-MODIFIED:20250130T154750Z
UID:10027906-1765360800-1765368000@letslearn.nz
SUMMARY:Knit and Natter – Ōmokoroa
DESCRIPTION:Do you love crafting with company? Come along to knit (or crochet\, sew\, quilt…) and natter in the library. \nWhen: Wednesdays 10am – 12 noon\nWhere:  Ōmokoroa Library\nCost:  Free
URL:https://letslearn.nz/event/knit-and-natter-omokoroa/2025-12-10/
LOCATION:Omokoroa Library\, 28 Western Avenue\, Ōmokoroa
CATEGORIES:Crochet,Knitting,Sewing
ATTACH;FMTTYPE=image/png:https://letslearn.nz/wp-content/uploads/2021/07/Fibre-Knitting-Omokoroa.png
ORGANIZER;CN="Omokoroa Library%2C 28 Western Avenue%2C %C5%8Cmokoroa":MAILTO:libraries@westernbay.govt.nz
END:VEVENT
BEGIN:VEVENT
DTSTART;TZID=Pacific/Auckland:20251203T100000
DTEND;TZID=Pacific/Auckland:20251203T120000
DTSTAMP:20260425T000137
CREATED:20210721T182835Z
LAST-MODIFIED:20250130T154750Z
UID:10027905-1764756000-1764763200@letslearn.nz
SUMMARY:Knit and Natter – Ōmokoroa
DESCRIPTION:Do you love crafting with company? Come along to knit (or crochet\, sew\, quilt…) and natter in the library. \nWhen: Wednesdays 10am – 12 noon\nWhere:  Ōmokoroa Library\nCost:  Free
URL:https://letslearn.nz/event/knit-and-natter-omokoroa/2025-12-03/
LOCATION:Omokoroa Library\, 28 Western Avenue\, Ōmokoroa
CATEGORIES:Crochet,Knitting,Sewing
ATTACH;FMTTYPE=image/png:https://letslearn.nz/wp-content/uploads/2021/07/Fibre-Knitting-Omokoroa.png
ORGANIZER;CN="Omokoroa Library%2C 28 Western Avenue%2C %C5%8Cmokoroa":MAILTO:libraries@westernbay.govt.nz
END:VEVENT
BEGIN:VEVENT
DTSTART;TZID=Pacific/Auckland:20251126T100000
DTEND;TZID=Pacific/Auckland:20251126T120000
DTSTAMP:20260425T000137
CREATED:20210721T182835Z
LAST-MODIFIED:20250130T154750Z
UID:10027904-1764151200-1764158400@letslearn.nz
SUMMARY:Knit and Natter – Ōmokoroa
DESCRIPTION:Do you love crafting with company? Come along to knit (or crochet\, sew\, quilt…) and natter in the library. \nWhen: Wednesdays 10am – 12 noon\nWhere:  Ōmokoroa Library\nCost:  Free
URL:https://letslearn.nz/event/knit-and-natter-omokoroa/2025-11-26/
LOCATION:Omokoroa Library\, 28 Western Avenue\, Ōmokoroa
CATEGORIES:Crochet,Knitting,Sewing
ATTACH;FMTTYPE=image/png:https://letslearn.nz/wp-content/uploads/2021/07/Fibre-Knitting-Omokoroa.png
ORGANIZER;CN="Omokoroa Library%2C 28 Western Avenue%2C %C5%8Cmokoroa":MAILTO:libraries@westernbay.govt.nz
END:VEVENT
BEGIN:VEVENT
DTSTART;TZID=Pacific/Auckland:20251119T100000
DTEND;TZID=Pacific/Auckland:20251119T120000
DTSTAMP:20260425T000137
CREATED:20210721T182835Z
LAST-MODIFIED:20250130T154750Z
UID:10027903-1763546400-1763553600@letslearn.nz
SUMMARY:Knit and Natter – Ōmokoroa
DESCRIPTION:Do you love crafting with company? Come along to knit (or crochet\, sew\, quilt…) and natter in the library. \nWhen: Wednesdays 10am – 12 noon\nWhere:  Ōmokoroa Library\nCost:  Free
URL:https://letslearn.nz/event/knit-and-natter-omokoroa/2025-11-19/
LOCATION:Omokoroa Library\, 28 Western Avenue\, Ōmokoroa
CATEGORIES:Crochet,Knitting,Sewing
ATTACH;FMTTYPE=image/png:https://letslearn.nz/wp-content/uploads/2021/07/Fibre-Knitting-Omokoroa.png
ORGANIZER;CN="Omokoroa Library%2C 28 Western Avenue%2C %C5%8Cmokoroa":MAILTO:libraries@westernbay.govt.nz
END:VEVENT
BEGIN:VEVENT
DTSTART;TZID=Pacific/Auckland:20251112T100000
DTEND;TZID=Pacific/Auckland:20251112T120000
DTSTAMP:20260425T000137
CREATED:20210721T182835Z
LAST-MODIFIED:20250130T154750Z
UID:10027902-1762941600-1762948800@letslearn.nz
SUMMARY:Knit and Natter – Ōmokoroa
DESCRIPTION:Do you love crafting with company? Come along to knit (or crochet\, sew\, quilt…) and natter in the library. \nWhen: Wednesdays 10am – 12 noon\nWhere:  Ōmokoroa Library\nCost:  Free
URL:https://letslearn.nz/event/knit-and-natter-omokoroa/2025-11-12/
LOCATION:Omokoroa Library\, 28 Western Avenue\, Ōmokoroa
CATEGORIES:Crochet,Knitting,Sewing
ATTACH;FMTTYPE=image/png:https://letslearn.nz/wp-content/uploads/2021/07/Fibre-Knitting-Omokoroa.png
ORGANIZER;CN="Omokoroa Library%2C 28 Western Avenue%2C %C5%8Cmokoroa":MAILTO:libraries@westernbay.govt.nz
END:VEVENT
BEGIN:VEVENT
DTSTART;TZID=Pacific/Auckland:20251105T100000
DTEND;TZID=Pacific/Auckland:20251105T120000
DTSTAMP:20260425T000137
CREATED:20210721T182835Z
LAST-MODIFIED:20250130T154750Z
UID:10027901-1762336800-1762344000@letslearn.nz
SUMMARY:Knit and Natter – Ōmokoroa
DESCRIPTION:Do you love crafting with company? Come along to knit (or crochet\, sew\, quilt…) and natter in the library. \nWhen: Wednesdays 10am – 12 noon\nWhere:  Ōmokoroa Library\nCost:  Free
URL:https://letslearn.nz/event/knit-and-natter-omokoroa/2025-11-05/
LOCATION:Omokoroa Library\, 28 Western Avenue\, Ōmokoroa
CATEGORIES:Crochet,Knitting,Sewing
ATTACH;FMTTYPE=image/png:https://letslearn.nz/wp-content/uploads/2021/07/Fibre-Knitting-Omokoroa.png
ORGANIZER;CN="Omokoroa Library%2C 28 Western Avenue%2C %C5%8Cmokoroa":MAILTO:libraries@westernbay.govt.nz
END:VEVENT
BEGIN:VEVENT
DTSTART;TZID=Pacific/Auckland:20251029T100000
DTEND;TZID=Pacific/Auckland:20251029T120000
DTSTAMP:20260425T000137
CREATED:20210721T182835Z
LAST-MODIFIED:20250130T154750Z
UID:10027900-1761732000-1761739200@letslearn.nz
SUMMARY:Knit and Natter – Ōmokoroa
DESCRIPTION:Do you love crafting with company? Come along to knit (or crochet\, sew\, quilt…) and natter in the library. \nWhen: Wednesdays 10am – 12 noon\nWhere:  Ōmokoroa Library\nCost:  Free
URL:https://letslearn.nz/event/knit-and-natter-omokoroa/2025-10-29/
LOCATION:Omokoroa Library\, 28 Western Avenue\, Ōmokoroa
CATEGORIES:Crochet,Knitting,Sewing
ATTACH;FMTTYPE=image/png:https://letslearn.nz/wp-content/uploads/2021/07/Fibre-Knitting-Omokoroa.png
ORGANIZER;CN="Omokoroa Library%2C 28 Western Avenue%2C %C5%8Cmokoroa":MAILTO:libraries@westernbay.govt.nz
END:VEVENT
BEGIN:VEVENT
DTSTART;TZID=Pacific/Auckland:20251022T100000
DTEND;TZID=Pacific/Auckland:20251022T120000
DTSTAMP:20260425T000137
CREATED:20210721T182835Z
LAST-MODIFIED:20250130T154750Z
UID:10027899-1761127200-1761134400@letslearn.nz
SUMMARY:Knit and Natter – Ōmokoroa
DESCRIPTION:Do you love crafting with company? Come along to knit (or crochet\, sew\, quilt…) and natter in the library. \nWhen: Wednesdays 10am – 12 noon\nWhere:  Ōmokoroa Library\nCost:  Free
URL:https://letslearn.nz/event/knit-and-natter-omokoroa/2025-10-22/
LOCATION:Omokoroa Library\, 28 Western Avenue\, Ōmokoroa
CATEGORIES:Crochet,Knitting,Sewing
ATTACH;FMTTYPE=image/png:https://letslearn.nz/wp-content/uploads/2021/07/Fibre-Knitting-Omokoroa.png
ORGANIZER;CN="Omokoroa Library%2C 28 Western Avenue%2C %C5%8Cmokoroa":MAILTO:libraries@westernbay.govt.nz
END:VEVENT
BEGIN:VEVENT
DTSTART;TZID=Pacific/Auckland:20251015T100000
DTEND;TZID=Pacific/Auckland:20251015T120000
DTSTAMP:20260425T000137
CREATED:20210721T182835Z
LAST-MODIFIED:20250130T154750Z
UID:10027898-1760522400-1760529600@letslearn.nz
SUMMARY:Knit and Natter – Ōmokoroa
DESCRIPTION:Do you love crafting with company? Come along to knit (or crochet\, sew\, quilt…) and natter in the library. \nWhen: Wednesdays 10am – 12 noon\nWhere:  Ōmokoroa Library\nCost:  Free
URL:https://letslearn.nz/event/knit-and-natter-omokoroa/2025-10-15/
LOCATION:Omokoroa Library\, 28 Western Avenue\, Ōmokoroa
CATEGORIES:Crochet,Knitting,Sewing
ATTACH;FMTTYPE=image/png:https://letslearn.nz/wp-content/uploads/2021/07/Fibre-Knitting-Omokoroa.png
ORGANIZER;CN="Omokoroa Library%2C 28 Western Avenue%2C %C5%8Cmokoroa":MAILTO:libraries@westernbay.govt.nz
END:VEVENT
BEGIN:VEVENT
DTSTART;TZID=Pacific/Auckland:20251008T100000
DTEND;TZID=Pacific/Auckland:20251008T120000
DTSTAMP:20260425T000137
CREATED:20210721T182835Z
LAST-MODIFIED:20250130T154750Z
UID:10027897-1759917600-1759924800@letslearn.nz
SUMMARY:Knit and Natter – Ōmokoroa
DESCRIPTION:Do you love crafting with company? Come along to knit (or crochet\, sew\, quilt…) and natter in the library. \nWhen: Wednesdays 10am – 12 noon\nWhere:  Ōmokoroa Library\nCost:  Free
URL:https://letslearn.nz/event/knit-and-natter-omokoroa/2025-10-08/
LOCATION:Omokoroa Library\, 28 Western Avenue\, Ōmokoroa
CATEGORIES:Crochet,Knitting,Sewing
ATTACH;FMTTYPE=image/png:https://letslearn.nz/wp-content/uploads/2021/07/Fibre-Knitting-Omokoroa.png
ORGANIZER;CN="Omokoroa Library%2C 28 Western Avenue%2C %C5%8Cmokoroa":MAILTO:libraries@westernbay.govt.nz
END:VEVENT
BEGIN:VEVENT
DTSTART;TZID=Pacific/Auckland:20251001T100000
DTEND;TZID=Pacific/Auckland:20251001T120000
DTSTAMP:20260425T000137
CREATED:20210721T182835Z
LAST-MODIFIED:20250130T154750Z
UID:10027896-1759312800-1759320000@letslearn.nz
SUMMARY:Knit and Natter – Ōmokoroa
DESCRIPTION:Do you love crafting with company? Come along to knit (or crochet\, sew\, quilt…) and natter in the library. \nWhen: Wednesdays 10am – 12 noon\nWhere:  Ōmokoroa Library\nCost:  Free
URL:https://letslearn.nz/event/knit-and-natter-omokoroa/2025-10-01/
LOCATION:Omokoroa Library\, 28 Western Avenue\, Ōmokoroa
CATEGORIES:Crochet,Knitting,Sewing
ATTACH;FMTTYPE=image/png:https://letslearn.nz/wp-content/uploads/2021/07/Fibre-Knitting-Omokoroa.png
ORGANIZER;CN="Omokoroa Library%2C 28 Western Avenue%2C %C5%8Cmokoroa":MAILTO:libraries@westernbay.govt.nz
END:VEVENT
END:VCALENDAR