BEGIN:VCALENDAR
VERSION:2.0
PRODID:-//Let&#039;s Learn - ECPv6.15.14//NONSGML v1.0//EN
CALSCALE:GREGORIAN
METHOD:PUBLISH
X-WR-CALNAME:Let&#039;s Learn
X-ORIGINAL-URL:https://letslearn.nz
X-WR-CALDESC:Events for Let&#039;s Learn
REFRESH-INTERVAL;VALUE=DURATION:PT1H
X-Robots-Tag:noindex
X-PUBLISHED-TTL:PT1H
BEGIN:VTIMEZONE
TZID:Pacific/Auckland
BEGIN:STANDARD
TZOFFSETFROM:+1300
TZOFFSETTO:+1200
TZNAME:NZST
DTSTART:20190406T140000
END:STANDARD
BEGIN:DAYLIGHT
TZOFFSETFROM:+1200
TZOFFSETTO:+1300
TZNAME:NZDT
DTSTART:20190928T140000
END:DAYLIGHT
BEGIN:STANDARD
TZOFFSETFROM:+1300
TZOFFSETTO:+1200
TZNAME:NZST
DTSTART:20200404T140000
END:STANDARD
BEGIN:DAYLIGHT
TZOFFSETFROM:+1200
TZOFFSETTO:+1300
TZNAME:NZDT
DTSTART:20200926T140000
END:DAYLIGHT
BEGIN:STANDARD
TZOFFSETFROM:+1300
TZOFFSETTO:+1200
TZNAME:NZST
DTSTART:20210403T140000
END:STANDARD
BEGIN:DAYLIGHT
TZOFFSETFROM:+1200
TZOFFSETTO:+1300
TZNAME:NZDT
DTSTART:20210925T140000
END:DAYLIGHT
END:VTIMEZONE
BEGIN:VEVENT
DTSTART;TZID=Pacific/Auckland:20200111T190000
DTEND;TZID=Pacific/Auckland:20200111T203000
DTSTAMP:20260424T011315
CREATED:20191229T232046Z
LAST-MODIFIED:20191229T232359Z
UID:10003104-1578769200-1578774600@letslearn.nz
SUMMARY:Women's Nude Yoga
DESCRIPTION:Please purchase tickets prior to the event to gain entry. \nA warm\, secure\, private and held circle. You are invited to get as naked as you feel\, holding your own self-loving boundaries. Standing in our courage and vulnerability\, we are real\, free\, beautiful\, unique and we are one! \nA slow\, mindful flow for all levels based in connection. \nBecome more embodied and connected with your innocent true self. Beyond the layers\, the labels\, the expectations of society\, beyond having to take responsibility for how other people feel…Who are you really? \nAll the doors will be locked and late comers will not be allowed into the space so please arrive 5-10 mins early. Bring your own mat or towel. I will offer vegan dark chocolate at the beginning 🙂\nPlease do get in touch if you have any concerns or questions ♥ \nCost:  $30.  Payment must be made in full via the FB event to reserve your spot and gain entry.
URL:https://letslearn.nz/event/womens-nude-yoga/
LOCATION:Soma Studios\, 586e Cameron Rd\, Tauranga South\, Tauranga
CATEGORIES:Yoga
ORGANIZER;CN="Priya":MAILTO:yoginipriya@hotmail.com
END:VEVENT
END:VCALENDAR