BEGIN:VCALENDAR
VERSION:2.0
PRODID:-//Let&#039;s Learn - ECPv6.15.14//NONSGML v1.0//EN
CALSCALE:GREGORIAN
METHOD:PUBLISH
X-ORIGINAL-URL:https://letslearn.nz
X-WR-CALDESC:Events for Let&#039;s Learn
REFRESH-INTERVAL;VALUE=DURATION:PT1H
X-Robots-Tag:noindex
X-PUBLISHED-TTL:PT1H
BEGIN:VTIMEZONE
TZID:Pacific/Auckland
BEGIN:STANDARD
TZOFFSETFROM:+1300
TZOFFSETTO:+1200
TZNAME:NZST
DTSTART:20180331T140000
END:STANDARD
BEGIN:DAYLIGHT
TZOFFSETFROM:+1200
TZOFFSETTO:+1300
TZNAME:NZDT
DTSTART:20180929T140000
END:DAYLIGHT
BEGIN:STANDARD
TZOFFSETFROM:+1300
TZOFFSETTO:+1200
TZNAME:NZST
DTSTART:20190406T140000
END:STANDARD
BEGIN:DAYLIGHT
TZOFFSETFROM:+1200
TZOFFSETTO:+1300
TZNAME:NZDT
DTSTART:20190928T140000
END:DAYLIGHT
BEGIN:STANDARD
TZOFFSETFROM:+1300
TZOFFSETTO:+1200
TZNAME:NZST
DTSTART:20200404T140000
END:STANDARD
BEGIN:DAYLIGHT
TZOFFSETFROM:+1200
TZOFFSETTO:+1300
TZNAME:NZDT
DTSTART:20200926T140000
END:DAYLIGHT
BEGIN:STANDARD
TZOFFSETFROM:+1300
TZOFFSETTO:+1200
TZNAME:NZST
DTSTART:20210403T140000
END:STANDARD
BEGIN:DAYLIGHT
TZOFFSETFROM:+1200
TZOFFSETTO:+1300
TZNAME:NZDT
DTSTART:20210925T140000
END:DAYLIGHT
BEGIN:STANDARD
TZOFFSETFROM:+1300
TZOFFSETTO:+1200
TZNAME:NZST
DTSTART:20220402T140000
END:STANDARD
BEGIN:DAYLIGHT
TZOFFSETFROM:+1200
TZOFFSETTO:+1300
TZNAME:NZDT
DTSTART:20220924T140000
END:DAYLIGHT
END:VTIMEZONE
BEGIN:VEVENT
DTSTART;TZID=Pacific/Auckland:20211215T170000
DTEND;TZID=Pacific/Auckland:20211215T204500
DTSTAMP:20260424T083037
CREATED:20210207T210820Z
LAST-MODIFIED:20211031T212330Z
UID:10004736-1639587600-1639601100@letslearn.nz
SUMMARY:Wednesday Night Knitting Group
DESCRIPTION:This group runs on a Wednesday night from 5pm to 8.45pm to enable people to attend straight from work but not necessarily stay the whole night. You can arrive and leave when it suits you.\nBring your knitting or crocheting and enjoy the company of other like minded craft people.
URL:https://letslearn.nz/event/wednesday-night-knitting-group/2021-12-15/
LOCATION:Robyn’s Cottage\, 147 Chadwick Rd\, Greerton
CATEGORIES:Knitting
ATTACH;FMTTYPE=image/jpeg:https://letslearn.nz/wp-content/uploads/2021/02/Textiles-Robyns-Knitting.jpg
ORGANIZER;CN="Robyn's Cottage":MAILTO:robynscottage@xtra.co.nz
END:VEVENT
BEGIN:VEVENT
DTSTART;TZID=Pacific/Auckland:20211214T183000
DTEND;TZID=Pacific/Auckland:20211214T210000
DTSTAMP:20260424T083037
CREATED:20210207T211807Z
LAST-MODIFIED:20211103T030307Z
UID:10004743-1639506600-1639515600@letslearn.nz
SUMMARY:Scan N Cut Fun Nights
DESCRIPTION:Scan N Cut Fun nights are on Tuesdays  6.30pm to 9pm.\nBring your own machine or just come and watch. All welcome.\nScan N Cut night is the first Tuesday night of each month.\nMark your calendars and come for a night of fun and learning.
URL:https://letslearn.nz/event/scan-n-cut-fun-nights/2021-12-14/
LOCATION:Robyn’s Cottage\, 147 Chadwick Rd\, Greerton
CATEGORIES:Sewing
ATTACH;FMTTYPE=image/jpeg:https://letslearn.nz/wp-content/uploads/2021/02/Fabric-Robyns-Scan-n-Cut.jpg
ORGANIZER;CN="Robyn's Cottage":MAILTO:robynscottage@xtra.co.nz
END:VEVENT
BEGIN:VEVENT
DTSTART;TZID=Pacific/Auckland:20211208T170000
DTEND;TZID=Pacific/Auckland:20211208T204500
DTSTAMP:20260424T083037
CREATED:20210207T210820Z
LAST-MODIFIED:20211031T212330Z
UID:10004735-1638982800-1638996300@letslearn.nz
SUMMARY:Wednesday Night Knitting Group
DESCRIPTION:This group runs on a Wednesday night from 5pm to 8.45pm to enable people to attend straight from work but not necessarily stay the whole night. You can arrive and leave when it suits you.\nBring your knitting or crocheting and enjoy the company of other like minded craft people.
URL:https://letslearn.nz/event/wednesday-night-knitting-group/2021-12-08/
LOCATION:Robyn’s Cottage\, 147 Chadwick Rd\, Greerton
CATEGORIES:Knitting
ATTACH;FMTTYPE=image/jpeg:https://letslearn.nz/wp-content/uploads/2021/02/Textiles-Robyns-Knitting.jpg
ORGANIZER;CN="Robyn's Cottage":MAILTO:robynscottage@xtra.co.nz
END:VEVENT
BEGIN:VEVENT
DTSTART;TZID=Pacific/Auckland:20211207T183000
DTEND;TZID=Pacific/Auckland:20211207T210000
DTSTAMP:20260424T083037
CREATED:20210207T211807Z
LAST-MODIFIED:20211103T030307Z
UID:10004742-1638901800-1638910800@letslearn.nz
SUMMARY:Scan N Cut Fun Nights
DESCRIPTION:Scan N Cut Fun nights are on Tuesdays  6.30pm to 9pm.\nBring your own machine or just come and watch. All welcome.\nScan N Cut night is the first Tuesday night of each month.\nMark your calendars and come for a night of fun and learning.
URL:https://letslearn.nz/event/scan-n-cut-fun-nights/2021-12-07/
LOCATION:Robyn’s Cottage\, 147 Chadwick Rd\, Greerton
CATEGORIES:Sewing
ATTACH;FMTTYPE=image/jpeg:https://letslearn.nz/wp-content/uploads/2021/02/Fabric-Robyns-Scan-n-Cut.jpg
ORGANIZER;CN="Robyn's Cottage":MAILTO:robynscottage@xtra.co.nz
END:VEVENT
BEGIN:VEVENT
DTSTART;TZID=Pacific/Auckland:20211201T170000
DTEND;TZID=Pacific/Auckland:20211201T204500
DTSTAMP:20260424T083037
CREATED:20210207T210820Z
LAST-MODIFIED:20211031T212330Z
UID:10004734-1638378000-1638391500@letslearn.nz
SUMMARY:Wednesday Night Knitting Group
DESCRIPTION:This group runs on a Wednesday night from 5pm to 8.45pm to enable people to attend straight from work but not necessarily stay the whole night. You can arrive and leave when it suits you.\nBring your knitting or crocheting and enjoy the company of other like minded craft people.
URL:https://letslearn.nz/event/wednesday-night-knitting-group/2021-12-01/
LOCATION:Robyn’s Cottage\, 147 Chadwick Rd\, Greerton
CATEGORIES:Knitting
ATTACH;FMTTYPE=image/jpeg:https://letslearn.nz/wp-content/uploads/2021/02/Textiles-Robyns-Knitting.jpg
ORGANIZER;CN="Robyn's Cottage":MAILTO:robynscottage@xtra.co.nz
END:VEVENT
BEGIN:VEVENT
DTSTART;TZID=Pacific/Auckland:20211130T183000
DTEND;TZID=Pacific/Auckland:20211130T210000
DTSTAMP:20260424T083037
CREATED:20210207T211807Z
LAST-MODIFIED:20211103T030307Z
UID:10004741-1638297000-1638306000@letslearn.nz
SUMMARY:Scan N Cut Fun Nights
DESCRIPTION:Scan N Cut Fun nights are on Tuesdays  6.30pm to 9pm.\nBring your own machine or just come and watch. All welcome.\nScan N Cut night is the first Tuesday night of each month.\nMark your calendars and come for a night of fun and learning.
URL:https://letslearn.nz/event/scan-n-cut-fun-nights/2021-11-30/
LOCATION:Robyn’s Cottage\, 147 Chadwick Rd\, Greerton
CATEGORIES:Sewing
ATTACH;FMTTYPE=image/jpeg:https://letslearn.nz/wp-content/uploads/2021/02/Fabric-Robyns-Scan-n-Cut.jpg
ORGANIZER;CN="Robyn's Cottage":MAILTO:robynscottage@xtra.co.nz
END:VEVENT
BEGIN:VEVENT
DTSTART;TZID=Pacific/Auckland:20211124T170000
DTEND;TZID=Pacific/Auckland:20211124T204500
DTSTAMP:20260424T083037
CREATED:20210207T210820Z
LAST-MODIFIED:20211031T212330Z
UID:10004733-1637773200-1637786700@letslearn.nz
SUMMARY:Wednesday Night Knitting Group
DESCRIPTION:This group runs on a Wednesday night from 5pm to 8.45pm to enable people to attend straight from work but not necessarily stay the whole night. You can arrive and leave when it suits you.\nBring your knitting or crocheting and enjoy the company of other like minded craft people.
URL:https://letslearn.nz/event/wednesday-night-knitting-group/2021-11-24/
LOCATION:Robyn’s Cottage\, 147 Chadwick Rd\, Greerton
CATEGORIES:Knitting
ATTACH;FMTTYPE=image/jpeg:https://letslearn.nz/wp-content/uploads/2021/02/Textiles-Robyns-Knitting.jpg
ORGANIZER;CN="Robyn's Cottage":MAILTO:robynscottage@xtra.co.nz
END:VEVENT
BEGIN:VEVENT
DTSTART;TZID=Pacific/Auckland:20211123T183000
DTEND;TZID=Pacific/Auckland:20211123T210000
DTSTAMP:20260424T083037
CREATED:20210207T211807Z
LAST-MODIFIED:20211103T030307Z
UID:10004740-1637692200-1637701200@letslearn.nz
SUMMARY:Scan N Cut Fun Nights
DESCRIPTION:Scan N Cut Fun nights are on Tuesdays  6.30pm to 9pm.\nBring your own machine or just come and watch. All welcome.\nScan N Cut night is the first Tuesday night of each month.\nMark your calendars and come for a night of fun and learning.
URL:https://letslearn.nz/event/scan-n-cut-fun-nights/2021-11-23/
LOCATION:Robyn’s Cottage\, 147 Chadwick Rd\, Greerton
CATEGORIES:Sewing
ATTACH;FMTTYPE=image/jpeg:https://letslearn.nz/wp-content/uploads/2021/02/Fabric-Robyns-Scan-n-Cut.jpg
ORGANIZER;CN="Robyn's Cottage":MAILTO:robynscottage@xtra.co.nz
END:VEVENT
BEGIN:VEVENT
DTSTART;TZID=Pacific/Auckland:20211117T170000
DTEND;TZID=Pacific/Auckland:20211117T204500
DTSTAMP:20260424T083037
CREATED:20210207T210820Z
LAST-MODIFIED:20211031T212330Z
UID:10004732-1637168400-1637181900@letslearn.nz
SUMMARY:Wednesday Night Knitting Group
DESCRIPTION:This group runs on a Wednesday night from 5pm to 8.45pm to enable people to attend straight from work but not necessarily stay the whole night. You can arrive and leave when it suits you.\nBring your knitting or crocheting and enjoy the company of other like minded craft people.
URL:https://letslearn.nz/event/wednesday-night-knitting-group/2021-11-17/
LOCATION:Robyn’s Cottage\, 147 Chadwick Rd\, Greerton
CATEGORIES:Knitting
ATTACH;FMTTYPE=image/jpeg:https://letslearn.nz/wp-content/uploads/2021/02/Textiles-Robyns-Knitting.jpg
ORGANIZER;CN="Robyn's Cottage":MAILTO:robynscottage@xtra.co.nz
END:VEVENT
BEGIN:VEVENT
DTSTART;TZID=Pacific/Auckland:20211116T183000
DTEND;TZID=Pacific/Auckland:20211116T210000
DTSTAMP:20260424T083037
CREATED:20210207T211807Z
LAST-MODIFIED:20211103T030307Z
UID:10004739-1637087400-1637096400@letslearn.nz
SUMMARY:Scan N Cut Fun Nights
DESCRIPTION:Scan N Cut Fun nights are on Tuesdays  6.30pm to 9pm.\nBring your own machine or just come and watch. All welcome.\nScan N Cut night is the first Tuesday night of each month.\nMark your calendars and come for a night of fun and learning.
URL:https://letslearn.nz/event/scan-n-cut-fun-nights/2021-11-16/
LOCATION:Robyn’s Cottage\, 147 Chadwick Rd\, Greerton
CATEGORIES:Sewing
ATTACH;FMTTYPE=image/jpeg:https://letslearn.nz/wp-content/uploads/2021/02/Fabric-Robyns-Scan-n-Cut.jpg
ORGANIZER;CN="Robyn's Cottage":MAILTO:robynscottage@xtra.co.nz
END:VEVENT
BEGIN:VEVENT
DTSTART;TZID=Pacific/Auckland:20211110T170000
DTEND;TZID=Pacific/Auckland:20211110T204500
DTSTAMP:20260424T083037
CREATED:20210207T210820Z
LAST-MODIFIED:20211031T212330Z
UID:10004731-1636563600-1636577100@letslearn.nz
SUMMARY:Wednesday Night Knitting Group
DESCRIPTION:This group runs on a Wednesday night from 5pm to 8.45pm to enable people to attend straight from work but not necessarily stay the whole night. You can arrive and leave when it suits you.\nBring your knitting or crocheting and enjoy the company of other like minded craft people.
URL:https://letslearn.nz/event/wednesday-night-knitting-group/2021-11-10/
LOCATION:Robyn’s Cottage\, 147 Chadwick Rd\, Greerton
CATEGORIES:Knitting
ATTACH;FMTTYPE=image/jpeg:https://letslearn.nz/wp-content/uploads/2021/02/Textiles-Robyns-Knitting.jpg
ORGANIZER;CN="Robyn's Cottage":MAILTO:robynscottage@xtra.co.nz
END:VEVENT
BEGIN:VEVENT
DTSTART;TZID=Pacific/Auckland:20211109T183000
DTEND;TZID=Pacific/Auckland:20211109T210000
DTSTAMP:20260424T083037
CREATED:20210207T211807Z
LAST-MODIFIED:20211103T030307Z
UID:10004738-1636482600-1636491600@letslearn.nz
SUMMARY:Scan N Cut Fun Nights
DESCRIPTION:Scan N Cut Fun nights are on Tuesdays  6.30pm to 9pm.\nBring your own machine or just come and watch. All welcome.\nScan N Cut night is the first Tuesday night of each month.\nMark your calendars and come for a night of fun and learning.
URL:https://letslearn.nz/event/scan-n-cut-fun-nights/2021-11-09/
LOCATION:Robyn’s Cottage\, 147 Chadwick Rd\, Greerton
CATEGORIES:Sewing
ATTACH;FMTTYPE=image/jpeg:https://letslearn.nz/wp-content/uploads/2021/02/Fabric-Robyns-Scan-n-Cut.jpg
ORGANIZER;CN="Robyn's Cottage":MAILTO:robynscottage@xtra.co.nz
END:VEVENT
BEGIN:VEVENT
DTSTART;TZID=Pacific/Auckland:20211103T170000
DTEND;TZID=Pacific/Auckland:20211103T204500
DTSTAMP:20260424T083037
CREATED:20210207T210820Z
LAST-MODIFIED:20211031T212330Z
UID:10004730-1635958800-1635972300@letslearn.nz
SUMMARY:Wednesday Night Knitting Group
DESCRIPTION:This group runs on a Wednesday night from 5pm to 8.45pm to enable people to attend straight from work but not necessarily stay the whole night. You can arrive and leave when it suits you.\nBring your knitting or crocheting and enjoy the company of other like minded craft people.
URL:https://letslearn.nz/event/wednesday-night-knitting-group/2021-11-03/
LOCATION:Robyn’s Cottage\, 147 Chadwick Rd\, Greerton
CATEGORIES:Knitting
ATTACH;FMTTYPE=image/jpeg:https://letslearn.nz/wp-content/uploads/2021/02/Textiles-Robyns-Knitting.jpg
ORGANIZER;CN="Robyn's Cottage":MAILTO:robynscottage@xtra.co.nz
END:VEVENT
BEGIN:VEVENT
DTSTART;TZID=Pacific/Auckland:20211102T183000
DTEND;TZID=Pacific/Auckland:20211102T210000
DTSTAMP:20260424T083037
CREATED:20210207T211807Z
LAST-MODIFIED:20211103T030307Z
UID:10004737-1635877800-1635886800@letslearn.nz
SUMMARY:Scan N Cut Fun Nights
DESCRIPTION:Scan N Cut Fun nights are on Tuesdays  6.30pm to 9pm.\nBring your own machine or just come and watch. All welcome.\nScan N Cut night is the first Tuesday night of each month.\nMark your calendars and come for a night of fun and learning.
URL:https://letslearn.nz/event/scan-n-cut-fun-nights/2021-11-02/
LOCATION:Robyn’s Cottage\, 147 Chadwick Rd\, Greerton
CATEGORIES:Sewing
ATTACH;FMTTYPE=image/jpeg:https://letslearn.nz/wp-content/uploads/2021/02/Fabric-Robyns-Scan-n-Cut.jpg
ORGANIZER;CN="Robyn's Cottage":MAILTO:robynscottage@xtra.co.nz
END:VEVENT
BEGIN:VEVENT
DTSTART;TZID=Pacific/Auckland:20190915T100000
DTEND;TZID=Pacific/Auckland:20190915T120000
DTSTAMP:20260424T083037
CREATED:20190821T025354Z
LAST-MODIFIED:20190822T065515Z
UID:10002913-1568541600-1568548800@letslearn.nz
SUMMARY:Machine Knitting at Robyn's Cottage
DESCRIPTION:Sunday 15th September    10am to 12.     \nDo you have a machine and not sure where to start or just want to see what a knitting machine is all about.  Come and have a morning with other machine knitters.
URL:https://letslearn.nz/event/machine-knitting-at-robyns-cottage/
LOCATION:Robyn’s Cottage\, 147 Chadwick Rd\, Greerton
CATEGORIES:Machine Knitting
ORGANIZER;CN="Robyn's Cottage":MAILTO:robynscottage@xtra.co.nz
END:VEVENT
BEGIN:VEVENT
DTSTART;TZID=Pacific/Auckland:20190908T130000
DTEND;TZID=Pacific/Auckland:20190908T150000
DTSTAMP:20260424T083037
CREATED:20190821T015259Z
LAST-MODIFIED:20190822T070325Z
UID:10002900-1567947600-1567954800@letslearn.nz
SUMMARY:Sewing - Machine Feet - Robyn's Cottage
DESCRIPTION:Love Sewing and want to come along to learn about machine feet and what they do. \n \n 
URL:https://letslearn.nz/event/sewing-machine-feet-robyns-cottage/
LOCATION:Robyn’s Cottage\, 147 Chadwick Rd\, Greerton
CATEGORIES:Sewing,Social
ORGANIZER;CN="Robyn's Cottage":MAILTO:robynscottage@xtra.co.nz
END:VEVENT
END:VCALENDAR