BEGIN:VCALENDAR
VERSION:2.0
PRODID:-//Let&#039;s Learn - ECPv6.15.14//NONSGML v1.0//EN
CALSCALE:GREGORIAN
METHOD:PUBLISH
X-ORIGINAL-URL:https://letslearn.nz
X-WR-CALDESC:Events for Let&#039;s Learn
REFRESH-INTERVAL;VALUE=DURATION:PT1H
X-Robots-Tag:noindex
X-PUBLISHED-TTL:PT1H
BEGIN:VTIMEZONE
TZID:Pacific/Auckland
BEGIN:STANDARD
TZOFFSETFROM:+1300
TZOFFSETTO:+1200
TZNAME:NZST
DTSTART:20190406T140000
END:STANDARD
BEGIN:DAYLIGHT
TZOFFSETFROM:+1200
TZOFFSETTO:+1300
TZNAME:NZDT
DTSTART:20190928T140000
END:DAYLIGHT
BEGIN:STANDARD
TZOFFSETFROM:+1300
TZOFFSETTO:+1200
TZNAME:NZST
DTSTART:20200404T140000
END:STANDARD
BEGIN:DAYLIGHT
TZOFFSETFROM:+1200
TZOFFSETTO:+1300
TZNAME:NZDT
DTSTART:20200926T140000
END:DAYLIGHT
BEGIN:STANDARD
TZOFFSETFROM:+1300
TZOFFSETTO:+1200
TZNAME:NZST
DTSTART:20210403T140000
END:STANDARD
BEGIN:DAYLIGHT
TZOFFSETFROM:+1200
TZOFFSETTO:+1300
TZNAME:NZDT
DTSTART:20210925T140000
END:DAYLIGHT
END:VTIMEZONE
BEGIN:VEVENT
DTSTART;TZID=Pacific/Auckland:20200320T190000
DTEND;TZID=Pacific/Auckland:20200320T203000
DTSTAMP:20260422T205022
CREATED:20191017T055627Z
LAST-MODIFIED:20200313T111714Z
UID:10003747-1584730800-1584736200@letslearn.nz
SUMMARY:Fun Improv Dance Class
DESCRIPTION:A fun improvised dance class open to beginners and more experienced dance lovers\, you can take this class at your own pace. Designed to get get you fitter\, co ordinated and agile and dancing like a pro. \nI will guide you through an improvised warm up\, where you get to explore some new movement pathways. The second part of the class is a free style dance jam where you can sizzle your own dance grooves. Fun and relaxed atmosphere with some great music! \nThe third part is optional partnered bodywork. \nWhen: Friday’s at 7 – 8.30pm at Soma studios\nCost:  $10 \nLed by Maria Dabrowska.\nPhoto by Vanessa Rushton\, from Rushes\, Circa
URL:https://letslearn.nz/event/fun-improv-dance-class/
LOCATION:Soma Studios\, 586e Cameron Rd\, Tauranga South\, Tauranga
CATEGORIES:Dance
ATTACH;FMTTYPE=image/jpeg:https://letslearn.nz/wp-content/uploads/2019/10/Soma-Improv-Dance-1.jpg
ORGANIZER;CN="Soma Studios%2C 586e Cameron Rd%2C Tauranga South%2C Tauranga":MAILTO:somacollectivenz@gmail.com
END:VEVENT
END:VCALENDAR