BEGIN:VCALENDAR
VERSION:2.0
PRODID:-//Let&#039;s Learn - ECPv6.15.14//NONSGML v1.0//EN
CALSCALE:GREGORIAN
METHOD:PUBLISH
X-WR-CALNAME:Let&#039;s Learn
X-ORIGINAL-URL:https://letslearn.nz
X-WR-CALDESC:Events for Let&#039;s Learn
REFRESH-INTERVAL;VALUE=DURATION:PT1H
X-Robots-Tag:noindex
X-PUBLISHED-TTL:PT1H
BEGIN:VTIMEZONE
TZID:Pacific/Auckland
BEGIN:STANDARD
TZOFFSETFROM:+1300
TZOFFSETTO:+1200
TZNAME:NZST
DTSTART:20200404T140000
END:STANDARD
BEGIN:DAYLIGHT
TZOFFSETFROM:+1200
TZOFFSETTO:+1300
TZNAME:NZDT
DTSTART:20200926T140000
END:DAYLIGHT
BEGIN:STANDARD
TZOFFSETFROM:+1300
TZOFFSETTO:+1200
TZNAME:NZST
DTSTART:20210403T140000
END:STANDARD
BEGIN:DAYLIGHT
TZOFFSETFROM:+1200
TZOFFSETTO:+1300
TZNAME:NZDT
DTSTART:20210925T140000
END:DAYLIGHT
BEGIN:STANDARD
TZOFFSETFROM:+1300
TZOFFSETTO:+1200
TZNAME:NZST
DTSTART:20220402T140000
END:STANDARD
BEGIN:DAYLIGHT
TZOFFSETFROM:+1200
TZOFFSETTO:+1300
TZNAME:NZDT
DTSTART:20220924T140000
END:DAYLIGHT
END:VTIMEZONE
BEGIN:VEVENT
DTSTART;TZID=Pacific/Auckland:20210225T193000
DTEND;TZID=Pacific/Auckland:20210225T210000
DTSTAMP:20260420T115713
CREATED:20210211T103321Z
LAST-MODIFIED:20210211T103932Z
UID:10004746-1614281400-1614286800@letslearn.nz
SUMMARY:The Teen Brain
DESCRIPTION:During adolescence\, parts of the teenage brain are “shut for renovations”. This is the part of the brain responsible for controlling the teenager’s moods\, for understanding consequences\, maintaining focus and for thinking about the well-being of others. Adolescence ends anywhere from 18 to 32 years of age.\n\n\nSo whilst you can’t expect teens to be able to display these behaviours consistently during adolescence\, there are ways that you can enhance and maximise the times when they can. Understanding the changes that are taking place for the adolescent will help you to navigate successfully these important and formative years.\nNeuroscience educator\,  Nathan Wallis \, will share strategies with participants to achieve better relationships and better outcomes for the adolescents we work/live with. \nWhen: Thursday 25th February 2021  7.30pm -9pm\nWhere:  Tauranga Girls’ College\, 930 Cameron Rd\, Tauranga\nCost:  General Admission: $33.70 ($29.95 + $3.75 fees).\nEarly Bird Ticket: $28.57 ($24.95 + $3.62 fees) \n\nBOOK HERE\n\n 
URL:https://letslearn.nz/event/the-teen-brain/
LOCATION:Tauranga Girls’ College\, 930 Cameron Road\, Tauranga
CATEGORIES:Personal Development,Scientific World,Talks
ATTACH;FMTTYPE=image/jpeg:https://letslearn.nz/wp-content/uploads/2021/02/Talk-Teen-Brain.jpg
ORGANIZER;CN="Tauranga Girls' College":MAILTO:info@tgc.school.nz
END:VEVENT
END:VCALENDAR